BEGIN:VCALENDAR
VERSION:2.0
PRODID:-//Local Life 247 - ECPv6.10.0//NONSGML v1.0//EN
CALSCALE:GREGORIAN
METHOD:PUBLISH
X-WR-CALNAME:Local Life 247
X-ORIGINAL-URL:https://www.locallife247.co.uk
X-WR-CALDESC:Events for Local Life 247
REFRESH-INTERVAL;VALUE=DURATION:PT1H
X-Robots-Tag:noindex
X-PUBLISHED-TTL:PT1H
BEGIN:VTIMEZONE
TZID:UTC
BEGIN:STANDARD
TZOFFSETFROM:+0000
TZOFFSETTO:+0000
TZNAME:UTC
DTSTART:20180101T000000
END:STANDARD
END:VTIMEZONE
BEGIN:VEVENT
DTSTART;TZID=UTC:20181116T190000
DTEND;TZID=UTC:20181116T210000
DTSTAMP:20260421T114852
CREATED:20180926T125649Z
LAST-MODIFIED:20180926T125756Z
UID:9913-1542394800-1542402000@www.locallife247.co.uk
SUMMARY:Christmas Fundraiser
DESCRIPTION:Attractions include flower arranging by June from Hartleys Garden Centre\, a live performance by local vocalist Leah Wallis\, Christmas stalls including cake\, veg and fancy goods to raise money for St. Thomas the Martyr Church. Tickets are £5 – call Kath McGuire on 01695 721038 to book.
URL:https://www.locallife247.co.uk/event/christmas-fundraiser/
CATEGORIES:Area - Wigan,Fundraisers
END:VEVENT
BEGIN:VEVENT
DTSTART;TZID=UTC:20181110T100000
DTEND;TZID=UTC:20181110T150000
DTSTAMP:20260421T114852
CREATED:20180910T134809Z
LAST-MODIFIED:20180910T134809Z
UID:9674-1541844000-1541862000@www.locallife247.co.uk
SUMMARY:Craft & Gift Fayre
DESCRIPTION:All your Christmas shopping needs under one roof! Various craft and gift stalls\, a Fairtrade stall\, local handicrafts and refreshments/light lunches.
URL:https://www.locallife247.co.uk/event/craft-gift-fayre/
CATEGORIES:Area - Wigan,Markets & Craft Fairs
END:VEVENT
BEGIN:VEVENT
DTSTART;TZID=UTC:20181105T183000
DTEND;TZID=UTC:20181105T200000
DTSTAMP:20260421T114852
CREATED:20181017T132704Z
LAST-MODIFIED:20181017T132704Z
UID:10158-1541442600-1541448000@www.locallife247.co.uk
SUMMARY:Aspull Rugby Club Fireworks
DESCRIPTION:Celebrate Bonfire Night with a bonfire and fireworks display. There will be a bar\, a barbecue and sweet stalls! Fireworks start at 7:30pm. Adult entry is £4\, children £2.
URL:https://www.locallife247.co.uk/event/aspull-rugby-club-fireworks/
CATEGORIES:Area - Wigan,Seasonal
END:VEVENT
BEGIN:VEVENT
DTSTART;TZID=UTC:20181104T160000
DTEND;TZID=UTC:20181104T200000
DTSTAMP:20260421T114852
CREATED:20181017T132542Z
LAST-MODIFIED:20181017T132542Z
UID:10156-1541347200-1541361600@www.locallife247.co.uk
SUMMARY:St. Peter's Pavilion Fireworks
DESCRIPTION:Hindley lights up the sky this Bonfire Night! With a firework display starting at 6:30pm\, live entertainment\, food and drinks and a funfair\, you’re in for a treacly treat. No entry after 6:30pm\, £6 per adult and £3 per child. Advance booking recommended at Eventbrite.
URL:https://www.locallife247.co.uk/event/st-peters-pavilion-fireworks/
CATEGORIES:Area - Wigan,Seasonal
END:VEVENT
BEGIN:VEVENT
DTSTART;TZID=UTC:20181104T160000
DTEND;TZID=UTC:20181104T193000
DTSTAMP:20260421T114852
CREATED:20181017T132425Z
LAST-MODIFIED:20181017T132425Z
UID:10154-1541347200-1541359800@www.locallife247.co.uk
SUMMARY:Haigh Fireworks
DESCRIPTION:A family friendly firework spectacular featuring more entertainment than ever before. There will be live music\, an award-winning LED puppet show\, a Superhero vs. Princess show for the kids\, and a firework finale by SM ART Pyro. Tickets range from £7-£32\, and car parking costs £1.50. For tickets\, visit https://boxoffice.wlct.org/event_description.aspx?eventid=476.
URL:https://www.locallife247.co.uk/event/haigh-fireworks/
CATEGORIES:Area - Wigan,Seasonal
END:VEVENT
BEGIN:VEVENT
DTSTART;TZID=UTC:20181102T200000
DTEND;TZID=UTC:20181102T230000
DTSTAMP:20260421T114852
CREATED:20181016T132858Z
LAST-MODIFIED:20181016T132939Z
UID:10122-1541188800-1541199600@www.locallife247.co.uk
SUMMARY:Ladies Night
DESCRIPTION:The Poacher presents Ladies Night! Prosecco on arrival\, and some great stalls including Ann Summers\, Avon and nails/beauty. DJ entertainment and games! Tickets £10 per person.
URL:https://www.locallife247.co.uk/event/ladies-night/
CATEGORIES:Area - Wigan
END:VEVENT
BEGIN:VEVENT
DTSTART;TZID=UTC:20181102T183000
DTEND;TZID=UTC:20181102T220000
DTSTAMP:20260421T114852
CREATED:20181017T132333Z
LAST-MODIFIED:20181017T132333Z
UID:10151-1541183400-1541196000@www.locallife247.co.uk
SUMMARY:Standish Cricket Club Fireworks
DESCRIPTION:Standish Cricket Club present a night of fireworks\, with a bar/refreshments and children’s rides and attractions. Adults cost £3\, children £2. Fireworks display begins at 7:45pm\, and parking is strictly limited. For more information\, go to www.standishcc.co.uk.
URL:https://www.locallife247.co.uk/event/standish-cricket-club-fireworks/
CATEGORIES:Area - Wigan,Seasonal
END:VEVENT
BEGIN:VEVENT
DTSTART;TZID=UTC:20181031T120000
DTEND;TZID=UTC:20181031T130000
DTSTAMP:20260421T114852
CREATED:20180910T134952Z
LAST-MODIFIED:20180910T134952Z
UID:9676-1540987200-1540990800@www.locallife247.co.uk
SUMMARY:Dead & Buried: Victorian Death Talk
DESCRIPTION:Charlie Guy MA dispels the myths of death in Victorian times\, and shines a light on some forgotten funeral practices\, traditions and superstitions. Booking essential – call 01942 828128 or email wiganmuseum@wigan.gov.uk. £2.50 per person\, includes tea and coffee.
URL:https://www.locallife247.co.uk/event/dead-buried-victorian-death-talk/
CATEGORIES:Area - Wigan,Exhibitions & Talks,Heritage
END:VEVENT
BEGIN:VEVENT
DTSTART;TZID=UTC:20181028T120000
DTEND;TZID=UTC:20181028T160000
DTSTAMP:20260421T114852
CREATED:20180910T134642Z
LAST-MODIFIED:20180910T134642Z
UID:9672-1540728000-1540742400@www.locallife247.co.uk
SUMMARY:Apple Day
DESCRIPTION:A day of apples takes place in the Walled Gardens! Join in with apple bobbing\, apple juicing\, toffee apple making and more! Free admission (charges apply for toffee apple making)\, donations welcome.
URL:https://www.locallife247.co.uk/event/apple-day/
CATEGORIES:Area - Wigan,Heritage,Seasonal
END:VEVENT
BEGIN:VEVENT
DTSTART;TZID=UTC:20181027T100000
DTEND;TZID=UTC:20181027T150000
DTSTAMP:20260421T114852
CREATED:20180910T134514Z
LAST-MODIFIED:20180910T134514Z
UID:9669-1540634400-1540652400@www.locallife247.co.uk
SUMMARY:Living Faith Church Autumn Fair
DESCRIPTION:The Living Faith Church fair has plenty of stalls to get your Christmas gifts\, with bargain buys and children’s activities in the Church Hall. There will also be coffee\, tea and cakes available.
URL:https://www.locallife247.co.uk/event/living-faith-church-autumn-fair/
CATEGORIES:Area - Wigan,Markets & Craft Fairs
END:VEVENT
BEGIN:VEVENT
DTSTART;TZID=UTC:20181026T170000
DTEND;TZID=UTC:20181026T200000
DTSTAMP:20260421T114852
CREATED:20180910T134228Z
LAST-MODIFIED:20180910T134228Z
UID:9667-1540573200-1540584000@www.locallife247.co.uk
SUMMARY:Bat Walk
DESCRIPTION:Join ‘Batman’ Jeff for a night-time woodland safari\, exploring the sights and sounds of Haigh’s nocturnal world using bat detectors.
URL:https://www.locallife247.co.uk/event/bat-walk/
CATEGORIES:Area - Wigan
END:VEVENT
END:VCALENDAR