BEGIN:VCALENDAR
VERSION:2.0
PRODID:-//Local Life 247 - ECPv6.10.0//NONSGML v1.0//EN
CALSCALE:GREGORIAN
METHOD:PUBLISH
X-WR-CALNAME:Local Life 247
X-ORIGINAL-URL:https://www.locallife247.co.uk
X-WR-CALDESC:Events for Local Life 247
REFRESH-INTERVAL;VALUE=DURATION:PT1H
X-Robots-Tag:noindex
X-PUBLISHED-TTL:PT1H
BEGIN:VTIMEZONE
TZID:UTC
BEGIN:STANDARD
TZOFFSETFROM:+0000
TZOFFSETTO:+0000
TZNAME:UTC
DTSTART:20180101T000000
END:STANDARD
END:VTIMEZONE
BEGIN:VEVENT
DTSTART;TZID=UTC:20190420T080000
DTEND;TZID=UTC:20190420T160000
DTSTAMP:20260421T032250
CREATED:20190311T165717Z
LAST-MODIFIED:20190311T165717Z
UID:11685-1555747200-1555776000@www.locallife247.co.uk
SUMMARY:Charity Boot Camp
DESCRIPTION:Get fit and raise money for Wigan & Leigh Hospice! 8 whole hours of sessions – sign-up sheets available from JSBeFit or on 07714 203994.
URL:https://www.locallife247.co.uk/event/charity-boot-camp/
CATEGORIES:Area - Wigan,Fundraisers,Sports
END:VEVENT
BEGIN:VEVENT
DTSTART;TZID=UTC:20190413T190000
DTEND;TZID=UTC:20190413T233000
DTSTAMP:20260421T032250
CREATED:20190312T095608Z
LAST-MODIFIED:20190312T095608Z
UID:11723-1555182000-1555198200@www.locallife247.co.uk
SUMMARY:Rugby Legends Evening
DESCRIPTION:An evening with Great British rugby stars Andy Gregory and Paul Sculthorpe\, plus special guest Chris Joynt in support of Wigan Youth Zone. There’ll also be a sports memorabilia auction\, a raffle and hotpot supper. Tickets £29.50\, available on Eventbrite.
URL:https://www.locallife247.co.uk/event/rugby-legends-evening/
CATEGORIES:Area - St Helens,Area - Wigan,Exhibitions & Talks,Sports
END:VEVENT
BEGIN:VEVENT
DTSTART;TZID=UTC:20190412T193000
DTEND;TZID=UTC:20190412T223000
DTSTAMP:20260421T032250
CREATED:20190312T094215Z
LAST-MODIFIED:20190312T094215Z
UID:11702-1555097400-1555108200@www.locallife247.co.uk
SUMMARY:Evening with Paul Mason
DESCRIPTION:Leigh-born political journalist\, author\, filmmaker and economist Paul Mason supports the Wigan Heritage & Mining Monument with an informative talk and Q&A\, with musical entertainment and supper. Tickets £12 from 01942 244309\, 07964 122114 or 07810 316248.
URL:https://www.locallife247.co.uk/event/evening-with-paul-mason/
CATEGORIES:Area - Wigan,Exhibitions & Talks
END:VEVENT
BEGIN:VEVENT
DTSTART;TZID=UTC:20190412T190000
DTEND;TZID=UTC:20190412T235900
DTSTAMP:20260421T032250
CREATED:20190213T095310Z
LAST-MODIFIED:20190213T095310Z
UID:11386-1555095600-1555113540@www.locallife247.co.uk
SUMMARY:WYZ Race Night
DESCRIPTION:With 8 races throughout the evening\, plus a raffle and disco\, you won’t want to miss this fabulous race night in aid of Wigan Youth Zone. Enjoy a cocktail on arrival with plenty of canapes in the evening\, tickets £40 per person. To book call 01257 251908.
URL:https://www.locallife247.co.uk/event/wyz-race-night/
CATEGORIES:Area - Wigan,Fundraisers,Sports
END:VEVENT
BEGIN:VEVENT
DTSTART;TZID=UTC:20190406T190000
DTEND;TZID=UTC:20190406T223000
DTSTAMP:20260421T032250
CREATED:20190213T093612Z
LAST-MODIFIED:20190213T093612Z
UID:11363-1554577200-1554589800@www.locallife247.co.uk
SUMMARY:Songs from the Shows
DESCRIPTION:Victor Michael & the Three Sopranos present a night of songs from popular theatre. Tickets £12 seated or £5 standing\, all profit to Wigan Rotary Club Charities Account. Tickets available at www.ticketsource.co.uk/whats-on/wigan/alra-north-the-mill-at-the-pier/songs-from-the-shows/2019-04-06/19:30
URL:https://www.locallife247.co.uk/event/songsfromtheshows/
CATEGORIES:Area - Wigan,Arts & Music,Fundraisers,Theatre & Film
END:VEVENT
BEGIN:VEVENT
DTSTART;TZID=UTC:20190406T140000
DTEND;TZID=UTC:20190406T180000
DTSTAMP:20260421T032250
CREATED:20190205T133534Z
LAST-MODIFIED:20190205T133534Z
UID:11302-1554559200-1554573600@www.locallife247.co.uk
SUMMARY:Race Afternoon
DESCRIPTION:Watch sweep races and the Grand National with entertainment from Ryan James\, plus win great prizes in the raffle! Afternoon tea and coffee available. Dress for the races\, hats optional. Tickets £10 and proceeds go to the Tennis Club.
URL:https://www.locallife247.co.uk/event/race-afternoon/
CATEGORIES:Area - Wigan,Sports
END:VEVENT
BEGIN:VEVENT
DTSTART;TZID=UTC:20190406T140000
DTEND;TZID=UTC:20190406T180000
DTSTAMP:20260421T032250
CREATED:20190205T133402Z
LAST-MODIFIED:20190205T133402Z
UID:11300-1554559200-1554573600@www.locallife247.co.uk
SUMMARY:Ladies Race Day
DESCRIPTION:Enjoy race day events watching the Grand National in support of Whiz-Kids\, plus gin tasting and a raffle. Dress to impress. Tickets £25\, available from Sarah on 07540 811010 or sarah.cathie@hotmail.com
URL:https://www.locallife247.co.uk/event/ladies-race-day/
CATEGORIES:Area - Wigan,Fundraisers
END:VEVENT
BEGIN:VEVENT
DTSTART;TZID=UTC:20190406T100000
DTEND;TZID=UTC:20190406T130000
DTSTAMP:20260421T032250
CREATED:20190312T094343Z
LAST-MODIFIED:20190312T094343Z
UID:11705-1554544800-1554555600@www.locallife247.co.uk
SUMMARY:Spring Clean
DESCRIPTION:Join volunteers from Appley Bridge Community Association to litter pick and clean the grot spots around Appley Bridge. Meet at the SPAR shop.
URL:https://www.locallife247.co.uk/event/spring-clean/
CATEGORIES:Area - Wigan,Community,Outdoors
END:VEVENT
BEGIN:VEVENT
DTSTART;TZID=UTC:20190404T123000
DTEND;TZID=UTC:20190404T134500
DTSTAMP:20260421T032250
CREATED:20190129T133011Z
LAST-MODIFIED:20190129T133011Z
UID:11146-1554381000-1554385500@www.locallife247.co.uk
SUMMARY:Children on Titanic Talk
DESCRIPTION:A fascinating talk looks at what life was like for children onboard RMS Titanic\, including why so many died in the cold water of the Atlantic. Places bookable on 01942 828128 or wiganmuseum@wigan.gov.uk
URL:https://www.locallife247.co.uk/event/children-on-titanic-talk/
CATEGORIES:Area - Wigan,Exhibitions & Talks,Heritage
END:VEVENT
BEGIN:VEVENT
DTSTART;TZID=UTC:20190403T190000
DTEND;TZID=UTC:20190403T220000
DTSTAMP:20260421T032250
CREATED:20190226T150913Z
LAST-MODIFIED:20190226T150913Z
UID:11553-1554318000-1554328800@www.locallife247.co.uk
SUMMARY:There'll Be Bluebirds Over
DESCRIPTION:See war break out across Britain with songs\, radio programmes and many memories performed by the Wigan Musical Theatre Group. Tickets £9 adults or £8 concessions\, bookable from Julie on 07598 508004 or ticketswmtg@gmail.com
URL:https://www.locallife247.co.uk/event/therell-be-bluebirds-over/
CATEGORIES:Area - Wigan,Arts & Music,Theatre & Film
END:VEVENT
BEGIN:VEVENT
DTSTART;TZID=UTC:20190330T190000
DTEND;TZID=UTC:20190330T220000
DTSTAMP:20260421T032250
CREATED:20190213T094306Z
LAST-MODIFIED:20190213T094306Z
UID:11371-1553972400-1553983200@www.locallife247.co.uk
SUMMARY:Choir Concert
DESCRIPTION:The Parkside Colliery Male Voice Choir perform a beautiful concert. Tickets £8 including light refreshments\, available from the church.
URL:https://www.locallife247.co.uk/event/choir-concert/
CATEGORIES:Area - Wigan,Arts & Music,Religious
END:VEVENT
BEGIN:VEVENT
DTSTART;TZID=UTC:20190330T100000
DTEND;TZID=UTC:20190330T130000
DTSTAMP:20260421T032250
CREATED:20190129T133207Z
LAST-MODIFIED:20190129T133207Z
UID:11148-1553940000-1553950800@www.locallife247.co.uk
SUMMARY:Indoor Car Boot
DESCRIPTION:Grab yourself a bargain at the indoor car boot sale! Free entry\, plenty of refreshments available.
URL:https://www.locallife247.co.uk/event/indoor-car-boot/
CATEGORIES:Area - Wigan,Car Boots
END:VEVENT
BEGIN:VEVENT
DTSTART;TZID=UTC:20190324T120000
DTEND;TZID=UTC:20190324T150000
DTSTAMP:20260421T032250
CREATED:20190205T133751Z
LAST-MODIFIED:20190205T133751Z
UID:11304-1553428800-1553439600@www.locallife247.co.uk
SUMMARY:Zumbathon Fundraiser
DESCRIPTION:Expert local Zumba instructors will be dancing for 2.5 hours in support of Cancer Research UK and MIND. Raffle tickets and prizes available. Tickets £5 and donations welcome.
URL:https://www.locallife247.co.uk/event/zumbathon-fundraiser/
CATEGORIES:Area - Wigan,Fundraisers,Sports
END:VEVENT
BEGIN:VEVENT
DTSTART;TZID=UTC:20190323T193000
DTEND;TZID=UTC:20190323T220000
DTSTAMP:20260421T032250
CREATED:20190213T095548Z
LAST-MODIFIED:20190226T145533Z
UID:11388-1553369400-1553378400@www.locallife247.co.uk
SUMMARY:Song & Dance Night
DESCRIPTION:Wigan’s Thistle Society present a night of Scottish song and dancing\, with opportunities to join in – plus refreshments and a raffle. Tickets £5 for adults or £2 for children – for more info\, call Paula on 01942 680008 or Margaret on 01942 247403.
URL:https://www.locallife247.co.uk/event/song-dance-night/
CATEGORIES:Area - Wigan,Arts & Music
END:VEVENT
BEGIN:VEVENT
DTSTART;TZID=UTC:20190323T190000
DTEND;TZID=UTC:20190323T233000
DTSTAMP:20260421T032250
CREATED:20190111T155545Z
LAST-MODIFIED:20190111T155545Z
UID:10978-1553367600-1553383800@www.locallife247.co.uk
SUMMARY:Grand Charity Night
DESCRIPTION:Enjoy a great night of dancing and music\, with entertainment from top DJs Harold & Christine and vocalist Leah Wallis. Tickets £6\, available from 01695 623902\, 01942 236953 or 01744 345073. Proceeds go to The Brick.
URL:https://www.locallife247.co.uk/event/grand-charity-night/
CATEGORIES:Area - Wigan,Arts & Music,Fundraisers
END:VEVENT
BEGIN:VEVENT
DTSTART;TZID=UTC:20190323T110000
DTEND;TZID=UTC:20190323T130000
DTSTAMP:20260421T032250
CREATED:20190214T145409Z
LAST-MODIFIED:20190214T145409Z
UID:11445-1553338800-1553346000@www.locallife247.co.uk
SUMMARY:Spring Market
DESCRIPTION:Browse a number of stalls including homemade cakes and pies\, bric-a-brac\, jewellery\, handbags\, toys and more\, plus a raffle and tombola. Have a go at guessing the name of Tunley’s Easter bunny and win great prizes.
URL:https://www.locallife247.co.uk/event/spring-market/
CATEGORIES:Area - Wigan,Markets & Craft Fairs,Seasonal
END:VEVENT
BEGIN:VEVENT
DTSTART;TZID=UTC:20190322T193000
DTEND;TZID=UTC:20190322T230000
DTSTAMP:20260421T032251
CREATED:20190220T130713Z
LAST-MODIFIED:20190220T130713Z
UID:11510-1553283000-1553295600@www.locallife247.co.uk
SUMMARY:1940s Night
DESCRIPTION:A night of wartime music with Katz Korner – period dress encouraged! Head back to the 40s with dancing\, a raffle\, tombola and supper. Tickets £12 with all proceeds to the Helen Marie charity – bookable on 01744 734155\, 01744 756298 or 07724 995298.
URL:https://www.locallife247.co.uk/event/1940s-night-2/
CATEGORIES:Area - St Helens,Area - Wigan,Arts & Music,Fundraisers,Heritage
END:VEVENT
BEGIN:VEVENT
DTSTART;TZID=UTC:20190316T193000
DTEND;TZID=UTC:20190316T230000
DTSTAMP:20260421T032251
CREATED:20190220T130607Z
LAST-MODIFIED:20190220T130607Z
UID:11508-1552764600-1552777200@www.locallife247.co.uk
SUMMARY:St Patrick's Day
DESCRIPTION:An evening of live music featuring Danny King\, a disco and hotpot supper. Tickets £10 for guests or £8 for club members\, including entry to Play Your Cards Right\, and are available from the club or on 01744 892836.
URL:https://www.locallife247.co.uk/event/st-patricks-day/
CATEGORIES:Area - St Helens,Area - Wigan,Arts & Music,Seasonal
END:VEVENT
BEGIN:VEVENT
DTSTART;TZID=UTC:20190314T123000
DTEND;TZID=UTC:20190314T133000
DTSTAMP:20260421T032251
CREATED:20190213T091520Z
LAST-MODIFIED:20190213T091520Z
UID:11361-1552566600-1552570200@www.locallife247.co.uk
SUMMARY:Women Who Said Yes Talk
DESCRIPTION:Dr. Ali Ronan presents an illustrated talk on ‘The Women Who Said Yes’. Hear about the 17 women who stood for Parliament in the 1918 General Election. Tickets £3 including hot drinks – places bookable on 01942 828128 or at wiganmuseum@wigan.gov.uk
URL:https://www.locallife247.co.uk/event/women-who-said-yes-talk/
CATEGORIES:Area - Wigan,Exhibitions & Talks,Heritage
END:VEVENT
BEGIN:VEVENT
DTSTART;TZID=UTC:20190309T190000
DTEND;TZID=UTC:20190309T233000
DTSTAMP:20260421T032251
CREATED:20190129T132713Z
LAST-MODIFIED:20190129T132713Z
UID:11144-1552158000-1552174200@www.locallife247.co.uk
SUMMARY:Charity Variety Night
DESCRIPTION:Enjoy a night of variety including comedian Martin Gold\, soprano Janette Monroe and live music from Marble Eyes to raise money for State of Mind Sport. Hotpot supper included along with stand-up bingo and a raffle. Tickets £25 – to book\, email barbarauk2k@gmail.com or call 07753 183748.
URL:https://www.locallife247.co.uk/event/charity-variety-night/
CATEGORIES:Area - Wigan,Arts & Music
END:VEVENT
BEGIN:VEVENT
DTSTART;TZID=UTC:20190308T190000
DTEND;TZID=UTC:20190308T220000
DTSTAMP:20260421T032251
CREATED:20190213T091325Z
LAST-MODIFIED:20190213T091325Z
UID:11359-1552071600-1552082400@www.locallife247.co.uk
SUMMARY:Family Games Night
DESCRIPTION:Win prizes playing Family Fortune and Play Your Cards Right – plus music\, a hotpot supper and lots of fun! Adults £7\, under-16s £3.50\, proceeds go to St. Wilfrid’s Church Lads and Girls Brigade. For tickets\, email thewilfs@mail.com or call 07716 753164 or 07956 359058.
URL:https://www.locallife247.co.uk/event/family-games-night/
CATEGORIES:Area - Wigan,Child Friendly,Fundraisers
END:VEVENT
BEGIN:VEVENT
DTSTART;TZID=UTC:20190306T103000
DTEND;TZID=UTC:20190306T120000
DTSTAMP:20260421T032251
CREATED:20190129T132149Z
LAST-MODIFIED:20190129T132149Z
UID:11138-1551868200-1551873600@www.locallife247.co.uk
SUMMARY:Coffee Morning
DESCRIPTION:Enjoy a scrumptious coffee morning and bring & buy sale in aid of the Alzheimer’s Society.
URL:https://www.locallife247.co.uk/event/coffee-morning-4/
CATEGORIES:Area - Wigan,Food & Drinks,Fundraisers
END:VEVENT
BEGIN:VEVENT
DTSTART;TZID=UTC:20190302T203000
DTEND;TZID=UTC:20190302T230000
DTSTAMP:20260421T032251
CREATED:20190220T125752Z
LAST-MODIFIED:20190220T125752Z
UID:11498-1551558600-1551567600@www.locallife247.co.uk
SUMMARY:Quiz & Karaoke Night
DESCRIPTION:Test your trivia knowledge and compete to be crowned the brightest of the bunch at a fun quiz night\, followed by karaoke! Admission £1 per team member\, with a cash prize for the winners and a hotpot supper.
URL:https://www.locallife247.co.uk/event/quiz-karaoke-night/
CATEGORIES:Area - St Helens,Area - Wigan,Miscellaneous
END:VEVENT
BEGIN:VEVENT
DTSTART;TZID=UTC:20190302T110000
DTEND;TZID=UTC:20190302T150000
DTSTAMP:20260421T032251
CREATED:20190129T132607Z
LAST-MODIFIED:20190129T132607Z
UID:11141-1551524400-1551538800@www.locallife247.co.uk
SUMMARY:Canvas Bag Workshop
DESCRIPTION:Come and decorate your own canvas bag to celebrate World Book Day using lino printing and drawing. Free drop-in.
URL:https://www.locallife247.co.uk/event/canvas-bag-workshop/
CATEGORIES:Area - Wigan,Arts & Music
END:VEVENT
BEGIN:VEVENT
DTSTART;TZID=UTC:20190216T193000
DTEND;TZID=UTC:20190216T230000
DTSTAMP:20260421T032251
CREATED:20190111T155408Z
LAST-MODIFIED:20190111T155408Z
UID:10976-1550345400-1550358000@www.locallife247.co.uk
SUMMARY:Charity Fundraiser
DESCRIPTION:Enjoy an exciting race night and disco\, with a charity raffle and auction to raise essential funds for grassroots football club Robin Park FC. Tickets £8 including hotpot supper\, and available from the Robin Park Facebook page.
URL:https://www.locallife247.co.uk/event/charity-fundraiser/
CATEGORIES:Area - Wigan,Fundraisers
END:VEVENT
BEGIN:VEVENT
DTSTART;TZID=UTC:20190126T190000
DTEND;TZID=UTC:20190126T220000
DTSTAMP:20260421T032251
CREATED:20181206T154023Z
LAST-MODIFIED:20181206T154023Z
UID:10638-1548529200-1548540000@www.locallife247.co.uk
SUMMARY:Burns Night Celebration
DESCRIPTION:Enjoy a welcome drink\, Scotch broth\, haggis with neeps and tatties\, cranachan and whiskey toast. The bar is open from 5pm and kilts are very welcome. £15 per person\, bookable at www.wellbeingwigan.co.uk.
URL:https://www.locallife247.co.uk/event/burns-night-celebration-2/
CATEGORIES:Area - Wigan,Food & Drinks
END:VEVENT
BEGIN:VEVENT
DTSTART;TZID=UTC:20190125T194500
DTEND;TZID=UTC:20190125T230000
DTSTAMP:20260421T032251
CREATED:20181205T130209Z
LAST-MODIFIED:20181205T130209Z
UID:10615-1548445500-1548457200@www.locallife247.co.uk
SUMMARY:Quiz Night
DESCRIPTION:Friends of Shevington Memorial Park present a quiz night to raise funds for the park. Enjoy a buffet and a raffle\, and bring your own drinks. Tickets £5.
URL:https://www.locallife247.co.uk/event/quiz-night-4/
CATEGORIES:Area - Wigan,Miscellaneous
END:VEVENT
BEGIN:VEVENT
DTSTART;TZID=UTC:20190125T190000
DTEND;TZID=UTC:20190125T224500
DTSTAMP:20260421T032251
CREATED:20181206T153846Z
LAST-MODIFIED:20181206T153846Z
UID:10636-1548442800-1548456300@www.locallife247.co.uk
SUMMARY:Burns Night Dinner
DESCRIPTION:Wigan Thistle Society present a Burns Night Dinner of traditional Scottish food\, followed by speakers and plenty of dancing. Everyone welcome – tickets £24 or £16 for under-16s\, bookable by calling Margaret on 01942 247403.
URL:https://www.locallife247.co.uk/event/burns-night-dinner/
CATEGORIES:Area - Wigan,Arts & Music,Clubs & Societies,Food & Drinks
END:VEVENT
BEGIN:VEVENT
DTSTART;TZID=UTC:20190111T190000
DTEND;TZID=UTC:20190111T220000
DTSTAMP:20260421T032251
CREATED:20181206T153521Z
LAST-MODIFIED:20181206T153521Z
UID:10632-1547233200-1547244000@www.locallife247.co.uk
SUMMARY:50 Years Not Out
DESCRIPTION:The Orrell Musical and Dramatic Society present five decades of musical hits that will knock you for six! Tickets £7 or £6 for under-16s.
URL:https://www.locallife247.co.uk/event/50-years-not/
CATEGORIES:Area - Wigan,Arts & Music
END:VEVENT
BEGIN:VEVENT
DTSTART;TZID=UTC:20181216T100000
DTEND;TZID=UTC:20181216T160000
DTSTAMP:20260421T032251
CREATED:20181022T153617Z
LAST-MODIFIED:20181022T153617Z
UID:10221-1544954400-1544976000@www.locallife247.co.uk
SUMMARY:Drawing & Painting Birds
DESCRIPTION:Local artist and illustrator Tony Disley presents a one-day art class from sketching through to painting. Practical demonstrations and tutorials will help you paint your own small bird. Tickets £50 per person including admission to Martin Mere\, 12+ only.
URL:https://www.locallife247.co.uk/event/drawing-painting-birds/
CATEGORIES:Area - Wigan,Arts & Music
END:VEVENT
END:VCALENDAR