BEGIN:VCALENDAR
VERSION:2.0
PRODID:-//Local Life 247 - ECPv6.10.0//NONSGML v1.0//EN
CALSCALE:GREGORIAN
METHOD:PUBLISH
X-ORIGINAL-URL:https://www.locallife247.co.uk
X-WR-CALDESC:Events for Local Life 247
REFRESH-INTERVAL;VALUE=DURATION:PT1H
X-Robots-Tag:noindex
X-PUBLISHED-TTL:PT1H
BEGIN:VTIMEZONE
TZID:UTC
BEGIN:STANDARD
TZOFFSETFROM:+0000
TZOFFSETTO:+0000
TZNAME:UTC
DTSTART:20190101T000000
END:STANDARD
END:VTIMEZONE
BEGIN:VEVENT
DTSTART;TZID=UTC:20190713T190000
DTEND;TZID=UTC:20190713T213000
DTSTAMP:20260419T184954
CREATED:20190704T125004Z
LAST-MODIFIED:20190704T125004Z
UID:12625-1563044400-1563053400@www.locallife247.co.uk
SUMMARY:Oliver!
DESCRIPTION:The classic musical comes to Buckshaw Village\, performed by Buckshaw V.A.M.P! Have a great time singing along to ‘Consider Yourself’ and ‘Food Glorious Food’. Tickets £8 per adult or £6 per child\, available at www.buckshawvamp.eventbrite.com
URL:https://www.locallife247.co.uk/event/oliver/
CATEGORIES:Arts & Music,Theatre & Film
END:VEVENT
BEGIN:VEVENT
DTSTART;TZID=UTC:20190629T190000
DTEND;TZID=UTC:20190629T230000
DTSTAMP:20260419T184954
CREATED:20190515T150912Z
LAST-MODIFIED:20190515T150912Z
UID:12303-1561834800-1561849200@www.locallife247.co.uk
SUMMARY:Johnny Vegas & Friends
DESCRIPTION:Johnny Vegas heads to his last ever show at the Citadel with a number of guests to see the iconic venue go out in style. Proceeds go to the Citadel Charity to support vulnerable people. Tickets £20 on 01744 762300 or from www.citadel.org.uk
URL:https://www.locallife247.co.uk/event/johnny-vegas-friends/
CATEGORIES:Area - St Helens,Arts & Music,Fundraisers,Theatre & Film
END:VEVENT
BEGIN:VEVENT
DTSTART;TZID=UTC:20190629T080000
DTEND;TZID=UTC:20190629T200000
DTSTAMP:20260419T184955
CREATED:20190522T151507Z
LAST-MODIFIED:20190522T151507Z
UID:12336-1561795200-1561838400@www.locallife247.co.uk
SUMMARY:Radio Local
DESCRIPTION:Performance artists Hunt & Darton bring their hyper-local radio show to St. Helens. Get involved and help make the show your own\, or listen to the broadcast on WA12 radio.
URL:https://www.locallife247.co.uk/event/radio-local/
CATEGORIES:Area - St Helens,Arts & Music,Community,Theatre & Film
END:VEVENT
BEGIN:VEVENT
DTSTART;TZID=UTC:20190627T183000
DTEND;TZID=UTC:20190627T213000
DTSTAMP:20260419T184955
CREATED:20190515T150330Z
LAST-MODIFIED:20190515T150330Z
UID:12292-1561660200-1561671000@www.locallife247.co.uk
SUMMARY:Dementia Voices
DESCRIPTION:A brand new theatre piece examining the lived experience of young onset dementia. Engaging with dementia support groups across Greater Manchester\, the play explores the journeys of four people\, with a music-making activity and discussion afterwards. Tickets £3 on 01942 834747.
URL:https://www.locallife247.co.uk/event/dementia-voices/
CATEGORIES:Area - Wigan,Arts & Music,Theatre & Film
END:VEVENT
BEGIN:VEVENT
DTSTART;TZID=UTC:20190612T193000
DTEND;TZID=UTC:20190612T213000
DTSTAMP:20260419T184955
CREATED:20190515T150525Z
LAST-MODIFIED:20190515T150525Z
UID:12294-1560367800-1560375000@www.locallife247.co.uk
SUMMARY:Sister Act
DESCRIPTION:Rainhill Musical Theatre Company present Sister Act – the hilarious classic musical about an undercover nun. Tickets cost £9 for adults or £7 concessions\, available from Rainhill Post Office or Rainhill Village Hall\, or on 07948 908693.
URL:https://www.locallife247.co.uk/event/sister-act/
CATEGORIES:Area - St Helens,Arts & Music,Theatre & Film
END:VEVENT
BEGIN:VEVENT
DTSTART;TZID=UTC:20190610T193000
DTEND;TZID=UTC:20190610T223000
DTSTAMP:20260419T184955
CREATED:20190322T100543Z
LAST-MODIFIED:20190322T100543Z
UID:11842-1560195000-1560205800@www.locallife247.co.uk
SUMMARY:Evening with Sir Michael Parkinson
DESCRIPTION:The nation’s favourite interviewer relives moments from his remarkable career. In conversation with his son Mike\, Parkinson presents a night of reflective and celebratory entertainment. Tickets £26-£33.
URL:https://www.locallife247.co.uk/event/evening-with-sir-michael-parkinson/
CATEGORIES:Area - St Helens,Exhibitions & Talks,Theatre & Film
END:VEVENT
BEGIN:VEVENT
DTSTART;TZID=UTC:20190521T193000
DTEND;TZID=UTC:20190521T220000
DTSTAMP:20260419T184955
CREATED:20190312T093913Z
LAST-MODIFIED:20190312T093913Z
UID:11699-1558467000-1558476000@www.locallife247.co.uk
SUMMARY:Evening with Maxine Peake
DESCRIPTION:TV and film personality Maxine Peake takes questions about her career\, from her upbringing in Westhoughton to her recent film role Peterloo\, with musical entertainment and supper. Tickets £15 from 01942 244309\, 07964 122114 or 07570 414640.
URL:https://www.locallife247.co.uk/event/evening-with-maxine-peake/
CATEGORIES:Area - Wigan,Exhibitions & Talks,Theatre & Film
END:VEVENT
BEGIN:VEVENT
DTSTART;TZID=UTC:20190517T193000
DTEND;TZID=UTC:20190517T223000
DTSTAMP:20260419T184955
CREATED:20190322T095809Z
LAST-MODIFIED:20190322T095809Z
UID:11830-1558121400-1558132200@www.locallife247.co.uk
SUMMARY:Audience with Liverpool Legends
DESCRIPTION:Join John Aldridge\, Ronnie Whelan and Steve McMahon on stage\, with highlights from their careers and plenty of banter! Limited opportunities for meet and greets before the show – tickets from £30-£66.
URL:https://www.locallife247.co.uk/event/audience-with-liverpool-legends/
CATEGORIES:Area - St Helens,Exhibitions & Talks,Sports,Theatre & Film
END:VEVENT
BEGIN:VEVENT
DTSTART;TZID=UTC:20190516T193000
DTEND;TZID=UTC:20190516T220000
DTSTAMP:20260419T184955
CREATED:20190322T095541Z
LAST-MODIFIED:20190322T095541Z
UID:11826-1558035000-1558044000@www.locallife247.co.uk
SUMMARY:Ghost Train Performance
DESCRIPTION:Rainhill Garrick Society present the classic ghost story – a group of passengers are stranded at a rural station overnight\, and increasingly threatened by a malevolent force. Tickets available from Rainhill Post Office and Village Hall\, or on 01744 813429.
URL:https://www.locallife247.co.uk/event/ghost-train-performance/
CATEGORIES:Area - St Helens,Theatre & Film
END:VEVENT
BEGIN:VEVENT
DTSTART;TZID=UTC:20190501T190000
DTEND;TZID=UTC:20190501T210000
DTSTAMP:20260419T184955
CREATED:20190409T130901Z
LAST-MODIFIED:20190409T130901Z
UID:12039-1556737200-1556744400@www.locallife247.co.uk
SUMMARY:Of Time & Place: Ghost Stories
DESCRIPTION:Sue Gerrard performs her ghost stories. Tickets £5 including light refreshments – booking is essential on 07985 556539.
URL:https://www.locallife247.co.uk/event/of-time-place-ghost-stories/
CATEGORIES:Area - St Helens,Arts & Music,Theatre & Film
END:VEVENT
BEGIN:VEVENT
DTSTART;TZID=UTC:20190424T193000
DTEND;TZID=UTC:20190424T193000
DTSTAMP:20260419T184955
CREATED:20190226T151607Z
LAST-MODIFIED:20190226T151607Z
UID:11560-1556134200-1556134200@www.locallife247.co.uk
SUMMARY:The Sound of Music
DESCRIPTION:The classic hit musical The Sound of Music by Pleasure Folk AMS brings the Civic Hall alive with songs like Climb Every Mountain\, Favourite Things and The Lonely Goatherd. \nTickets £8 from 01695 580755 or www.pleasurefolk.co.uk
URL:https://www.locallife247.co.uk/event/the-sound-of-music/
CATEGORIES:Arts & Music,Theatre & Film
END:VEVENT
BEGIN:VEVENT
DTSTART;TZID=UTC:20190406T193000
DTEND;TZID=UTC:20190406T220000
DTSTAMP:20260419T184955
CREATED:20190213T102112Z
LAST-MODIFIED:20190213T102112Z
UID:11424-1554579000-1554588000@www.locallife247.co.uk
SUMMARY:Gilbert & Sullivan
DESCRIPTION:The Hoghton Players present The Seven Ages of Gilbert & Sullivan – an endearing look at the various stages of human life with plenty of solos\, ensembles and choruses. Tickets £7 including refreshments\, bookable on 07784 942127.
URL:https://www.locallife247.co.uk/event/gilbert-sullivan/
CATEGORIES:Arts & Music,Theatre & Film
END:VEVENT
BEGIN:VEVENT
DTSTART;TZID=UTC:20190406T190000
DTEND;TZID=UTC:20190406T223000
DTSTAMP:20260419T184955
CREATED:20190213T093612Z
LAST-MODIFIED:20190213T093612Z
UID:11363-1554577200-1554589800@www.locallife247.co.uk
SUMMARY:Songs from the Shows
DESCRIPTION:Victor Michael & the Three Sopranos present a night of songs from popular theatre. Tickets £12 seated or £5 standing\, all profit to Wigan Rotary Club Charities Account. Tickets available at www.ticketsource.co.uk/whats-on/wigan/alra-north-the-mill-at-the-pier/songs-from-the-shows/2019-04-06/19:30
URL:https://www.locallife247.co.uk/event/songsfromtheshows/
CATEGORIES:Area - Wigan,Arts & Music,Fundraisers,Theatre & Film
END:VEVENT
BEGIN:VEVENT
DTSTART;TZID=UTC:20190403T190000
DTEND;TZID=UTC:20190403T220000
DTSTAMP:20260419T184955
CREATED:20190226T150913Z
LAST-MODIFIED:20190226T150913Z
UID:11553-1554318000-1554328800@www.locallife247.co.uk
SUMMARY:There'll Be Bluebirds Over
DESCRIPTION:See war break out across Britain with songs\, radio programmes and many memories performed by the Wigan Musical Theatre Group. Tickets £9 adults or £8 concessions\, bookable from Julie on 07598 508004 or ticketswmtg@gmail.com
URL:https://www.locallife247.co.uk/event/therell-be-bluebirds-over/
CATEGORIES:Area - Wigan,Arts & Music,Theatre & Film
END:VEVENT
BEGIN:VEVENT
DTSTART;TZID=UTC:20190215T193000
DTEND;TZID=UTC:20190215T230000
DTSTAMP:20260419T184955
CREATED:20190108T150945Z
LAST-MODIFIED:20190108T150945Z
UID:10937-1550259000-1550271600@www.locallife247.co.uk
SUMMARY:Murder Mystery Night
DESCRIPTION:A murder mystery set in the 1920s sees wealthy heiress Georgina Smythe’s will read – but who will benefit most from her death? £35 per person including a 3-course meal and a drink – head to https://www.inglenook-farm.co.uk/ to book.
URL:https://www.locallife247.co.uk/event/murder-mystery-night/
CATEGORIES:Area - St Helens,Food & Drinks,Theatre & Film
END:VEVENT
BEGIN:VEVENT
DTSTART;TZID=UTC:20190214T193000
DTEND;TZID=UTC:20190214T220000
DTSTAMP:20260419T184955
CREATED:20181206T153014Z
LAST-MODIFIED:20181206T153014Z
UID:10623-1550172600-1550181600@www.locallife247.co.uk
SUMMARY:Living Together Performance
DESCRIPTION:The Rainhill Garrick Society present their 2019 performance of Alan Ayckbourn’s play ‘Living Together’\, a Victorian comic tale of family drama\, romance and incompetence. Tickets available from Rainhill Post Office or the Village Hall – call 01744 813429 for details.
URL:https://www.locallife247.co.uk/event/living-together-performance/
CATEGORIES:Area - St Helens,Arts & Music,Theatre & Film
END:VEVENT
BEGIN:VEVENT
DTSTART;TZID=UTC:20190208T193000
DTEND;TZID=UTC:20190208T213000
DTSTAMP:20260419T184955
CREATED:20181205T125924Z
LAST-MODIFIED:20181205T125924Z
UID:10611-1549654200-1549661400@www.locallife247.co.uk
SUMMARY:The Singular Exploits of Sherlock Holmes
DESCRIPTION:The greatest fictional sleuth of all time is brought to life in a high-energy one-man show\, featuring a plethora of dashing heroes\, villainous rogues and vintage thrills. £20 per person – head to www.hoghtontower.co.uk to book.
URL:https://www.locallife247.co.uk/event/singular-exploits-sherlock-holmes/
CATEGORIES:Arts & Music,Theatre & Film
END:VEVENT
BEGIN:VEVENT
DTSTART;TZID=UTC:20190117T193000
DTEND;TZID=UTC:20190117T220000
DTSTAMP:20260419T184955
CREATED:20181206T152841Z
LAST-MODIFIED:20181206T152841Z
UID:10619-1547753400-1547762400@www.locallife247.co.uk
SUMMARY:Voice of the People
DESCRIPTION:Rainhill Musical Theatre presents Voice of the People – a collection of musical theatre from 1938-2018 including Oklahoma\, Chorus Line and The Greatest Showman. Tickets range from £6.50-£8.50\, available from www.ticketsource.co.uk.
URL:https://www.locallife247.co.uk/event/voice-of-the-people/
CATEGORIES:Area - St Helens,Arts & Music,Theatre & Film
END:VEVENT
END:VCALENDAR