BEGIN:VCALENDAR
VERSION:2.0
PRODID:-//Local Life 247 - ECPv6.10.0//NONSGML v1.0//EN
CALSCALE:GREGORIAN
METHOD:PUBLISH
X-ORIGINAL-URL:https://www.locallife247.co.uk
X-WR-CALDESC:Events for Local Life 247
REFRESH-INTERVAL;VALUE=DURATION:PT1H
X-Robots-Tag:noindex
X-PUBLISHED-TTL:PT1H
BEGIN:VTIMEZONE
TZID:UTC
BEGIN:STANDARD
TZOFFSETFROM:+0000
TZOFFSETTO:+0000
TZNAME:UTC
DTSTART:20180101T000000
END:STANDARD
END:VTIMEZONE
BEGIN:VEVENT
DTSTART;TZID=UTC:20181214T200000
DTEND;TZID=UTC:20181215T020000
DTSTAMP:20260420T112837
CREATED:20181017T152727Z
LAST-MODIFIED:20181017T152727Z
UID:10169-1544817600-1544839200@www.locallife247.co.uk
SUMMARY:Charity Ghost Hunt
DESCRIPTION:The Mansion House hosts a ghost hunt in aid of Age UK Mid Mersey. Explore the Victorian house under the cover of darkness – who knows what might be lurking in the shadows… Tickets £27 per person and can be booked at www.fourthelementparanormal.com.
URL:https://www.locallife247.co.uk/event/charity-ghost-hunt-2/
CATEGORIES:Area - St Helens
END:VEVENT
BEGIN:VEVENT
DTSTART;TZID=UTC:20181214T093000
DTEND;TZID=UTC:20181214T123000
DTSTAMP:20260420T112837
CREATED:20181121T145910Z
LAST-MODIFIED:20181121T145910Z
UID:10474-1544779800-1544790600@www.locallife247.co.uk
SUMMARY:Make A Difference Carols
DESCRIPTION:A carol concert supporting local causes with Team Chocolate Orange\, featuring performances from Holy Cross\, Billinge Chapel End\, Corpus Christi and Rainford Brook Lodge school choirs.
URL:https://www.locallife247.co.uk/event/make-difference-carols/
CATEGORIES:Area - St Helens,Arts & Music,Fundraisers,Seasonal
END:VEVENT
BEGIN:VEVENT
DTSTART;TZID=UTC:20181208T110000
DTEND;TZID=UTC:20181208T160000
DTSTAMP:20260420T112837
CREATED:20181017T152622Z
LAST-MODIFIED:20181017T152622Z
UID:10166-1544266800-1544284800@www.locallife247.co.uk
SUMMARY:Willowbrook Christmas Market
DESCRIPTION:Enjoy great stalls\, an amazing food court and see the Christmas donkeys before the kids see Santa in his grotto.
URL:https://www.locallife247.co.uk/event/willowbrook-christmas-market/
CATEGORIES:Area - St Helens,Fundraisers,Markets & Craft Fairs,Seasonal
END:VEVENT
BEGIN:VEVENT
DTSTART;TZID=UTC:20181203T130000
DTEND;TZID=UTC:20181203T150000
DTSTAMP:20260420T112837
CREATED:20181120T151159Z
LAST-MODIFIED:20181120T151159Z
UID:10462-1543842000-1543849200@www.locallife247.co.uk
SUMMARY:Christmas Coffee Afternoon
DESCRIPTION:Come down for a festive afternoon of coffee and refreshments\, with a hamper raffle to be won! Entry £5 including a raffle ticket.
URL:https://www.locallife247.co.uk/event/christmas-coffee-afternoon/
CATEGORIES:Area - St Helens,Food & Drinks,Seasonal
END:VEVENT
BEGIN:VEVENT
DTSTART;TZID=UTC:20181202T113000
DTEND;TZID=UTC:20181202T163000
DTSTAMP:20260420T112837
CREATED:20181107T142730Z
LAST-MODIFIED:20181107T142730Z
UID:10380-1543750200-1543768200@www.locallife247.co.uk
SUMMARY:UnderGround Crafts Christmas Fair
DESCRIPTION:A wealth of handcrafted gifts from jewellery to fudge! A special visit from Santa and his favourite elf\, hot food and a bar\, and the chance to meet Santa’s donkeys while the reindeer rest. Free entry.
URL:https://www.locallife247.co.uk/event/underground-crafts-christmas-fair/
CATEGORIES:Area - St Helens,Area - Wigan,Markets & Craft Fairs
END:VEVENT
BEGIN:VEVENT
DTSTART;TZID=UTC:20181201T113000
DTEND;TZID=UTC:20181201T140000
DTSTAMP:20260420T112837
CREATED:20181016T131455Z
LAST-MODIFIED:20181016T131455Z
UID:10109-1543663800-1543672800@www.locallife247.co.uk
SUMMARY:Christmas Fair
DESCRIPTION:Come along for a great festive treat at St. Paul’s Church. There will be a Santa’s grotto\, great stalls from cakes to children’s toys\, and light lunches.
URL:https://www.locallife247.co.uk/event/christmas-fair-3/
CATEGORIES:Area - St Helens,Seasonal
END:VEVENT
BEGIN:VEVENT
DTSTART;TZID=UTC:20181130T180000
DTEND;TZID=UTC:20181130T233000
DTSTAMP:20260420T112837
CREATED:20180926T130851Z
LAST-MODIFIED:20180926T130851Z
UID:9928-1543600800-1543620600@www.locallife247.co.uk
SUMMARY:Gin Festival
DESCRIPTION:The Absolutely Fabulous Gin Festival heads to St. Helens with over 80 different gins plus live entertainment. Food available from the Mayur Indian Restaurant. Tickets £12.50\, includes gin Copa glass and welcome drink. VIP area tickets £50. \nSaturday sessions run from 12pm-5pm  and 6pm-11:30pm.
URL:https://www.locallife247.co.uk/event/gin-festival-3/
CATEGORIES:Area - St Helens,Fetes & Festivals,Food & Drinks,Seasonal
END:VEVENT
BEGIN:VEVENT
DTSTART;TZID=UTC:20181125T110000
DTEND;TZID=UTC:20181125T170000
DTSTAMP:20260420T112837
CREATED:20180926T130546Z
LAST-MODIFIED:20180926T130546Z
UID:9925-1543143600-1543165200@www.locallife247.co.uk
SUMMARY:Sea Cadets Christmas Fayre
DESCRIPTION:Fun for all the family including Reiki taster sessions and aromatherapy\, Christmas gifts\, a raffle\, craft stalls\, refreshments and tombola. There’s also a chance for the kids to meet Santa.
URL:https://www.locallife247.co.uk/event/sea-cadets-christmas-fayre/
CATEGORIES:Area - St Helens,Fundraisers,Seasonal
END:VEVENT
BEGIN:VEVENT
DTSTART;TZID=UTC:20181124T100000
DTEND;TZID=UTC:20181124T170000
DTSTAMP:20260420T112837
CREATED:20180926T130408Z
LAST-MODIFIED:20180926T130408Z
UID:9923-1543053600-1543078800@www.locallife247.co.uk
SUMMARY:Christmas Model Railway Show
DESCRIPTION:The Rainhill Model Railway Club presents a day of model trains\, layouts\, traders and a Santa’s Grotto. There will also be vintage buses running between the show and the North West Museum of Road Transport. Adult admission is £3.50 or £4 for a child including a gift from Santa.
URL:https://www.locallife247.co.uk/event/christmas-model-railway-show/
CATEGORIES:Area - St Helens,Clubs & Societies,Exhibitions & Talks,Seasonal
END:VEVENT
BEGIN:VEVENT
DTSTART;TZID=UTC:20181117T083000
DTEND;TZID=UTC:20181117T160000
DTSTAMP:20260420T112837
CREATED:20180926T130309Z
LAST-MODIFIED:20180926T130309Z
UID:9920-1542443400-1542470400@www.locallife247.co.uk
SUMMARY:Fun Day Fundraiser
DESCRIPTION:A joint fundraising effort between Rainford in Bloom and CrossRoads invites you for a day of fun. There will be stalls offering bric-a-brac and cakes\, a raffle and tombola\, and a lunch of soup\, sandwiches and cakes.
URL:https://www.locallife247.co.uk/event/fun-day-fundraiser/
CATEGORIES:Area - St Helens,Fundraisers
END:VEVENT
BEGIN:VEVENT
DTSTART;TZID=UTC:20181113T134500
DTEND;TZID=UTC:20181113T154500
DTSTAMP:20260420T112837
CREATED:20181017T153751Z
LAST-MODIFIED:20181017T153751Z
UID:10178-1542116700-1542123900@www.locallife247.co.uk
SUMMARY:Rainhill Remembered
DESCRIPTION:Join the Rainhill Civic Society for a chat and a cuppa to share your memories of Rainhill. Bring your old photographs\, maps and booklets along!
URL:https://www.locallife247.co.uk/event/rainhill-remembered/
CATEGORIES:Area - St Helens,Heritage
END:VEVENT
BEGIN:VEVENT
DTSTART;TZID=UTC:20181110T130000
DTEND;TZID=UTC:20181110T230000
DTSTAMP:20260420T112837
CREATED:20181022T122629Z
LAST-MODIFIED:20181022T122629Z
UID:10206-1541854800-1541890800@www.locallife247.co.uk
SUMMARY:Rainhill Beer Festival
DESCRIPTION:The 16th beer festival features new brewers and beers for 2018. The Rotary Club of Rainhill invites you to sample new beers and ciders\, and try a tipple at the prosecco bar. For more information\, head to http://www.rainhillbeerfest.org/.
URL:https://www.locallife247.co.uk/event/rainhill-beer-festival-2/
CATEGORIES:Area - St Helens,Bars & Pubs,Fetes & Festivals,Food & Drinks
END:VEVENT
BEGIN:VEVENT
DTSTART;TZID=UTC:20181109T193000
DTEND;TZID=UTC:20181109T223000
DTSTAMP:20260420T112837
CREATED:20181022T122755Z
LAST-MODIFIED:20181022T122755Z
UID:10208-1541791800-1541802600@www.locallife247.co.uk
SUMMARY:Remembrance Banquet
DESCRIPTION:An evening of music and dinner to celebrate our troops. The St. Helens Brass Band will play on arrival\, and a 3 course dinner will be served. After dinner\, enjoy a performance from the 1940s Wing Dancers and music from Windy Warlow and the A-Train Swing. Booking essential on 01744 886812 or enquiries@inglenook-farm.co.uk.
URL:https://www.locallife247.co.uk/event/remembrance-banquet/
CATEGORIES:Area - St Helens,Food & Drinks,Heritage
END:VEVENT
BEGIN:VEVENT
DTSTART;TZID=UTC:20181108T190000
DTEND;TZID=UTC:20181108T230000
DTSTAMP:20260420T112837
CREATED:20181022T122529Z
LAST-MODIFIED:20181022T122529Z
UID:10202-1541703600-1541718000@www.locallife247.co.uk
SUMMARY:Rainhill Beer Festival
DESCRIPTION:The 16th beer festival features new brewers and beers for 2018. The Rotary Club of Rainhill invites you to sample new beers and ciders\, and try a tipple at the prosecco bar. For more information\, head to http://www.rainhillbeerfest.org/.
URL:https://www.locallife247.co.uk/event/rainhill-beer-festival/
CATEGORIES:Area - St Helens,Bars & Pubs,Fetes & Festivals,Food & Drinks
END:VEVENT
BEGIN:VEVENT
DTSTART;TZID=UTC:20181107T190000
DTEND;TZID=UTC:20181107T220000
DTSTAMP:20260420T112837
CREATED:20181017T153134Z
LAST-MODIFIED:20181017T153134Z
UID:10174-1541617200-1541628000@www.locallife247.co.uk
SUMMARY:Supper by Candlelight
DESCRIPTION:Willowbrook Hospice presents a magical evening. See the hospice gardens illuminated at night and enjoy a hotpot supper with apple pie and wine by candlelight. Tickets £10\, booking essential on 01744 453798 or from The Living Well.
URL:https://www.locallife247.co.uk/event/supper-by-candlelight/
CATEGORIES:Area - St Helens,Food & Drinks,Fundraisers
END:VEVENT
BEGIN:VEVENT
DTSTART;TZID=UTC:20181105T193000
DTEND;TZID=UTC:20181105T210000
DTSTAMP:20260420T112837
CREATED:20181017T133038Z
LAST-MODIFIED:20181017T133038Z
UID:10164-1541446200-1541451600@www.locallife247.co.uk
SUMMARY:Spark in the Park
DESCRIPTION:A magical musical fireworks display with a children’s funfair and lots of foodie treats.
URL:https://www.locallife247.co.uk/event/spark-in-the-park/
CATEGORIES:Area - St Helens,Seasonal
END:VEVENT
BEGIN:VEVENT
DTSTART;TZID=UTC:20181104T110000
DTEND;TZID=UTC:20181104T163000
DTSTAMP:20260420T112837
CREATED:20181022T122344Z
LAST-MODIFIED:20181022T122344Z
UID:10200-1541329200-1541349000@www.locallife247.co.uk
SUMMARY:Vegan Fair
DESCRIPTION:From cakes to cosmetics\, Rainford’s Vegan Fair has tonnes of cruelty-free gifts and snacks on offer. You can even grab a festive gift while you’re there.
URL:https://www.locallife247.co.uk/event/vegan-fair/
CATEGORIES:Area - St Helens,Food & Drinks,Markets & Craft Fairs
END:VEVENT
BEGIN:VEVENT
DTSTART;TZID=UTC:20181102T193000
DTEND;TZID=UTC:20181102T220000
DTSTAMP:20260420T112837
CREATED:20181022T122210Z
LAST-MODIFIED:20181022T122210Z
UID:10198-1541187000-1541196000@www.locallife247.co.uk
SUMMARY:Blind Wine Tasting
DESCRIPTION:Test your knowledge of wines and your pallet for a fun night with friends in a fundraiser for Rainford Girlguiding. Tickets £20.
URL:https://www.locallife247.co.uk/event/blind-wine-tasting/
CATEGORIES:Area - St Helens,Food & Drinks
END:VEVENT
BEGIN:VEVENT
DTSTART;TZID=UTC:20181102T193000
DTEND;TZID=UTC:20181102T220000
DTSTAMP:20260420T112837
CREATED:20181017T152959Z
LAST-MODIFIED:20181017T152959Z
UID:10171-1541187000-1541196000@www.locallife247.co.uk
SUMMARY:Quiz Night
DESCRIPTION:Rainford Cricket Club presents a fun quiz night with brilliant prizes. Teams of up to 6 can take part\, and entry costs £5 a head. Bring your own drinks and snacks. Call 07767441978 for details.
URL:https://www.locallife247.co.uk/event/quiz-night-3/
CATEGORIES:Area - St Helens
END:VEVENT
BEGIN:VEVENT
DTSTART;TZID=UTC:20181102T180000
DTEND;TZID=UTC:20181102T230000
DTSTAMP:20260420T112837
CREATED:20181017T132846Z
LAST-MODIFIED:20181017T132846Z
UID:10161-1541181600-1541199600@www.locallife247.co.uk
SUMMARY:Prescot & Odyssey CC Fireworks
DESCRIPTION:A bonfire extravaganza is coming to Prescot this Bonfire Night. The bonfire will be lit at 6:45pm and a fireworks display begins at 7:30pm. Tickets cost £6 per adult and £4 for children up to 16 – under-5s go free. Tickets purchased in advance – email prescotandodyssey@gmail.com for details.
URL:https://www.locallife247.co.uk/event/prescot-odyssey-cc-fireworks/
CATEGORIES:Area - St Helens,Seasonal
END:VEVENT
BEGIN:VEVENT
DTSTART;TZID=UTC:20181028T100000
DTEND;TZID=UTC:20181028T170000
DTSTAMP:20260420T112837
CREATED:20180910T140339Z
LAST-MODIFIED:20180910T140339Z
UID:9689-1540720800-1540746000@www.locallife247.co.uk
SUMMARY:Autumn Heritage Bus Running Day
DESCRIPTION:Free rides around St. Helens on a selection of historic buses and visiting twilight zone vehicles. There will also be sales stands around the museum offering transport books\, photos and model buses.
URL:https://www.locallife247.co.uk/event/autumn-heritage-bus-running-day/
CATEGORIES:Area - St Helens,Heritage
END:VEVENT
BEGIN:VEVENT
DTSTART;TZID=UTC:20181027T090000
DTEND;TZID=UTC:20181027T103000
DTSTAMP:20260420T112837
CREATED:20180910T140156Z
LAST-MODIFIED:20180910T140156Z
UID:9687-1540630800-1540636200@www.locallife247.co.uk
SUMMARY:Halloween Parkrun
DESCRIPTION:Head to Victoria Park in your best fancy dress and running shoes for its annual spooky spectacular parkrun. There’s a prize for the best costumes!
URL:https://www.locallife247.co.uk/event/halloween-parkrun/
CATEGORIES:Area - St Helens,Seasonal
END:VEVENT
BEGIN:VEVENT
DTSTART;TZID=UTC:20181026T193000
DTEND;TZID=UTC:20181026T223000
DTSTAMP:20260420T112837
CREATED:20180910T140515Z
LAST-MODIFIED:20180910T140515Z
UID:9691-1540582200-1540593000@www.locallife247.co.uk
SUMMARY:Charity Fright Night
DESCRIPTION:Come along to the Mansion House for Halloween in support of Age UK! You’ll be in for a trick or treat with live entertainment\, a hot and cold buffet\, glass of prosecco on arrival and an unexpected surprise… Tickets cost £25\, email laurawalton@aukmm.org.uk for details.
URL:https://www.locallife247.co.uk/event/charity-fright-night/
CATEGORIES:Area - St Helens,Fundraisers,Seasonal
END:VEVENT
BEGIN:VEVENT
DTSTART;TZID=UTC:20181025T190000
DTEND;TZID=UTC:20181025T220000
DTSTAMP:20260420T112837
CREATED:20180910T140001Z
LAST-MODIFIED:20180910T140001Z
UID:9685-1540494000-1540504800@www.locallife247.co.uk
SUMMARY:Italian Cheese & Wine Evening
DESCRIPTION:Enjoy the flavours of Italy at Willowbrook Hospice’s cheese and wine evening. It’s the perfect way to relax after work! Tickets cost £10 and can be booked at 01744 453798 or through email at events@willowbrookhospice.org.uk.
URL:https://www.locallife247.co.uk/event/italian-cheese-wine-evening/
CATEGORIES:Area - St Helens,Food & Drinks
END:VEVENT
BEGIN:VEVENT
DTSTART;VALUE=DATE:20181025
DTEND;VALUE=DATE:20181028
DTSTAMP:20260420T112837
CREATED:20180910T142950Z
LAST-MODIFIED:20180910T142950Z
UID:9704-1540425600-1540684799@www.locallife247.co.uk
SUMMARY:Beer & Cider Festival
DESCRIPTION:The CAMRA Southport Beer & Cider Festival is back. Expect to see over 60 real ales and ciders\, including old favourites and brand new beers. Both local ales and award-winning national beers and ciders available. Refundable festival glasses\, hot and cold food. Tickets £4 per day\, refunded to CAMRA members as beer tokens.
URL:https://www.locallife247.co.uk/event/beer-cider-festival/
CATEGORIES:Area - St Helens,Bars & Pubs,Fetes & Festivals,Food & Drinks
END:VEVENT
END:VCALENDAR