BEGIN:VCALENDAR
VERSION:2.0
PRODID:-//Local Life 247 - ECPv6.10.0//NONSGML v1.0//EN
CALSCALE:GREGORIAN
METHOD:PUBLISH
X-ORIGINAL-URL:https://www.locallife247.co.uk
X-WR-CALDESC:Events for Local Life 247
REFRESH-INTERVAL;VALUE=DURATION:PT1H
X-Robots-Tag:noindex
X-PUBLISHED-TTL:PT1H
BEGIN:VTIMEZONE
TZID:UTC
BEGIN:STANDARD
TZOFFSETFROM:+0000
TZOFFSETTO:+0000
TZNAME:UTC
DTSTART:20180101T000000
END:STANDARD
END:VTIMEZONE
BEGIN:VEVENT
DTSTART;TZID=UTC:20181215T120000
DTEND;TZID=UTC:20181215T160000
DTSTAMP:20260421T004139
CREATED:20181120T151429Z
LAST-MODIFIED:20181120T151429Z
UID:10464-1544875200-1544889600@www.locallife247.co.uk
SUMMARY:Santa Weekend
DESCRIPTION:Come along for some festive transport fun\, free rides on Christmas buses\, model railway displays\, Christmas crafts and a Santa’s grotto. Grotto tickets £8 including museum admission\, or normal admission charges apply.
URL:https://www.locallife247.co.uk/event/santa-weekend/
CATEGORIES:Area - St Helens,Exhibitions & Talks,Heritage,Seasonal
END:VEVENT
BEGIN:VEVENT
DTSTART;TZID=UTC:20181214T103000
DTEND;TZID=UTC:20181214T140000
DTSTAMP:20260421T004139
CREATED:20181022T153520Z
LAST-MODIFIED:20181022T153520Z
UID:10219-1544783400-1544796000@www.locallife247.co.uk
SUMMARY:Christmas Decorating Workshop
DESCRIPTION:Enjoy a guided tour of Rufford Old Hall before taking part in a festive workshop to create your very own traditional wreath to hang on the front door. Tickets £30\, all materials provided\, booking essential on 01704 821254.
URL:https://www.locallife247.co.uk/event/christmas-decorating-workshop/
CATEGORIES:Heritage,Seasonal
END:VEVENT
BEGIN:VEVENT
DTSTART;TZID=UTC:20181214T093000
DTEND;TZID=UTC:20181214T123000
DTSTAMP:20260421T004139
CREATED:20181121T145910Z
LAST-MODIFIED:20181121T145910Z
UID:10474-1544779800-1544790600@www.locallife247.co.uk
SUMMARY:Make A Difference Carols
DESCRIPTION:A carol concert supporting local causes with Team Chocolate Orange\, featuring performances from Holy Cross\, Billinge Chapel End\, Corpus Christi and Rainford Brook Lodge school choirs.
URL:https://www.locallife247.co.uk/event/make-difference-carols/
CATEGORIES:Area - St Helens,Arts & Music,Fundraisers,Seasonal
END:VEVENT
BEGIN:VEVENT
DTSTART;TZID=UTC:20181209T140000
DTEND;TZID=UTC:20181209T170000
DTSTAMP:20260421T004139
CREATED:20181116T140750Z
LAST-MODIFIED:20181116T140750Z
UID:10439-1544364000-1544374800@www.locallife247.co.uk
SUMMARY:Pets Christmas Fair
DESCRIPTION:Enjoy hot food\, stalls and games\, crafts\, gifts and local veg sales – well behaved pets welcome. The annual pet blessing takes place at 2:30pm\, 50p admission. Donations of cat food welcome\, proceeds to Noah’s Ark\, Tarleton.
URL:https://www.locallife247.co.uk/event/pets-christmas-fair/
CATEGORIES:Seasonal
END:VEVENT
BEGIN:VEVENT
DTSTART;TZID=UTC:20181209T130000
DTEND;TZID=UTC:20181209T170000
DTSTAMP:20260421T004139
CREATED:20181114T162650Z
LAST-MODIFIED:20181114T162650Z
UID:10420-1544360400-1544374800@www.locallife247.co.uk
SUMMARY:Village Christmas Fayre
DESCRIPTION:Croston’s Christmas fayre includes a Santa’s Grotto in Croston Sports Centre – the starting point for Santa’s train. Plenty of festive stalls and refreshments\, free entry.
URL:https://www.locallife247.co.uk/event/village-christmas-fayre/
CATEGORIES:Markets & Craft Fairs,Seasonal
END:VEVENT
BEGIN:VEVENT
DTSTART;TZID=UTC:20181208T110000
DTEND;TZID=UTC:20181208T160000
DTSTAMP:20260421T004139
CREATED:20181017T152622Z
LAST-MODIFIED:20181017T152622Z
UID:10166-1544266800-1544284800@www.locallife247.co.uk
SUMMARY:Willowbrook Christmas Market
DESCRIPTION:Enjoy great stalls\, an amazing food court and see the Christmas donkeys before the kids see Santa in his grotto.
URL:https://www.locallife247.co.uk/event/willowbrook-christmas-market/
CATEGORIES:Area - St Helens,Fundraisers,Markets & Craft Fairs,Seasonal
END:VEVENT
BEGIN:VEVENT
DTSTART;TZID=UTC:20181206T183000
DTEND;TZID=UTC:20181206T210000
DTSTAMP:20260421T004139
CREATED:20181113T150542Z
LAST-MODIFIED:20181113T150542Z
UID:10395-1544121000-1544130000@www.locallife247.co.uk
SUMMARY:Carol Concert
DESCRIPTION:Friends of Astley Hall and the Sing It Big Choir present a Christmas carol concert in the Great Hall. Get in the festive mood with beautiful performances.
URL:https://www.locallife247.co.uk/event/carol-concert/
CATEGORIES:Arts & Music,Seasonal
END:VEVENT
BEGIN:VEVENT
DTSTART;TZID=UTC:20181205T193000
DTEND;TZID=UTC:20181205T213000
DTSTAMP:20260421T004139
CREATED:20181107T143143Z
LAST-MODIFIED:20181107T143143Z
UID:10386-1544038200-1544045400@www.locallife247.co.uk
SUMMARY:Christmas Concert
DESCRIPTION:Wigan Community Choir present a night of carols old and new\, classical and calypso with some gospel for a rousing finale! There will also be a raffle and refreshments. £7 per person\, £5 concessions.
URL:https://www.locallife247.co.uk/event/christmas-concert-3/
CATEGORIES:Area - Wigan,Religious,Seasonal
END:VEVENT
BEGIN:VEVENT
DTSTART;TZID=UTC:20181204T133000
DTEND;TZID=UTC:20181204T150000
DTSTAMP:20260421T004139
CREATED:20181114T153602Z
LAST-MODIFIED:20181114T153602Z
UID:10415-1543930200-1543935600@www.locallife247.co.uk
SUMMARY:Community Carol Singing
DESCRIPTION:‘Singing for Wellbeing’ delivered by ‘Life Long Song’ invite you to three Tuesday afternoon sessions in December which will be dedicated to making the most of the well known traditional folk carols and one or two local ones you may not know. So if you can’t get enough holly and ivy and you want help with decking the halls come and join us. No choral experience required. This is community singing for all with a nod to the rich heritage of songs that have stood the test of time. There is a small charge for a carol sheet. Let us know if you need large print. Donation please for refreshments. Time Credits welcome.  \nVisit www.lifelongsong.co.uk or contact Life Long Song at 01257 276178
URL:https://www.locallife247.co.uk/event/community-carol-singing/
CATEGORIES:Arts & Music,Seasonal
ATTACH;FMTTYPE=image/jpeg:https://www.locallife247.co.uk/wp-content/uploads/2018/11/Joy-Ali-Janet-3-scaled.jpg
END:VEVENT
BEGIN:VEVENT
DTSTART;TZID=UTC:20181203T130000
DTEND;TZID=UTC:20181203T150000
DTSTAMP:20260421T004139
CREATED:20181120T151159Z
LAST-MODIFIED:20181120T151159Z
UID:10462-1543842000-1543849200@www.locallife247.co.uk
SUMMARY:Christmas Coffee Afternoon
DESCRIPTION:Come down for a festive afternoon of coffee and refreshments\, with a hamper raffle to be won! Entry £5 including a raffle ticket.
URL:https://www.locallife247.co.uk/event/christmas-coffee-afternoon/
CATEGORIES:Area - St Helens,Food & Drinks,Seasonal
END:VEVENT
BEGIN:VEVENT
DTSTART;TZID=UTC:20181202T133000
DTEND;TZID=UTC:20181202T160000
DTSTAMP:20260421T004139
CREATED:20181107T142952Z
LAST-MODIFIED:20181107T142952Z
UID:10383-1543757400-1543766400@www.locallife247.co.uk
SUMMARY:Christmas Singalong
DESCRIPTION:Head down to Leyland Park for a festive singalong with mulled wine and turkey barms. Have a go on the tombola and meet Father Christmas!
URL:https://www.locallife247.co.uk/event/christmas-singalong/
CATEGORIES:Area - Wigan,Seasonal
END:VEVENT
BEGIN:VEVENT
DTSTART;TZID=UTC:20181202T110000
DTEND;TZID=UTC:20181202T150000
DTSTAMP:20260421T004139
CREATED:20181107T143630Z
LAST-MODIFIED:20181107T143630Z
UID:10388-1543748400-1543762800@www.locallife247.co.uk
SUMMARY:Festive Market
DESCRIPTION:A festive event for all the family. From food and craft stalls to birds of prey displays\, real reindeer and a raffle\, along with a Santa’s grotto\, you’ll be spoilt for choice! Free entry but £3.50 charge for Santa’s grotto. Book on 07834 480365.
URL:https://www.locallife247.co.uk/event/festive-market/
CATEGORIES:Markets & Craft Fairs,Seasonal
END:VEVENT
BEGIN:VEVENT
DTSTART;TZID=UTC:20181201T113000
DTEND;TZID=UTC:20181201T140000
DTSTAMP:20260421T004139
CREATED:20181016T131455Z
LAST-MODIFIED:20181016T131455Z
UID:10109-1543663800-1543672800@www.locallife247.co.uk
SUMMARY:Christmas Fair
DESCRIPTION:Come along for a great festive treat at St. Paul’s Church. There will be a Santa’s grotto\, great stalls from cakes to children’s toys\, and light lunches.
URL:https://www.locallife247.co.uk/event/christmas-fair-3/
CATEGORIES:Area - St Helens,Seasonal
END:VEVENT
BEGIN:VEVENT
DTSTART;TZID=UTC:20181130T180000
DTEND;TZID=UTC:20181130T233000
DTSTAMP:20260421T004139
CREATED:20180926T130851Z
LAST-MODIFIED:20180926T130851Z
UID:9928-1543600800-1543620600@www.locallife247.co.uk
SUMMARY:Gin Festival
DESCRIPTION:The Absolutely Fabulous Gin Festival heads to St. Helens with over 80 different gins plus live entertainment. Food available from the Mayur Indian Restaurant. Tickets £12.50\, includes gin Copa glass and welcome drink. VIP area tickets £50. \nSaturday sessions run from 12pm-5pm  and 6pm-11:30pm.
URL:https://www.locallife247.co.uk/event/gin-festival-3/
CATEGORIES:Area - St Helens,Fetes & Festivals,Food & Drinks,Seasonal
END:VEVENT
BEGIN:VEVENT
DTSTART;TZID=UTC:20181125T120000
DTEND;TZID=UTC:20181125T180000
DTSTAMP:20260421T004139
CREATED:20180911T110908Z
LAST-MODIFIED:20180911T110908Z
UID:9735-1543147200-1543168800@www.locallife247.co.uk
SUMMARY:Ormskirk Gingerbread Market & Lights Switch-On
DESCRIPTION:This event promises lots of Ormskirk gingerbread\, with gift stalls\, entertainment and a live ice carving demo. The Christmas lights switch-on follows soon after – you won’t want to miss it this year!
URL:https://www.locallife247.co.uk/event/ormskirk-gingerbread-market-lights-switch/
CATEGORIES:Fetes & Festivals,Seasonal
END:VEVENT
BEGIN:VEVENT
DTSTART;TZID=UTC:20181125T110000
DTEND;TZID=UTC:20181125T170000
DTSTAMP:20260421T004139
CREATED:20180926T130546Z
LAST-MODIFIED:20180926T130546Z
UID:9925-1543143600-1543165200@www.locallife247.co.uk
SUMMARY:Sea Cadets Christmas Fayre
DESCRIPTION:Fun for all the family including Reiki taster sessions and aromatherapy\, Christmas gifts\, a raffle\, craft stalls\, refreshments and tombola. There’s also a chance for the kids to meet Santa.
URL:https://www.locallife247.co.uk/event/sea-cadets-christmas-fayre/
CATEGORIES:Area - St Helens,Fundraisers,Seasonal
END:VEVENT
BEGIN:VEVENT
DTSTART;TZID=UTC:20181124T100000
DTEND;TZID=UTC:20181124T170000
DTSTAMP:20260421T004139
CREATED:20180926T130408Z
LAST-MODIFIED:20180926T130408Z
UID:9923-1543053600-1543078800@www.locallife247.co.uk
SUMMARY:Christmas Model Railway Show
DESCRIPTION:The Rainhill Model Railway Club presents a day of model trains\, layouts\, traders and a Santa’s Grotto. There will also be vintage buses running between the show and the North West Museum of Road Transport. Adult admission is £3.50 or £4 for a child including a gift from Santa.
URL:https://www.locallife247.co.uk/event/christmas-model-railway-show/
CATEGORIES:Area - St Helens,Clubs & Societies,Exhibitions & Talks,Seasonal
END:VEVENT
BEGIN:VEVENT
DTSTART;TZID=UTC:20181118T133000
DTEND;TZID=UTC:20181118T173000
DTSTAMP:20260421T004139
CREATED:20180911T112616Z
LAST-MODIFIED:20180911T112616Z
UID:9749-1542547800-1542562200@www.locallife247.co.uk
SUMMARY:Buckshaw's Christmas Fair
DESCRIPTION:A great variety of stalls awaits you at Buckshaw’s Christmas Fair\, with crafts for kids and a meeting with Freyja the Christmas Fairy. Free entry. For more information\, email craftandgiftfairs@gmail.com.
URL:https://www.locallife247.co.uk/event/buckshaws-christmas-fair/
CATEGORIES:Markets & Craft Fairs,Seasonal
END:VEVENT
BEGIN:VEVENT
DTSTART;TZID=UTC:20181118T130000
DTEND;TZID=UTC:20181118T200000
DTSTAMP:20260421T004139
CREATED:20180911T110429Z
LAST-MODIFIED:20180911T110429Z
UID:9729-1542546000-1542571200@www.locallife247.co.uk
SUMMARY:Southport Christmas Lights Switch-On
DESCRIPTION:With a full afternoon and evening of superb family entertainment planned\, Southport is set to sparkle with festive fun.  Enjoy live children’s entertainment throughout the afternoon\, meet Santa and his reindeers\, enjoy attractions and rides\, meet the naughty elves\, Grinch and singing crackers and so much more. Lights go on at 5:30pm.
URL:https://www.locallife247.co.uk/event/southport-christmas-lights-switch/
CATEGORIES:Seasonal
END:VEVENT
BEGIN:VEVENT
DTSTART;TZID=UTC:20181118T110000
DTEND;TZID=UTC:20181118T160000
DTSTAMP:20260421T004139
CREATED:20181016T132134Z
LAST-MODIFIED:20181016T132134Z
UID:10113-1542538800-1542556800@www.locallife247.co.uk
SUMMARY:Appley Bridge Christmas Market
DESCRIPTION:Come and browse a great range of Christmas gifts\, join in with some crafts and win great prizes in the tombola and raffle. Stalls include Usborne books\, the Body Shop\, Christmas wreaths\, baby boutique and homemade soaps/bath bombs.
URL:https://www.locallife247.co.uk/event/appley-bridge-christmas-market/
CATEGORIES:Area - Wigan,Markets & Craft Fairs,Seasonal
END:VEVENT
BEGIN:VEVENT
DTSTART;TZID=UTC:20181117T100000
DTEND;TZID=UTC:20181117T160000
DTSTAMP:20260421T004139
CREATED:20180911T112305Z
LAST-MODIFIED:20180911T112305Z
UID:9746-1542448800-1542470400@www.locallife247.co.uk
SUMMARY:Adlington Christmas Fair
DESCRIPTION:There are loads of fantastic stalls to browse at Adlington’s indoor Christmas Fair. Find the perfect gifts\, meet Freyja the Christmas fairy\, and join in with children’s crafts including sand art and glitter tattoos. Free entry.
URL:https://www.locallife247.co.uk/event/adlington-christmas-fair/
CATEGORIES:Markets & Craft Fairs,Seasonal
END:VEVENT
BEGIN:VEVENT
DTSTART;TZID=UTC:20181105T193000
DTEND;TZID=UTC:20181105T210000
DTSTAMP:20260421T004139
CREATED:20181017T133038Z
LAST-MODIFIED:20181017T133038Z
UID:10164-1541446200-1541451600@www.locallife247.co.uk
SUMMARY:Spark in the Park
DESCRIPTION:A magical musical fireworks display with a children’s funfair and lots of foodie treats.
URL:https://www.locallife247.co.uk/event/spark-in-the-park/
CATEGORIES:Area - St Helens,Seasonal
END:VEVENT
BEGIN:VEVENT
DTSTART;TZID=UTC:20181105T183000
DTEND;TZID=UTC:20181105T200000
DTSTAMP:20260421T004140
CREATED:20181017T132704Z
LAST-MODIFIED:20181017T132704Z
UID:10158-1541442600-1541448000@www.locallife247.co.uk
SUMMARY:Aspull Rugby Club Fireworks
DESCRIPTION:Celebrate Bonfire Night with a bonfire and fireworks display. There will be a bar\, a barbecue and sweet stalls! Fireworks start at 7:30pm. Adult entry is £4\, children £2.
URL:https://www.locallife247.co.uk/event/aspull-rugby-club-fireworks/
CATEGORIES:Area - Wigan,Seasonal
END:VEVENT
BEGIN:VEVENT
DTSTART;TZID=UTC:20181104T160000
DTEND;TZID=UTC:20181104T200000
DTSTAMP:20260421T004140
CREATED:20181017T132542Z
LAST-MODIFIED:20181017T132542Z
UID:10156-1541347200-1541361600@www.locallife247.co.uk
SUMMARY:St. Peter's Pavilion Fireworks
DESCRIPTION:Hindley lights up the sky this Bonfire Night! With a firework display starting at 6:30pm\, live entertainment\, food and drinks and a funfair\, you’re in for a treacly treat. No entry after 6:30pm\, £6 per adult and £3 per child. Advance booking recommended at Eventbrite.
URL:https://www.locallife247.co.uk/event/st-peters-pavilion-fireworks/
CATEGORIES:Area - Wigan,Seasonal
END:VEVENT
BEGIN:VEVENT
DTSTART;TZID=UTC:20181104T160000
DTEND;TZID=UTC:20181104T193000
DTSTAMP:20260421T004140
CREATED:20181017T132425Z
LAST-MODIFIED:20181017T132425Z
UID:10154-1541347200-1541359800@www.locallife247.co.uk
SUMMARY:Haigh Fireworks
DESCRIPTION:A family friendly firework spectacular featuring more entertainment than ever before. There will be live music\, an award-winning LED puppet show\, a Superhero vs. Princess show for the kids\, and a firework finale by SM ART Pyro. Tickets range from £7-£32\, and car parking costs £1.50. For tickets\, visit https://boxoffice.wlct.org/event_description.aspx?eventid=476.
URL:https://www.locallife247.co.uk/event/haigh-fireworks/
CATEGORIES:Area - Wigan,Seasonal
END:VEVENT
BEGIN:VEVENT
DTSTART;TZID=UTC:20181103T183000
DTEND;TZID=UTC:20181103T200000
DTSTAMP:20260421T004140
CREATED:20181017T131611Z
LAST-MODIFIED:20181017T131611Z
UID:10141-1541269800-1541275200@www.locallife247.co.uk
SUMMARY:Red Lion Bonfire & Fireworks
DESCRIPTION:The Douglas Valley Lions Club will hold its annual fireworks and bonfire charity events\, with proceeds going to local causes. The fire will be lit at 6:30pm\, with a fireworks display at 7pm. Adults £6\, children between 5 and 15 £3.
URL:https://www.locallife247.co.uk/event/red-lion-bonfire-fireworks/
CATEGORIES:Seasonal
END:VEVENT
BEGIN:VEVENT
DTSTART;TZID=UTC:20181103T180000
DTEND;TZID=UTC:20181103T200000
DTSTAMP:20260421T004140
CREATED:20181017T132052Z
LAST-MODIFIED:20181017T132052Z
UID:10149-1541268000-1541275200@www.locallife247.co.uk
SUMMARY:Duxbury Park Bonfire
DESCRIPTION:The Red Bank Scout Group host their annual bonfire and firework display. Some Bonfire Night fun for all the family! Free entry but donations welcome (£5 per adult\, £3 per child).
URL:https://www.locallife247.co.uk/event/duxbury-park-bonfire/
CATEGORIES:Seasonal
END:VEVENT
BEGIN:VEVENT
DTSTART;TZID=UTC:20181103T170000
DTEND;TZID=UTC:20181103T200000
DTSTAMP:20260421T004140
CREATED:20181017T131754Z
LAST-MODIFIED:20181017T131754Z
UID:10144-1541264400-1541275200@www.locallife247.co.uk
SUMMARY:The Plough Fireworks
DESCRIPTION:The Plough Inn in Lathom is hosting its fourth annual firework display with rides\, face painting\, sweet stalls and sparklers! There will also be a barbecue with a hog roast\, craft beers and cask ales. Advance tickets cost £4 for adults and £2 for children. Fireworks start at 7:30pm.
URL:https://www.locallife247.co.uk/event/the-plough-fireworks/
CATEGORIES:Seasonal
END:VEVENT
BEGIN:VEVENT
DTSTART;TZID=UTC:20181102T183000
DTEND;TZID=UTC:20181102T220000
DTSTAMP:20260421T004140
CREATED:20181017T132333Z
LAST-MODIFIED:20181017T132333Z
UID:10151-1541183400-1541196000@www.locallife247.co.uk
SUMMARY:Standish Cricket Club Fireworks
DESCRIPTION:Standish Cricket Club present a night of fireworks\, with a bar/refreshments and children’s rides and attractions. Adults cost £3\, children £2. Fireworks display begins at 7:45pm\, and parking is strictly limited. For more information\, go to www.standishcc.co.uk.
URL:https://www.locallife247.co.uk/event/standish-cricket-club-fireworks/
CATEGORIES:Area - Wigan,Seasonal
END:VEVENT
BEGIN:VEVENT
DTSTART;TZID=UTC:20181102T183000
DTEND;TZID=UTC:20181102T200000
DTSTAMP:20260421T004140
CREATED:20181017T131954Z
LAST-MODIFIED:20181017T131954Z
UID:10147-1541183400-1541188800@www.locallife247.co.uk
SUMMARY:Astley Hall Fireworks
DESCRIPTION:Chorley Council invites families to celebrate Bonfire Night with a stunning display and traditional bonfire! The bonfire is lit at 7pm with the firework display at 7:30pm. Free admission.
URL:https://www.locallife247.co.uk/event/astley-hall-fireworks/
CATEGORIES:Seasonal
END:VEVENT
END:VCALENDAR