BEGIN:VCALENDAR
VERSION:2.0
PRODID:-//Local Life 247 - ECPv6.10.0//NONSGML v1.0//EN
CALSCALE:GREGORIAN
METHOD:PUBLISH
X-WR-CALNAME:Local Life 247
X-ORIGINAL-URL:https://www.locallife247.co.uk
X-WR-CALDESC:Events for Local Life 247
REFRESH-INTERVAL;VALUE=DURATION:PT1H
X-Robots-Tag:noindex
X-PUBLISHED-TTL:PT1H
BEGIN:VTIMEZONE
TZID:UTC
BEGIN:STANDARD
TZOFFSETFROM:+0000
TZOFFSETTO:+0000
TZNAME:UTC
DTSTART:20190101T000000
END:STANDARD
END:VTIMEZONE
BEGIN:VEVENT
DTSTART;TZID=UTC:20191026T133000
DTEND;TZID=UTC:20191026T143000
DTSTAMP:20260419T194700
CREATED:20190919T114149Z
LAST-MODIFIED:20190919T114149Z
UID:13409-1572096600-1572100200@www.locallife247.co.uk
SUMMARY:Room on the Broom
DESCRIPTION:An interactive children’s storytelling session suitable for ages 5 and under. Find the witches’ lost belongings and rescue them from a dragon! Tickets £5 including a free raffle draw\, available on 07771 362383.
URL:https://www.locallife247.co.uk/event/room-on-the-broom/
CATEGORIES:Area - Wigan,Arts & Music,Child Friendly,Seasonal
END:VEVENT
BEGIN:VEVENT
DTSTART;TZID=UTC:20191026T100000
DTEND;TZID=UTC:20191026T140000
DTSTAMP:20260419T194700
CREATED:20190919T125418Z
LAST-MODIFIED:20190919T125418Z
UID:13439-1572084000-1572098400@www.locallife247.co.uk
SUMMARY:Magic Autumn Fair
DESCRIPTION:Browse stalls\, make magic wands\, enjoy a raffle and tombola and enter the fancy dress competition as a witch or wizard with Heath Charnock WI! Refreshments available.
URL:https://www.locallife247.co.uk/event/magic-autumn-fair/
CATEGORIES:Arts & Music,Markets & Craft Fairs,Seasonal
END:VEVENT
BEGIN:VEVENT
DTSTART;TZID=UTC:20191025T220000
DTEND;TZID=UTC:20191025T220000
DTSTAMP:20260419T194700
CREATED:20191008T081335Z
LAST-MODIFIED:20191008T081335Z
UID:13584-1572040800-1572040800@www.locallife247.co.uk
SUMMARY:Axiom - House | Techno | Old School
DESCRIPTION:We’re dusting the cobwebs from Wigan Night Life and presenting you guys with something completely different! Join our Resident and Guest DJs at this Free Event\, and dance the night away as they mix Old School classics with Modern and Industrial House & Techno.\nFree Entry | VOID\, King Street\nEvery 1st and 3rd Friday of the Month\n10pm – 2am\nHalloween Special this Month includes Free Glow Sticks and UV Paint upon Entry – Fancy Dress if you fancy!
URL:https://www.locallife247.co.uk/event/axiom-house-techno-old-school/
CATEGORIES:Area - All North West,Arts & Music,Bars & Pubs,Clubs & Societies,Community,Miscellaneous,Seasonal
ORGANIZER;CN="Axiom Wigan":MAILTO:axiom_@outlook.com
END:VEVENT
BEGIN:VEVENT
DTSTART;TZID=UTC:20191025T180000
DTEND;TZID=UTC:20191025T210000
DTSTAMP:20260419T194700
CREATED:20190919T125714Z
LAST-MODIFIED:20190919T125714Z
UID:13444-1572026400-1572037200@www.locallife247.co.uk
SUMMARY:Fright Night
DESCRIPTION:Expect spooky installations\, a fright light show\, live music and plenty of foodie treats! Prizes for the best fancy dress. Tickets £12 with children under 6 free from www.rivingtonterracedgardens.org.uk
URL:https://www.locallife247.co.uk/event/fright-night/
CATEGORIES:Area - All North West,Area - Wigan,Arts & Music,Fetes & Festivals,Outdoors,Seasonal
END:VEVENT
BEGIN:VEVENT
DTSTART;TZID=UTC:20191025T140000
DTEND;TZID=UTC:20191025T160000
DTSTAMP:20260419T194700
CREATED:20190919T105907Z
LAST-MODIFIED:20190919T105907Z
UID:13328-1572012000-1572019200@www.locallife247.co.uk
SUMMARY:Mystery of the Raddlesham Mumps
DESCRIPTION:Spot On Lancashire present ‘The Mystery of the Raddlesham Mumps’ – 7 year old Crispin inherits his spooky ancestral home after the death of his parents in a show that blends physical theatre with storytelling and poetry. Tickets £8 per adult and £6 per child\, bookable at the library.
URL:https://www.locallife247.co.uk/event/mystery-of-the-raddlesham-mumps/
CATEGORIES:Arts & Music,Child Friendly,Seasonal,Theatre & Film
END:VEVENT
BEGIN:VEVENT
DTSTART;TZID=UTC:20191024T180000
DTEND;TZID=UTC:20191024T200000
DTSTAMP:20260419T194700
CREATED:20190919T105749Z
LAST-MODIFIED:20190919T105749Z
UID:13326-1571940000-1571947200@www.locallife247.co.uk
SUMMARY:Simply Spellbound
DESCRIPTION:Join your favourite princesses in the forbidden forest as they take you on a Halloween adventure! Tickets £7 from the Civic Hall.
URL:https://www.locallife247.co.uk/event/simply-spellbound/
CATEGORIES:Arts & Music,Child Friendly,Seasonal,Theatre & Film
END:VEVENT
BEGIN:VEVENT
DTSTART;TZID=UTC:20191023T170000
DTEND;TZID=UTC:20191023T200000
DTSTAMP:20260419T194700
CREATED:20190919T114032Z
LAST-MODIFIED:20190919T114032Z
UID:13406-1571850000-1571860800@www.locallife247.co.uk
SUMMARY:Haunting of Spinners Mill
DESCRIPTION:Umbrella Arts lead you on a spooky walk around Spinners Mill\, with fabulous live actors. Watch your back as ghosts\, witches and zombies are around every corner! Tickets £4 from www.umbrella-arts.org
URL:https://www.locallife247.co.uk/event/haunting-of-spinners-mill/
CATEGORIES:Area - St Helens,Area - Wigan,Arts & Music,Seasonal,Theatre & Film
END:VEVENT
BEGIN:VEVENT
DTSTART;TZID=UTC:20191023T110000
DTEND;TZID=UTC:20191023T160000
DTSTAMP:20260419T194701
CREATED:20190919T125106Z
LAST-MODIFIED:20190919T125119Z
UID:13436-1571828400-1571846400@www.locallife247.co.uk
SUMMARY:Room on the Broom
DESCRIPTION:A self-guided trail following the story of Room on the Broom for kids aged 3-7. Time slots from 11am. £5 per child\, booking essential at www.buytickets.at/CuerdenValley
URL:https://www.locallife247.co.uk/event/room-on-the-broom-2/
CATEGORIES:Child Friendly,Miscellaneous,Outdoors,Seasonal
END:VEVENT
BEGIN:VEVENT
DTSTART;TZID=UTC:20191019T100000
DTEND;TZID=UTC:20191019T160000
DTSTAMP:20260419T194701
CREATED:20191011T125649Z
LAST-MODIFIED:20191011T125649Z
UID:13768-1571479200-1571500800@www.locallife247.co.uk
SUMMARY:Pumpkin Picking at Langtree Farm Shop
DESCRIPTION:Get your welly boots on and join us down at Langtree Farm Shop for some spooktacular fun on the farm! Our pumpkins are ready for picking\, with loads of colours shapes and sizes to choose from\, so grab a barrow have some Halloween fun and find your own unique pumpkin.  We will be running fun family activities. So wrap up warm and bring the family to see who can find the spookiest pumpkin in the patch!
URL:https://www.locallife247.co.uk/event/pumpkin-picking-at-langtree-farm-shop/
CATEGORIES:Area - All North West,Area - Wigan,Child Friendly,Community,Outdoors,Seasonal
ORGANIZER;CN="James Huyton":MAILTO:shop@langtreefarm.co.uk
END:VEVENT
BEGIN:VEVENT
DTSTART;TZID=UTC:20191006T100000
DTEND;TZID=UTC:20191006T160000
DTSTAMP:20260419T194701
CREATED:20190830T105018Z
LAST-MODIFIED:20190830T105018Z
UID:13093-1570356000-1570377600@www.locallife247.co.uk
SUMMARY:Apple Festival
DESCRIPTION:Celebrate the apple harvest with activities for the whole family including apple juicing and pressing\, woodland crafts\, music and face painting. For more info\, call 07752 179479.
URL:https://www.locallife247.co.uk/event/apple-festival-2/
CATEGORIES:Fetes & Festivals,Food & Drinks,Seasonal
END:VEVENT
BEGIN:VEVENT
DTSTART;TZID=UTC:20190826T120000
DTEND;TZID=UTC:20190826T170000
DTSTAMP:20260419T194701
CREATED:20190402T080158Z
LAST-MODIFIED:20190402T080223Z
UID:11959-1566820800-1566838800@www.locallife247.co.uk
SUMMARY:Ooh! I Do Like to Be Beside the Seaside.
DESCRIPTION:A free family fun event complete with a beach\, funfair and craft market. Our local Mods and Rockers will be driving through the event at noon and displaying their bikes and scooters in our exhibition space at the back of the town hall. Local bands and artists will be entertaining us throughout the day.\nThis event is not to be missed!
URL:https://www.locallife247.co.uk/event/ooh-i-do-like-to-be-beside-the-seaside/
CATEGORIES:Area - All North West,Child Friendly,Fetes & Festivals,Food & Drinks,Markets & Craft Fairs,Outdoors,Seasonal
ORGANIZER;CN="Kathryn Furey":MAILTO:kate@newfreedomltd.co.uk
END:VEVENT
BEGIN:VEVENT
DTSTART;TZID=UTC:20190822T173000
DTEND;TZID=UTC:20190822T200000
DTSTAMP:20260419T194701
CREATED:20190628T144246Z
LAST-MODIFIED:20190628T144246Z
UID:12583-1566495000-1566504000@www.locallife247.co.uk
SUMMARY:Wuthering Heights Outdoor Theatre
DESCRIPTION:An outdoor performance of Emily Bronte’s haunting novel about two restless souls on the Yorkshire moors. Tickets £14 per adult or £9 per child\, blankets recommended.
URL:https://www.locallife247.co.uk/event/wuthering-heights-outdoor-theatre/
CATEGORIES:Outdoors,Seasonal,Theatre & Film
END:VEVENT
BEGIN:VEVENT
DTSTART;TZID=UTC:20190813T173000
DTEND;TZID=UTC:20190813T200000
DTSTAMP:20260419T194701
CREATED:20190628T144455Z
LAST-MODIFIED:20190628T144455Z
UID:12587-1565717400-1565726400@www.locallife247.co.uk
SUMMARY:Romeo & Juliet Outdoor Theatre
DESCRIPTION:Catch the classic tale of star-crossed lovers performed outdoors by Heartbreak Productions. Tickets £14 per adult or £9 per child\, available from www.checkoutchorley.com
URL:https://www.locallife247.co.uk/event/romeo-juliet-outdoor-theatre/
CATEGORIES:Outdoors,Seasonal,Theatre & Film
END:VEVENT
BEGIN:VEVENT
DTSTART;TZID=UTC:20190803T120000
DTEND;TZID=UTC:20190803T160000
DTSTAMP:20260419T194701
CREATED:20190522T152427Z
LAST-MODIFIED:20190522T152427Z
UID:12348-1564833600-1564848000@www.locallife247.co.uk
SUMMARY:Hospice Garden Party
DESCRIPTION:Join Wigan & Leigh Hospice at their annual garden party – browse stalls including crafts\, plants and cakes\, enjoy BBQ food and relax in the sunshine!
URL:https://www.locallife247.co.uk/event/hospice-garden-party/
CATEGORIES:Area - Wigan,Fetes & Festivals,Outdoors,Seasonal
END:VEVENT
BEGIN:VEVENT
DTSTART;TZID=UTC:20190802T100000
DTEND;TZID=UTC:20190802T120000
DTSTAMP:20260419T194701
CREATED:20190704T125154Z
LAST-MODIFIED:20190704T125154Z
UID:12629-1564740000-1564747200@www.locallife247.co.uk
SUMMARY:Family Gardening Session
DESCRIPTION:Come and earn a SCART badge in this hands-on gardening session! Plant seeds\, learn about bees and get your hands dirty! Suitable for children aged 4-12 and their families; free\, but booking required at the library.
URL:https://www.locallife247.co.uk/event/family-gardening-session/
CATEGORIES:Child Friendly,Exhibitions & Talks,Outdoors,Seasonal
END:VEVENT
BEGIN:VEVENT
DTSTART;TZID=UTC:20190727T100000
DTEND;TZID=UTC:20190727T170000
DTSTAMP:20260419T194701
CREATED:20190704T124622Z
LAST-MODIFIED:20190704T124622Z
UID:12619-1564221600-1564246800@www.locallife247.co.uk
SUMMARY:Chorley Flower Show
DESCRIPTION:Lancashire’s biggest amateur gardening competition brings floral experts together\, along with an abundance of family entertainment\, live music and stunning show gardens. Tickets £10 per adult or £1.50 per child.
URL:https://www.locallife247.co.uk/event/chorley-flower-show/
CATEGORIES:Area - All North West,Exhibitions & Talks,Fetes & Festivals,Outdoors,Seasonal
END:VEVENT
BEGIN:VEVENT
DTSTART;TZID=UTC:20190721T100000
DTEND;TZID=UTC:20190721T160000
DTSTAMP:20260419T194701
CREATED:20190628T080551Z
LAST-MODIFIED:20190628T080551Z
UID:12580-1563703200-1563724800@www.locallife247.co.uk
SUMMARY:Hospice Open Gardens
DESCRIPTION:Come and see the beautiful gardens at Wigan & Leigh Hospice open to the public! Entry £3.50 for adults.
URL:https://www.locallife247.co.uk/event/hospice-open-gardens/
CATEGORIES:Area - Wigan,Fundraisers,Outdoors,Seasonal
END:VEVENT
BEGIN:VEVENT
DTSTART;TZID=UTC:20190608T120000
DTEND;TZID=UTC:20190608T170000
DTSTAMP:20260419T194701
CREATED:20190515T145522Z
LAST-MODIFIED:20190515T145522Z
UID:12275-1559995200-1560013200@www.locallife247.co.uk
SUMMARY:Aspull Worm Charming Championships
DESCRIPTION:Charm the most worms using music or vibrations from a shovel and win the coveted Aspull Worm Charming Championship! There’s also a prize for the fattest worm charmed\, plus stalls\, games and loads of food and drink. Call 07506 729292 to book your plot.
URL:https://www.locallife247.co.uk/event/aspull-worm-charming-championships/
CATEGORIES:Area - Wigan,Fetes & Festivals,Fundraisers,Miscellaneous,Outdoors,Seasonal
END:VEVENT
BEGIN:VEVENT
DTSTART;TZID=UTC:20190511T110000
DTEND;TZID=UTC:20190511T160000
DTSTAMP:20260419T194701
CREATED:20190322T101001Z
LAST-MODIFIED:20190322T101001Z
UID:11849-1557572400-1557590400@www.locallife247.co.uk
SUMMARY:Spring Fair
DESCRIPTION:Grab a bargain from a variety of stalls from crafts\, books and DVDs to plants and bric-a-brac. There’ll be plenty to keep the kids entertained with donkey rides\, face painting\, music and activities\, with afternoon tea and light lunches served in the tea room. Free admission.
URL:https://www.locallife247.co.uk/event/spring-fair-2/
CATEGORIES:Fetes & Festivals,Seasonal
END:VEVENT
BEGIN:VEVENT
DTSTART;TZID=UTC:20190426T190000
DTEND;TZID=UTC:20190426T223000
DTSTAMP:20260419T194701
CREATED:20190311T165838Z
LAST-MODIFIED:20190311T165907Z
UID:11688-1556305200-1556317800@www.locallife247.co.uk
SUMMARY:St. George's Day Fundraiser
DESCRIPTION:Enjoy St. George’s Day in Standish with entertainment from the Old Hall Brass Band\, Chris “Caine” Ward and DJ Dave Chadwick. Tickets £5 – all proceeds go to Wigan Hospice\, Wigan Borough Armed Forces HQ and Queen’s Lancashire Regiment Shires Fund. Call Tony on 07970 348911 to book.
URL:https://www.locallife247.co.uk/event/st-georges-day-fundraiser/
CATEGORIES:Area - Wigan,Arts & Music,Fundraisers,Seasonal
END:VEVENT
BEGIN:VEVENT
DTSTART;TZID=UTC:20190422T110000
DTEND;TZID=UTC:20190422T150000
DTSTAMP:20260419T194701
CREATED:20190311T165355Z
LAST-MODIFIED:20190311T165355Z
UID:11680-1555930800-1555945200@www.locallife247.co.uk
SUMMARY:Easter Trail
DESCRIPTION:Hunt the Easter trail and win a chocolatey treat! A great fun family activity within the church and its grounds – join in anytime!
URL:https://www.locallife247.co.uk/event/easter-trail-2/
CATEGORIES:Area - Wigan,Child Friendly,Seasonal
END:VEVENT
BEGIN:VEVENT
DTSTART;TZID=UTC:20190421T120000
DTEND;TZID=UTC:20190421T160000
DTSTAMP:20260419T194701
CREATED:20190301T163836Z
LAST-MODIFIED:20190301T163836Z
UID:11602-1555848000-1555862400@www.locallife247.co.uk
SUMMARY:Easter Bunny Hunt
DESCRIPTION:Explore the grounds of Bank Hall and join in with the Easter bunny hunt! Historical/restoration tours also take place on the day\, with plenty of stalls to browse\, face painting\, a birds of prey display and a performance of George & the Dragon. Entry costs £2 per adult\, and £1.50 to take part in the hunt with a chocolatey prize!
URL:https://www.locallife247.co.uk/event/easter-bunny-hunt/
CATEGORIES:Child Friendly,Seasonal
END:VEVENT
BEGIN:VEVENT
DTSTART;TZID=UTC:20190420T120000
DTEND;TZID=UTC:20190420T180000
DTSTAMP:20260419T194701
CREATED:20190213T101633Z
LAST-MODIFIED:20190213T101633Z
UID:11417-1555761600-1555783200@www.locallife247.co.uk
SUMMARY:Easter Family Day
DESCRIPTION:Easter fun for all the family with on-stage entertainment from fire eaters\, illusionists\, jugglers\, contortionists and unicyclists\, plus craft stalls and giant inflatables. Kids go free!
URL:https://www.locallife247.co.uk/event/easter-family-day/
CATEGORIES:Area - St Helens,Child Friendly,Seasonal
END:VEVENT
BEGIN:VEVENT
DTSTART;TZID=UTC:20190420T110000
DTEND;TZID=UTC:20190420T150000
DTSTAMP:20260419T194701
CREATED:20190213T102353Z
LAST-MODIFIED:20190213T102353Z
UID:11429-1555758000-1555772400@www.locallife247.co.uk
SUMMARY:Easter Extravaganza
DESCRIPTION:Have a whole load of Easter fun this April with an Easter egg hunt\, a bonnet competition\, a fun dog show\, an egg decoration station\, a bouncy castle and much more! Refreshments and a BBQ available throughout. Admission costs £1.50 for children or £3 for adults.
URL:https://www.locallife247.co.uk/event/easter-extravaganza/
CATEGORIES:Child Friendly,Seasonal
END:VEVENT
BEGIN:VEVENT
DTSTART;TZID=UTC:20190419T160000
DTEND;TZID=UTC:20190419T210000
DTSTAMP:20260419T194701
CREATED:20190215T141008Z
LAST-MODIFIED:20190215T141008Z
UID:11463-1555689600-1555707600@www.locallife247.co.uk
SUMMARY:Crucifixion Performance
DESCRIPTION:Calling all singers and choirs! Join a performance of Crucifixion by JH Maunder\, with organist Dr. Ian Sharp. Rehearsals start at 4pm with refreshments ahead of the performance. For more information\, call Eunice on 01695 422482 or Stephen on 01704 841085.
URL:https://www.locallife247.co.uk/event/crucifixion-performance/
CATEGORIES:Arts & Music,Religious,Seasonal
END:VEVENT
BEGIN:VEVENT
DTSTART;TZID=UTC:20190418T133000
DTEND;TZID=UTC:20190418T150000
DTSTAMP:20260419T194701
CREATED:20190213T101524Z
LAST-MODIFIED:20190213T101524Z
UID:11414-1555594200-1555599600@www.locallife247.co.uk
SUMMARY:Easter Egg Hunt
DESCRIPTION:The Easter bunny has visited and it’s time for an egg hunt! Make your own nest and bunny from natural materials to take home and explore real nests from different birds. Tickets £5.75\, bookable on Eventbrite.
URL:https://www.locallife247.co.uk/event/easter-egg-hunt-3/
CATEGORIES:Area - St Helens,Child Friendly,Seasonal
END:VEVENT
BEGIN:VEVENT
DTSTART;TZID=UTC:20190417T143000
DTEND;TZID=UTC:20190417T163000
DTSTAMP:20260419T194701
CREATED:20190213T095128Z
LAST-MODIFIED:20190213T095128Z
UID:11384-1555511400-1555518600@www.locallife247.co.uk
SUMMARY:Easter Crafts
DESCRIPTION:Join in an afternoon of Easter crafts\, suitable for children aged 4+. A charge of £1 per child applies to cover materials.
URL:https://www.locallife247.co.uk/event/easter-crafts-2/
CATEGORIES:Arts & Music,Child Friendly,Seasonal
END:VEVENT
BEGIN:VEVENT
DTSTART;TZID=UTC:20190413T110000
DTEND;TZID=UTC:20190413T160000
DTSTAMP:20260419T194701
CREATED:20190312T095511Z
LAST-MODIFIED:20190312T095511Z
UID:11721-1555153200-1555171200@www.locallife247.co.uk
SUMMARY:Easter Wellbeing Fair
DESCRIPTION:Browse stalls of unique gifts and holistic therapies\, as well as enjoying Reiki\, psychic readings and tarot cards. There’ll be face painting for the kids and lots of refreshments available\, all in aid of St. Helens Sea Cadets. For more information\, call 07401 383389.
URL:https://www.locallife247.co.uk/event/easter-wellbeing-fair/
CATEGORIES:Area - St Helens,Markets & Craft Fairs,Seasonal
END:VEVENT
BEGIN:VEVENT
DTSTART;TZID=UTC:20190407T190000
DTEND;TZID=UTC:20190407T210000
DTSTAMP:20260419T194701
CREATED:20190312T095403Z
LAST-MODIFIED:20190312T095403Z
UID:11719-1554663600-1554670800@www.locallife247.co.uk
SUMMARY:Easter Needle Felting
DESCRIPTION:Learn how to make adorably fuzzy animals with needle felting just in time for Easter! This two-hour experience will relax you and get you chatting to likeminded people while getting crafty. Tickets £12 from Eventbrite.
URL:https://www.locallife247.co.uk/event/easter-needle-felting/
CATEGORIES:Area - St Helens,Arts & Music,Seasonal
END:VEVENT
BEGIN:VEVENT
DTSTART;TZID=UTC:20190331T123000
DTEND;TZID=UTC:20190331T140000
DTSTAMP:20260419T194701
CREATED:20190129T162035Z
LAST-MODIFIED:20190129T162035Z
UID:11173-1554035400-1554040800@www.locallife247.co.uk
SUMMARY:Easter Bingo
DESCRIPTION:Enjoy fun family bingo in support of local charities\, with plenty of chocolatey prizes! Entry £1 per adult or 50p per child\, then £1 per book or 20p per flyer. Hot dogs and sandwiches available\, plus a raffle.
URL:https://www.locallife247.co.uk/event/easter-bingo/
CATEGORIES:Seasonal
END:VEVENT
END:VCALENDAR