BEGIN:VCALENDAR
VERSION:2.0
PRODID:-//Local Life 247 - ECPv6.10.0//NONSGML v1.0//EN
CALSCALE:GREGORIAN
METHOD:PUBLISH
X-WR-CALNAME:Local Life 247
X-ORIGINAL-URL:https://www.locallife247.co.uk
X-WR-CALDESC:Events for Local Life 247
REFRESH-INTERVAL;VALUE=DURATION:PT1H
X-Robots-Tag:noindex
X-PUBLISHED-TTL:PT1H
BEGIN:VTIMEZONE
TZID:UTC
BEGIN:STANDARD
TZOFFSETFROM:+0000
TZOFFSETTO:+0000
TZNAME:UTC
DTSTART:20180101T000000
END:STANDARD
END:VTIMEZONE
BEGIN:VEVENT
DTSTART;TZID=UTC:20190406T140000
DTEND;TZID=UTC:20190406T180000
DTSTAMP:20260419T211756
CREATED:20190205T133402Z
LAST-MODIFIED:20190205T133402Z
UID:11300-1554559200-1554573600@www.locallife247.co.uk
SUMMARY:Ladies Race Day
DESCRIPTION:Enjoy race day events watching the Grand National in support of Whiz-Kids\, plus gin tasting and a raffle. Dress to impress. Tickets £25\, available from Sarah on 07540 811010 or sarah.cathie@hotmail.com
URL:https://www.locallife247.co.uk/event/ladies-race-day/
CATEGORIES:Area - Wigan,Fundraisers
END:VEVENT
BEGIN:VEVENT
DTSTART;TZID=UTC:20190324T120000
DTEND;TZID=UTC:20190324T150000
DTSTAMP:20260419T211756
CREATED:20190205T133751Z
LAST-MODIFIED:20190205T133751Z
UID:11304-1553428800-1553439600@www.locallife247.co.uk
SUMMARY:Zumbathon Fundraiser
DESCRIPTION:Expert local Zumba instructors will be dancing for 2.5 hours in support of Cancer Research UK and MIND. Raffle tickets and prizes available. Tickets £5 and donations welcome.
URL:https://www.locallife247.co.uk/event/zumbathon-fundraiser/
CATEGORIES:Area - Wigan,Fundraisers,Sports
END:VEVENT
BEGIN:VEVENT
DTSTART;TZID=UTC:20190323T190000
DTEND;TZID=UTC:20190323T233000
DTSTAMP:20260419T211756
CREATED:20190111T155545Z
LAST-MODIFIED:20190111T155545Z
UID:10978-1553367600-1553383800@www.locallife247.co.uk
SUMMARY:Grand Charity Night
DESCRIPTION:Enjoy a great night of dancing and music\, with entertainment from top DJs Harold & Christine and vocalist Leah Wallis. Tickets £6\, available from 01695 623902\, 01942 236953 or 01744 345073. Proceeds go to The Brick.
URL:https://www.locallife247.co.uk/event/grand-charity-night/
CATEGORIES:Area - Wigan,Arts & Music,Fundraisers
END:VEVENT
BEGIN:VEVENT
DTSTART;TZID=UTC:20190323T190000
DTEND;TZID=UTC:20190323T230000
DTSTAMP:20260419T211756
CREATED:20190129T161853Z
LAST-MODIFIED:20190129T161853Z
UID:11170-1553367600-1553382000@www.locallife247.co.uk
SUMMARY:Duncan McKenzie & Tony Jo
DESCRIPTION:Help raise money for Chorley FC Community Foundation with Duncan McKenzie and Tony Jo. Enjoy a sporting memorabilia auction and raffle\, with music and dancing plus a buffet. Tickets £20\, call 01257 230007 or email jonothan.gains@chorleyfc.com
URL:https://www.locallife247.co.uk/event/duncan-mckenzie-tony-jo/
CATEGORIES:Exhibitions & Talks,Fundraisers
END:VEVENT
BEGIN:VEVENT
DTSTART;TZID=UTC:20190322T193000
DTEND;TZID=UTC:20190322T230000
DTSTAMP:20260419T211756
CREATED:20190220T130713Z
LAST-MODIFIED:20190220T130713Z
UID:11510-1553283000-1553295600@www.locallife247.co.uk
SUMMARY:1940s Night
DESCRIPTION:A night of wartime music with Katz Korner – period dress encouraged! Head back to the 40s with dancing\, a raffle\, tombola and supper. Tickets £12 with all proceeds to the Helen Marie charity – bookable on 01744 734155\, 01744 756298 or 07724 995298.
URL:https://www.locallife247.co.uk/event/1940s-night-2/
CATEGORIES:Area - St Helens,Area - Wigan,Arts & Music,Fundraisers,Heritage
END:VEVENT
BEGIN:VEVENT
DTSTART;TZID=UTC:20190320T183000
DTEND;TZID=UTC:20190320T210000
DTSTAMP:20260419T211756
CREATED:20190218T152843Z
LAST-MODIFIED:20190218T152843Z
UID:11484-1553106600-1553115600@www.locallife247.co.uk
SUMMARY:Fashion Show Fundraiser
DESCRIPTION:Raise money for HorseHeard charity with a fabulous fashion show and pop-up shops\, plus a charity raffle. Tickets £5\, available from Christine on 07835 918644 or cmworthington@btinternet.com
URL:https://www.locallife247.co.uk/event/fashion-show-fundraiser/
CATEGORIES:Fundraisers,Markets & Craft Fairs
END:VEVENT
BEGIN:VEVENT
DTSTART;TZID=UTC:20190316T193000
DTEND;TZID=UTC:20190316T230000
DTSTAMP:20260419T211756
CREATED:20190213T093928Z
LAST-MODIFIED:20190213T093928Z
UID:11367-1552764600-1552777200@www.locallife247.co.uk
SUMMARY:Coffee Day Fundraiser
DESCRIPTION:Raise money for the Croston Coffee Day with an evening of music\, dancing and entertainment from Mike Palmer. Tickets cost £10 and include a hotpot supper – email derek_alty@sky.com to book.
URL:https://www.locallife247.co.uk/event/coffee-day-fundraiser/
CATEGORIES:Arts & Music,Fundraisers
END:VEVENT
BEGIN:VEVENT
DTSTART;TZID=UTC:20190309T191500
DTEND;TZID=UTC:20190309T230000
DTSTAMP:20260419T211756
CREATED:20190129T131909Z
LAST-MODIFIED:20190129T131909Z
UID:11135-1552158900-1552172400@www.locallife247.co.uk
SUMMARY:Comedy Night
DESCRIPTION:Hilarious stand-up from Ste Porter\, Peter McCole\, Tanyalee Davis and Dave Twentyman\, plus curry or hotpot supper. Tickets £18\, all proceeds go to local sports clubs.
URL:https://www.locallife247.co.uk/event/comedy-night-2/
CATEGORIES:Area - St Helens,Arts & Music,Fundraisers
END:VEVENT
BEGIN:VEVENT
DTSTART;TZID=UTC:20190308T193000
DTEND;TZID=UTC:20190308T233000
DTSTAMP:20260419T211756
CREATED:20190213T100515Z
LAST-MODIFIED:20190213T100515Z
UID:11403-1552073400-1552087800@www.locallife247.co.uk
SUMMARY:Chairman's Quiz
DESCRIPTION:Test your trivia at the annual Chairman’s quiz and enjoy a hotpot supper. Tickets £7 with all proceeds to Rainford Girl Guiding – these must be pre-booked on 01744 884709 or Clerk@rainfordparishcouncil.com
URL:https://www.locallife247.co.uk/event/chairmans-quiz/
CATEGORIES:Area - St Helens,Fundraisers,Miscellaneous
END:VEVENT
BEGIN:VEVENT
DTSTART;TZID=UTC:20190308T190000
DTEND;TZID=UTC:20190308T220000
DTSTAMP:20260419T211756
CREATED:20190213T091325Z
LAST-MODIFIED:20190213T091325Z
UID:11359-1552071600-1552082400@www.locallife247.co.uk
SUMMARY:Family Games Night
DESCRIPTION:Win prizes playing Family Fortune and Play Your Cards Right – plus music\, a hotpot supper and lots of fun! Adults £7\, under-16s £3.50\, proceeds go to St. Wilfrid’s Church Lads and Girls Brigade. For tickets\, email thewilfs@mail.com or call 07716 753164 or 07956 359058.
URL:https://www.locallife247.co.uk/event/family-games-night/
CATEGORIES:Area - Wigan,Child Friendly,Fundraisers
END:VEVENT
BEGIN:VEVENT
DTSTART;TZID=UTC:20190306T103000
DTEND;TZID=UTC:20190306T120000
DTSTAMP:20260419T211756
CREATED:20190129T132149Z
LAST-MODIFIED:20190129T132149Z
UID:11138-1551868200-1551873600@www.locallife247.co.uk
SUMMARY:Coffee Morning
DESCRIPTION:Enjoy a scrumptious coffee morning and bring & buy sale in aid of the Alzheimer’s Society.
URL:https://www.locallife247.co.uk/event/coffee-morning-4/
CATEGORIES:Area - Wigan,Food & Drinks,Fundraisers
END:VEVENT
BEGIN:VEVENT
DTSTART;TZID=UTC:20190301T170000
DTEND;TZID=UTC:20190301T193000
DTSTAMP:20260419T211756
CREATED:20190129T161350Z
LAST-MODIFIED:20190129T161350Z
UID:11163-1551459600-1551468600@www.locallife247.co.uk
SUMMARY:Flower Power Exhibition
DESCRIPTION:See flower drawings donated by various celebrities\, including Jeremy Vine and Joanna Lumley at this fabulous exhibition to raise money for Derian House.
URL:https://www.locallife247.co.uk/event/flower-power-exhibition/
CATEGORIES:Arts & Music,Exhibitions & Talks,Fundraisers
END:VEVENT
BEGIN:VEVENT
DTSTART;TZID=UTC:20190216T193000
DTEND;TZID=UTC:20190216T230000
DTSTAMP:20260419T211756
CREATED:20190111T155408Z
LAST-MODIFIED:20190111T155408Z
UID:10976-1550345400-1550358000@www.locallife247.co.uk
SUMMARY:Charity Fundraiser
DESCRIPTION:Enjoy an exciting race night and disco\, with a charity raffle and auction to raise essential funds for grassroots football club Robin Park FC. Tickets £8 including hotpot supper\, and available from the Robin Park Facebook page.
URL:https://www.locallife247.co.uk/event/charity-fundraiser/
CATEGORIES:Area - Wigan,Fundraisers
END:VEVENT
BEGIN:VEVENT
DTSTART;TZID=UTC:20190105T210000
DTEND;TZID=UTC:20190105T235500
DTSTAMP:20260419T211756
CREATED:20181205T092639Z
LAST-MODIFIED:20181205T092639Z
UID:10583-1546722000-1546732500@www.locallife247.co.uk
SUMMARY:Ladies Night
DESCRIPTION:A fantastic night with entertainment by Ellie Ganza and her boys\, a raffle\, and plenty of stalls to treat yourself\, including The Body Shop and homemade cakes. Tickets £10\, proceeds to Variety the Children’s Charity.
URL:https://www.locallife247.co.uk/event/ladies-night-3/
CATEGORIES:Fundraisers
END:VEVENT
BEGIN:VEVENT
DTSTART;TZID=UTC:20181214T093000
DTEND;TZID=UTC:20181214T123000
DTSTAMP:20260419T211756
CREATED:20181121T145910Z
LAST-MODIFIED:20181121T145910Z
UID:10474-1544779800-1544790600@www.locallife247.co.uk
SUMMARY:Make A Difference Carols
DESCRIPTION:A carol concert supporting local causes with Team Chocolate Orange\, featuring performances from Holy Cross\, Billinge Chapel End\, Corpus Christi and Rainford Brook Lodge school choirs.
URL:https://www.locallife247.co.uk/event/make-difference-carols/
CATEGORIES:Area - St Helens,Arts & Music,Fundraisers,Seasonal
END:VEVENT
BEGIN:VEVENT
DTSTART;TZID=UTC:20181208T110000
DTEND;TZID=UTC:20181208T160000
DTSTAMP:20260419T211756
CREATED:20181017T152622Z
LAST-MODIFIED:20181017T152622Z
UID:10166-1544266800-1544284800@www.locallife247.co.uk
SUMMARY:Willowbrook Christmas Market
DESCRIPTION:Enjoy great stalls\, an amazing food court and see the Christmas donkeys before the kids see Santa in his grotto.
URL:https://www.locallife247.co.uk/event/willowbrook-christmas-market/
CATEGORIES:Area - St Helens,Fundraisers,Markets & Craft Fairs,Seasonal
END:VEVENT
BEGIN:VEVENT
DTSTART;TZID=UTC:20181125T110000
DTEND;TZID=UTC:20181125T170000
DTSTAMP:20260419T211756
CREATED:20180926T130546Z
LAST-MODIFIED:20180926T130546Z
UID:9925-1543143600-1543165200@www.locallife247.co.uk
SUMMARY:Sea Cadets Christmas Fayre
DESCRIPTION:Fun for all the family including Reiki taster sessions and aromatherapy\, Christmas gifts\, a raffle\, craft stalls\, refreshments and tombola. There’s also a chance for the kids to meet Santa.
URL:https://www.locallife247.co.uk/event/sea-cadets-christmas-fayre/
CATEGORIES:Area - St Helens,Fundraisers,Seasonal
END:VEVENT
BEGIN:VEVENT
DTSTART;TZID=UTC:20181122T120000
DTEND;TZID=UTC:20181122T140000
DTSTAMP:20260419T211756
CREATED:20180926T130009Z
LAST-MODIFIED:20180926T130009Z
UID:9915-1542888000-1542895200@www.locallife247.co.uk
SUMMARY:Charity Ladies' Lunch & Fashion Show
DESCRIPTION:Barbara’s of Standish host a fashion show and ladies’ lunch to raise money for State of Mind. Includes vocalist and MC Josh Adams and special guest soprano Jan Monroe. Tickets £36 including 3-course meal and wine on arrival.
URL:https://www.locallife247.co.uk/event/charity-ladies-lunch-fashion-show/
CATEGORIES:Area - Wigan,Food & Drinks,Fundraisers
END:VEVENT
BEGIN:VEVENT
DTSTART;TZID=UTC:20181117T083000
DTEND;TZID=UTC:20181117T160000
DTSTAMP:20260419T211756
CREATED:20180926T130309Z
LAST-MODIFIED:20180926T130309Z
UID:9920-1542443400-1542470400@www.locallife247.co.uk
SUMMARY:Fun Day Fundraiser
DESCRIPTION:A joint fundraising effort between Rainford in Bloom and CrossRoads invites you for a day of fun. There will be stalls offering bric-a-brac and cakes\, a raffle and tombola\, and a lunch of soup\, sandwiches and cakes.
URL:https://www.locallife247.co.uk/event/fun-day-fundraiser/
CATEGORIES:Area - St Helens,Fundraisers
END:VEVENT
BEGIN:VEVENT
DTSTART;TZID=UTC:20181116T190000
DTEND;TZID=UTC:20181116T210000
DTSTAMP:20260419T211756
CREATED:20180926T125649Z
LAST-MODIFIED:20180926T125756Z
UID:9913-1542394800-1542402000@www.locallife247.co.uk
SUMMARY:Christmas Fundraiser
DESCRIPTION:Attractions include flower arranging by June from Hartleys Garden Centre\, a live performance by local vocalist Leah Wallis\, Christmas stalls including cake\, veg and fancy goods to raise money for St. Thomas the Martyr Church. Tickets are £5 – call Kath McGuire on 01695 721038 to book.
URL:https://www.locallife247.co.uk/event/christmas-fundraiser/
CATEGORIES:Area - Wigan,Fundraisers
END:VEVENT
BEGIN:VEVENT
DTSTART;TZID=UTC:20181107T190000
DTEND;TZID=UTC:20181107T220000
DTSTAMP:20260419T211756
CREATED:20181017T153134Z
LAST-MODIFIED:20181017T153134Z
UID:10174-1541617200-1541628000@www.locallife247.co.uk
SUMMARY:Supper by Candlelight
DESCRIPTION:Willowbrook Hospice presents a magical evening. See the hospice gardens illuminated at night and enjoy a hotpot supper with apple pie and wine by candlelight. Tickets £10\, booking essential on 01744 453798 or from The Living Well.
URL:https://www.locallife247.co.uk/event/supper-by-candlelight/
CATEGORIES:Area - St Helens,Food & Drinks,Fundraisers
END:VEVENT
BEGIN:VEVENT
DTSTART;TZID=UTC:20181026T193000
DTEND;TZID=UTC:20181026T223000
DTSTAMP:20260419T211756
CREATED:20180910T140515Z
LAST-MODIFIED:20180910T140515Z
UID:9691-1540582200-1540593000@www.locallife247.co.uk
SUMMARY:Charity Fright Night
DESCRIPTION:Come along to the Mansion House for Halloween in support of Age UK! You’ll be in for a trick or treat with live entertainment\, a hot and cold buffet\, glass of prosecco on arrival and an unexpected surprise… Tickets cost £25\, email laurawalton@aukmm.org.uk for details.
URL:https://www.locallife247.co.uk/event/charity-fright-night/
CATEGORIES:Area - St Helens,Fundraisers,Seasonal
END:VEVENT
END:VCALENDAR