BEGIN:VCALENDAR
VERSION:2.0
PRODID:-//Local Life 247 - ECPv6.10.0//NONSGML v1.0//EN
CALSCALE:GREGORIAN
METHOD:PUBLISH
X-WR-CALNAME:Local Life 247
X-ORIGINAL-URL:https://www.locallife247.co.uk
X-WR-CALDESC:Events for Local Life 247
REFRESH-INTERVAL;VALUE=DURATION:PT1H
X-Robots-Tag:noindex
X-PUBLISHED-TTL:PT1H
BEGIN:VTIMEZONE
TZID:UTC
BEGIN:STANDARD
TZOFFSETFROM:+0000
TZOFFSETTO:+0000
TZNAME:UTC
DTSTART:20190101T000000
END:STANDARD
END:VTIMEZONE
BEGIN:VEVENT
DTSTART;TZID=UTC:20191113T100000
DTEND;TZID=UTC:20191113T150000
DTSTAMP:20260421T131711
CREATED:20190805T122205Z
LAST-MODIFIED:20190805T122205Z
UID:12785-1573639200-1573657200@www.locallife247.co.uk
SUMMARY:Business Expo Wigan
DESCRIPTION:Launch Events NW are pleased to announce the introduction of a brand new event to their business expo portfolio\, in partnership with the Greater Manchester Chamber of Commerce\, Business Expo Wigan\, provides businesses from Wigan and the surrounding area’s a chance to showcase their business and will take place on Wednesday 13th November 2019 at the DW Stadium.
URL:https://www.locallife247.co.uk/event/business-expo-wigan/
CATEGORIES:Area - All North West,Area - St Helens,Area - Wigan,Business,Exhibitions & Talks
ORGANIZER;CN="Nichola Howard":MAILTO:hello@launcheventsnw.co.uk
END:VEVENT
BEGIN:VEVENT
DTSTART;TZID=UTC:20191112T140000
DTEND;TZID=UTC:20191112T150000
DTSTAMP:20260421T131711
CREATED:20191008T103938Z
LAST-MODIFIED:20191008T103938Z
UID:13701-1573567200-1573570800@www.locallife247.co.uk
SUMMARY:Transport History Talk
DESCRIPTION:Local historian John Quirk presents a talk about the history of local transport. Free\, booking required on 01704 874177.
URL:https://www.locallife247.co.uk/event/transport-history-talk/
CATEGORIES:Exhibitions & Talks,Heritage
END:VEVENT
BEGIN:VEVENT
DTSTART;TZID=UTC:20191104T173000
DTEND;TZID=UTC:20191104T184500
DTSTAMP:20260421T131711
CREATED:20190905T101952Z
LAST-MODIFIED:20190905T101952Z
UID:13179-1572888600-1572893100@www.locallife247.co.uk
SUMMARY:Authors Evening
DESCRIPTION:Join local authors\, including Carol Fenlon\, in the celebration of Skelmersdale Writers. We are delighted to welcome all to enjoy this company in an informal setting. Friends of Skelmersdale Library will be providing refreshments throughout the evening; come and join us for a hot drink while listening to some breath taking writing and conversation. \nAll welcome. \nThis is a free event\, no ticket required.
URL:https://www.locallife247.co.uk/event/authors-evening/
CATEGORIES:Area - All North West,Arts & Music,Exhibitions & Talks
ORGANIZER;CN="Cassie Horner":MAILTO:cassie.horner@lancashire.gov.uk
END:VEVENT
BEGIN:VEVENT
DTSTART;TZID=UTC:20191104T100000
DTEND;TZID=UTC:20191104T110000
DTSTAMP:20260421T131711
CREATED:20191024T144544Z
LAST-MODIFIED:20191024T144544Z
UID:13964-1572861600-1572865200@www.locallife247.co.uk
SUMMARY:Famous People of Chorley Talk
DESCRIPTION:Local historian Ian Bagshaw delivers a talk about famous people from Chorley who you might not have heard of! Free entry.
URL:https://www.locallife247.co.uk/event/famous-people-of-chorley-talk/
CATEGORIES:Exhibitions & Talks,Heritage
END:VEVENT
BEGIN:VEVENT
DTSTART;TZID=UTC:20191101T103000
DTEND;TZID=UTC:20191101T113000
DTSTAMP:20260421T131711
CREATED:20191009T090149Z
LAST-MODIFIED:20191009T090149Z
UID:13726-1572604200-1572607800@www.locallife247.co.uk
SUMMARY:Meet the Author: Veronica Gibbs
DESCRIPTION:RSPCA worker and children’s author Veronica Gibbs presents her story ‘Tibbs Meets the Witch of Witchety Woods’. She’ll read extracts from the book and host a Q&A\, followed by a craft activity. Free entry\, but booking necessary at the venue.
URL:https://www.locallife247.co.uk/event/meet-the-author-veronica-gibbs/
CATEGORIES:Arts & Music,Child Friendly,Exhibitions & Talks
END:VEVENT
BEGIN:VEVENT
DTSTART;TZID=UTC:20191031T133000
DTEND;TZID=UTC:20191031T153000
DTSTAMP:20260421T131711
CREATED:20191010T150138Z
LAST-MODIFIED:20191010T150256Z
UID:13744-1572528600-1572535800@www.locallife247.co.uk
SUMMARY:Family History for Beginners
DESCRIPTION:In this 6 week course\, you will learn how to research your family history and trace your ancestors using websites and other genealogy resources. The course is for beginners or students with some previous experience and who need time each week to dedicate to research and recording family history. This event is free to all adults over 19\, but booking is required.
URL:https://www.locallife247.co.uk/event/family-history-for-beginners-2/
CATEGORIES:Area - Wigan,Exhibitions & Talks,Heritage
ORGANIZER;CN="Parbold Library":MAILTO:parbold.library@lancashire.gov.uk
END:VEVENT
BEGIN:VEVENT
DTSTART;TZID=UTC:20191031T133000
DTEND;TZID=UTC:20191031T153000
DTSTAMP:20260421T131711
CREATED:20190906T145631Z
LAST-MODIFIED:20190906T145631Z
UID:13189-1572528600-1572535800@www.locallife247.co.uk
SUMMARY:Family History for Beginners
DESCRIPTION:In this 6 week course\, you will learn how to research your family history and trace your ancestors using websites and other genealogy resources. The course is for beginners or students with some previous experience. You will learn about the process of tracing your family history\, the various sources of information and how to access these where possible. This event is for adults aged 19 and over and booking is required.
URL:https://www.locallife247.co.uk/event/family-history-for-beginners/
CATEGORIES:Area - Wigan,Exhibitions & Talks,Heritage
ORGANIZER;CN="Parbold LIbrary":MAILTO:parbold.library@lancashire.gov.uk
END:VEVENT
BEGIN:VEVENT
DTSTART;TZID=UTC:20191030T193000
DTEND;TZID=UTC:20191030T215000
DTSTAMP:20260421T131711
CREATED:20190919T111541Z
LAST-MODIFIED:20190919T111541Z
UID:13364-1572463800-1572472200@www.locallife247.co.uk
SUMMARY:Jack the Ripper: The Real Story
DESCRIPTION:Retired murder squad detective Trevor Marriott delves into the real truth behind the Jack the Ripper murders. Tickets £12 on 01704 533333.
URL:https://www.locallife247.co.uk/event/jack-the-ripper-the-real-story/
CATEGORIES:Exhibitions & Talks,Seasonal
END:VEVENT
BEGIN:VEVENT
DTSTART;TZID=UTC:20191030T140000
DTEND;TZID=UTC:20191030T160000
DTSTAMP:20260421T131711
CREATED:20190919T111431Z
LAST-MODIFIED:20190919T111431Z
UID:13362-1572444000-1572451200@www.locallife247.co.uk
SUMMARY:Ocean Plastics Talk
DESCRIPTION:Chris Glaze presents a talk on the damage caused by ocean plastics and how they harm marine life and coastal habitats. Entry £4 or £2 for children.
URL:https://www.locallife247.co.uk/event/ocean-plastics-talk/
CATEGORIES:Exhibitions & Talks,Outdoors
END:VEVENT
BEGIN:VEVENT
DTSTART;TZID=UTC:20191029T093000
DTEND;TZID=UTC:20191029T113000
DTSTAMP:20260421T131712
CREATED:20190808T104048Z
LAST-MODIFIED:20190808T104048Z
UID:12918-1572341400-1572348600@www.locallife247.co.uk
SUMMARY:LAL: Make the Most of Your Tablet
DESCRIPTION:This course will help you to understand the layout of the tablet you are using\, how it works\, how to maintain it and how to download apps to customise it to suit your life. What you will need to bring: your tablet if you have one\, but we also have tablets you can try if you do not have one of your own.
URL:https://www.locallife247.co.uk/event/lal-make-the-most-of-your-tablet/
CATEGORIES:Exhibitions & Talks
ORGANIZER;CN="Lancashire Adult Learning":MAILTO:skelmersdale.library@lancashire.gov.uk
END:VEVENT
BEGIN:VEVENT
DTSTART;TZID=UTC:20191025T110000
DTEND;TZID=UTC:20191025T170000
DTSTAMP:20260421T131712
CREATED:20190919T110115Z
LAST-MODIFIED:20190919T110115Z
UID:13334-1572001200-1572022800@www.locallife247.co.uk
SUMMARY:Formby in the Blitz
DESCRIPTION:This interactive performance explores historical stories of those evacuated from Liverpool and Bootle to Formby during the Blitz in 1941. Tickets £5 on 01704 878591\, meet at the noticeboard. Time slots from 11am.
URL:https://www.locallife247.co.uk/event/formby-in-the-blitz/
CATEGORIES:Exhibitions & Talks,Heritage,Outdoors
END:VEVENT
BEGIN:VEVENT
DTSTART;TZID=UTC:20191024T180000
DTEND;TZID=UTC:20191024T200000
DTSTAMP:20260421T131712
CREATED:20190919T114346Z
LAST-MODIFIED:20190919T114346Z
UID:13412-1571940000-1571947200@www.locallife247.co.uk
SUMMARY:Meet the Author: Paula Daly
DESCRIPTION:Thriller author Paula Daly discusses life in the Lake District and the new ITV drama based on her books\, plus refreshments and a free prize draw. Tickets £6\, £5 for library card holders or £3 concessions from the library.
URL:https://www.locallife247.co.uk/event/meet-the-author-paula-daly/
CATEGORIES:Area - St Helens,Arts & Music,Exhibitions & Talks
END:VEVENT
BEGIN:VEVENT
DTSTART;TZID=UTC:20191023T133000
DTEND;TZID=UTC:20191023T153000
DTSTAMP:20260421T131712
CREATED:20191021T143026Z
LAST-MODIFIED:20191021T143026Z
UID:13856-1571837400-1571844600@www.locallife247.co.uk
SUMMARY:Cancer Information Event
DESCRIPTION:Hosted by Healthwatch Wigan and Leigh\, WWL NHS Cancer Care Team\, & Macmillan Cancer Support. \nAn opportunity for patients\, their families\, & professionals to find out what support is available in the community\, & for you to tell us where there are gaps. We’d also like to hear what impact a cancer diagnosis has had on your mental health & what support you’ve received. To book\, email karen.wilson@healthwatchwiganandleigh.co.uk or Tel 01942 834666.
URL:https://www.locallife247.co.uk/event/cancer-information-event/
CATEGORIES:Area - Wigan,Exhibitions & Talks
ORGANIZER;CN="Karen Wilson":MAILTO:karen.wilson@healthwatchwiganandleigh.co.uk
END:VEVENT
BEGIN:VEVENT
DTSTART;TZID=UTC:20191019T100000
DTEND;TZID=UTC:20191019T110000
DTSTAMP:20260421T131712
CREATED:20190912T104325Z
LAST-MODIFIED:20190912T104325Z
UID:13271-1571479200-1571482800@www.locallife247.co.uk
SUMMARY:Stay Safe Online
DESCRIPTION:Find out how to keep your children safe online by setting parental controls on tablets and smartphones.
URL:https://www.locallife247.co.uk/event/stay-safe-online/
CATEGORIES:Exhibitions & Talks
END:VEVENT
BEGIN:VEVENT
DTSTART;TZID=UTC:20191017T143000
DTEND;TZID=UTC:20191017T153000
DTSTAMP:20260421T131712
CREATED:20190927T123428Z
LAST-MODIFIED:20190927T123428Z
UID:13516-1571322600-1571326200@www.locallife247.co.uk
SUMMARY:Friends of Tarleton Library Talk
DESCRIPTION:‘Modern Slavery – More Widespread Than You Think – Closer Than You Imagine’ – Awareness-raising talk by Rev Brian Gregory of the Friendship Foundation Charity. Free\, refreshments provided.
URL:https://www.locallife247.co.uk/event/friends-of-tarleton-library-talk-2/
CATEGORIES:Exhibitions & Talks
ORGANIZER;CN="vivien mumford":MAILTO:vivienmumford55@btinternet.com
END:VEVENT
BEGIN:VEVENT
DTSTART;TZID=UTC:20191016T100000
DTEND;TZID=UTC:20191016T110000
DTSTAMP:20260421T131712
CREATED:20190912T082002Z
LAST-MODIFIED:20190912T082002Z
UID:13251-1571220000-1571223600@www.locallife247.co.uk
SUMMARY:eBooks and eAudiobooks on your tablet
DESCRIPTION:Ever wanted to know how to use the Libraries Borrowbox to download eBooks and eAudiobooks. Well come along with your tablet and library card and we’ll get you started.
URL:https://www.locallife247.co.uk/event/ebooks-and-eaudiobooks-on-your-tablet/
CATEGORIES:Exhibitions & Talks
ORGANIZER;CN="Ormskirk Library":MAILTO:ormskirk.library@lancashire.gov.uk
END:VEVENT
BEGIN:VEVENT
DTSTART;TZID=UTC:20191015T150000
DTEND;TZID=UTC:20191015T160000
DTSTAMP:20260421T131712
CREATED:20190912T104006Z
LAST-MODIFIED:20190912T104006Z
UID:13269-1571151600-1571155200@www.locallife247.co.uk
SUMMARY:Get Healthy Online
DESCRIPTION:Pop in to learn how to set up emergency medical information on your smartphone and how to access health information and services online.
URL:https://www.locallife247.co.uk/event/get-healthy-online/
CATEGORIES:Exhibitions & Talks
END:VEVENT
BEGIN:VEVENT
DTSTART;TZID=UTC:20191015T103000
DTEND;TZID=UTC:20191015T113000
DTSTAMP:20260421T131712
CREATED:20190927T123646Z
LAST-MODIFIED:20190927T123646Z
UID:13513-1571135400-1571139000@www.locallife247.co.uk
SUMMARY:Friends of Tarleton Library Monthly Talk
DESCRIPTION:‘Plants to Extend the Season’ – Talk by Marguerite Hughes of Meadow View Plants\, Tarleton. £1 donation requested. Refreshments available from 10am.
URL:https://www.locallife247.co.uk/event/friends-of-tarleton-library-monthly-talk/
CATEGORIES:Exhibitions & Talks
ORGANIZER;CN="vivien mumford":MAILTO:vivienmumford55@btinternet.com
END:VEVENT
BEGIN:VEVENT
DTSTART;TZID=UTC:20191014T150000
DTEND;TZID=UTC:20191014T160000
DTSTAMP:20260421T131712
CREATED:20190912T103852Z
LAST-MODIFIED:20190912T103852Z
UID:13267-1571065200-1571068800@www.locallife247.co.uk
SUMMARY:Virtual Ancient Rome
DESCRIPTION:Travel back in time with us to explore the ancient civilisation of Rome with the University of Reading’s digital model. Walk around the magnificent Coliseum all without leaving the library!
URL:https://www.locallife247.co.uk/event/virtual-ancient-rome/
CATEGORIES:Exhibitions & Talks,Heritage
END:VEVENT
BEGIN:VEVENT
DTSTART;TZID=UTC:20191011T100000
DTEND;TZID=UTC:20191011T190000
DTSTAMP:20260421T131712
CREATED:20190702T081806Z
LAST-MODIFIED:20190702T081912Z
UID:12606-1570788000-1570820400@www.locallife247.co.uk
SUMMARY:Past and Present Exhibition
DESCRIPTION:An insight into Eccleston village life through the years. The exhibition includes fashion\, local industries\, general memorabilia\, photographs\, local documents and 1st and 2nd World War displays. Proceeds to St. Catherine’s Hospice and EMC. Light Refreshments. Admission Adults £2.50\nFriday and Saturday 11th & 12th October 10:00am – 7:00pm\, Sunday 13th October 12:00 noon – 5:00pm.\nEccleston Methodist Church\, The Green\, Eccleston\, Chorley. PR7 5TQ
URL:https://www.locallife247.co.uk/event/past-and-present-exhibition/
CATEGORIES:Exhibitions & Talks,Heritage
ORGANIZER;CN="Mrs Jacqueline Hurst":MAILTO:jahurst88@aol.com
END:VEVENT
BEGIN:VEVENT
DTSTART;TZID=UTC:20191010T190000
DTEND;TZID=UTC:20191010T213000
DTSTAMP:20260421T131712
CREATED:20190830T104848Z
LAST-MODIFIED:20190830T104848Z
UID:13091-1570734000-1570743000@www.locallife247.co.uk
SUMMARY:Lancashire Night
DESCRIPTION:Sid Calderbank and Mark Dowding present a night of traditional Lancashire entertainment\, along with a hotpot supper and drinks. Tickets £6 from the library.
URL:https://www.locallife247.co.uk/event/lancashire-night-2/
CATEGORIES:Exhibitions & Talks,Food & Drinks,Heritage
END:VEVENT
BEGIN:VEVENT
DTSTART;TZID=UTC:20191010T140000
DTEND;TZID=UTC:20191010T153000
DTSTAMP:20260421T131712
CREATED:20190912T082132Z
LAST-MODIFIED:20190912T082132Z
UID:13248-1570716000-1570721400@www.locallife247.co.uk
SUMMARY:Ormskirk Library World Mental Health Day
DESCRIPTION:﻿Lancashire Mind will be present with an information stand and there will also be a series of relaxing activities such as Mindful colouring\, board games and puzzles. \nAll welcome\, no booking required.
URL:https://www.locallife247.co.uk/event/ormskirk-library-world-mental-health-day/
CATEGORIES:Exhibitions & Talks,Miscellaneous
ORGANIZER;CN="Ormskirk Library":MAILTO:ormskirk.library@lancashire.gov.uk
END:VEVENT
BEGIN:VEVENT
DTSTART;TZID=UTC:20191010T103000
DTEND;TZID=UTC:20191010T110000
DTSTAMP:20260421T131712
CREATED:20190912T103724Z
LAST-MODIFIED:20190912T103724Z
UID:13265-1570703400-1570705200@www.locallife247.co.uk
SUMMARY:Brain Boosters Online
DESCRIPTION:Join us for a special online session of Brain Boosters\, where we will be playing some brain training games.
URL:https://www.locallife247.co.uk/event/brain-boosters-online/
CATEGORIES:Community,Exhibitions & Talks
END:VEVENT
BEGIN:VEVENT
DTSTART;TZID=UTC:20191009T140000
DTEND;TZID=UTC:20191009T143000
DTSTAMP:20260421T131712
CREATED:20190910T080359Z
LAST-MODIFIED:20190910T080359Z
UID:13228-1570629600-1570631400@www.locallife247.co.uk
SUMMARY:Internet Learning Talk
DESCRIPTION:Come along to an informal talk presented by West Lancashire CVS and Citizens Advice Lancashire. Explore fears and barriers related to going on the internet. Learn about changes made to local public services online and chat about energy deals.
URL:https://www.locallife247.co.uk/event/internet-learning-talk/
CATEGORIES:Exhibitions & Talks
ORGANIZER;CN="Burscough Library":MAILTO:Burscough.Library@lancashire.gov.uk
END:VEVENT
BEGIN:VEVENT
DTSTART;TZID=UTC:20191009T100000
DTEND;TZID=UTC:20191009T120000
DTSTAMP:20260421T131712
CREATED:20190912T082244Z
LAST-MODIFIED:20190912T082244Z
UID:13245-1570615200-1570622400@www.locallife247.co.uk
SUMMARY:Libraries Week 2019 - Digital Event
DESCRIPTION:10am -12pm – Engaging Communities through Digital Technology \nEver wanted to go online to access Local Council information but not sure how or simply want to know more? Then come along to our Libraries Week digital event and find out how you can access West Lancashire Council Services online. \n11am -11:45am – NatWest Talk on Online Security \nIf you have any concerns about online security\, drop in to a free talk from a NatWest advisor.
URL:https://www.locallife247.co.uk/event/libraries-week-2019-digital-event/
CATEGORIES:Exhibitions & Talks
ORGANIZER;CN="Ormskirk Library":MAILTO:ormskirk.library@lancashire.gov.uk
END:VEVENT
BEGIN:VEVENT
DTSTART;TZID=UTC:20191008T150000
DTEND;TZID=UTC:20191008T160000
DTSTAMP:20260421T131712
CREATED:20190912T103606Z
LAST-MODIFIED:20190912T103606Z
UID:13263-1570546800-1570550400@www.locallife247.co.uk
SUMMARY:Reading Surgery
DESCRIPTION:Pop in to see us to find out about useful websites for finding your next read\, and how to use Borrowbox to download eBooks and Audiobooks.
URL:https://www.locallife247.co.uk/event/reading-surgery/
CATEGORIES:Exhibitions & Talks
END:VEVENT
BEGIN:VEVENT
DTSTART;TZID=UTC:20191008T140000
DTEND;TZID=UTC:20191008T150000
DTSTAMP:20260421T131712
CREATED:20190919T110316Z
LAST-MODIFIED:20190919T110316Z
UID:13338-1570543200-1570546800@www.locallife247.co.uk
SUMMARY:Gems in the Dunes
DESCRIPTION:Fiona Sunners presents a talk on the work done by the Back from the Brink project on Formby sand dunes. Free\, booking required on 01704 874177.
URL:https://www.locallife247.co.uk/event/gems-in-the-dunes/
CATEGORIES:Exhibitions & Talks
END:VEVENT
BEGIN:VEVENT
DTSTART;TZID=UTC:20191007T174500
DTEND;TZID=UTC:20191007T184500
DTSTAMP:20260421T131712
CREATED:20190905T083151Z
LAST-MODIFIED:20190905T083151Z
UID:13173-1570470300-1570473900@www.locallife247.co.uk
SUMMARY:Evening with Dean Fraser
DESCRIPTION:The Quantum Poet performs his 247 Poems Show\, followed by a Q&A and book signing. Free entry.
URL:https://www.locallife247.co.uk/event/evening-with-dean-fraser/
CATEGORIES:Arts & Music,Exhibitions & Talks
END:VEVENT
BEGIN:VEVENT
DTSTART;TZID=UTC:20191007T173000
DTEND;TZID=UTC:20191007T183000
DTSTAMP:20260421T131712
CREATED:20190910T080520Z
LAST-MODIFIED:20190910T080520Z
UID:13225-1570469400-1570473000@www.locallife247.co.uk
SUMMARY:In Celebration of Poetry
DESCRIPTION:Come and enjoy the poetry of local author and poet\, Christopher Ryley at Burscough Library. Christopher will talk about how he started writing and will share some of his thoughts and ideas on what has\, and what continues to inspire him.
URL:https://www.locallife247.co.uk/event/in-celebration-of-poetry/
CATEGORIES:Arts & Music,Exhibitions & Talks
ORGANIZER;CN="Burscough Library":MAILTO:Burscough.Library@lancashire.gov.uk
END:VEVENT
BEGIN:VEVENT
DTSTART;TZID=UTC:20191007T150000
DTEND;TZID=UTC:20191007T160000
DTSTAMP:20260421T131712
CREATED:20190912T102505Z
LAST-MODIFIED:20190912T102505Z
UID:13261-1570460400-1570464000@www.locallife247.co.uk
SUMMARY:Digital Marketing for Business
DESCRIPTION:Join Nadia Rattoo\, a Senior Lecturer in Digital Marketing from UCLan\, to learn how to utilise social media and digital platforms to market your business e.g. analytics\, and apps.
URL:https://www.locallife247.co.uk/event/digital-marketing-for-business/
CATEGORIES:Exhibitions & Talks
END:VEVENT
END:VCALENDAR