BEGIN:VCALENDAR
VERSION:2.0
PRODID:-//Local Life 247 - ECPv6.10.0//NONSGML v1.0//EN
CALSCALE:GREGORIAN
METHOD:PUBLISH
X-WR-CALNAME:Local Life 247
X-ORIGINAL-URL:https://www.locallife247.co.uk
X-WR-CALDESC:Events for Local Life 247
REFRESH-INTERVAL;VALUE=DURATION:PT1H
X-Robots-Tag:noindex
X-PUBLISHED-TTL:PT1H
BEGIN:VTIMEZONE
TZID:UTC
BEGIN:STANDARD
TZOFFSETFROM:+0000
TZOFFSETTO:+0000
TZNAME:UTC
DTSTART:20200101T000000
END:STANDARD
END:VTIMEZONE
BEGIN:VEVENT
DTSTART;TZID=UTC:20200305T183000
DTEND;TZID=UTC:20200305T193000
DTSTAMP:20260420T220642
CREATED:20200205T141108Z
LAST-MODIFIED:20200205T141108Z
UID:15041-1583433000-1583436600@www.locallife247.co.uk
SUMMARY:Meet the Author: Ian McFadyen
DESCRIPTION:Liverpool-born crime author Ian McFadyen discusses his latest book ‘Blood on His Hands’. Free\, tickets bookable at the venue.
URL:https://www.locallife247.co.uk/event/meet-the-author-ian-mcfadyen/
CATEGORIES:Arts & Music,Exhibitions & Talks
END:VEVENT
BEGIN:VEVENT
DTSTART;TZID=UTC:20200305T130000
DTEND;TZID=UTC:20200305T140000
DTSTAMP:20260420T220642
CREATED:20200219T144539Z
LAST-MODIFIED:20200219T144539Z
UID:15337-1583413200-1583416800@www.locallife247.co.uk
SUMMARY:Crawford Family Talk
DESCRIPTION:Ripton Lindsay gives a talk on the Lindsay family\, exploring the life of Alexander Lindsay\, 23rd Earl of Crawford. Entry £3\, bookable on 01942 828128.
URL:https://www.locallife247.co.uk/event/crawford-family-talk/
CATEGORIES:Area - Wigan,Exhibitions & Talks,Heritage
END:VEVENT
BEGIN:VEVENT
DTSTART;TZID=UTC:20200304T190000
DTEND;TZID=UTC:20200304T210000
DTSTAMP:20260420T220642
CREATED:20200219T144425Z
LAST-MODIFIED:20200219T144425Z
UID:15335-1583348400-1583355600@www.locallife247.co.uk
SUMMARY:Vindolanda Talk
DESCRIPTION:Hear about the recent excavations of the Roman Fort at Vindolanda with Andrew Birley and the Wigan Archaeological Society. Tickets £5 on Eventbrite or on 01257 402342.
URL:https://www.locallife247.co.uk/event/vindolanda-talk/
CATEGORIES:Area - Wigan,Clubs & Societies,Exhibitions & Talks,Heritage
END:VEVENT
BEGIN:VEVENT
DTSTART;TZID=UTC:20200304T100000
DTEND;TZID=UTC:20200304T120000
DTSTAMP:20260420T220642
CREATED:20200106T091416Z
LAST-MODIFIED:20200106T091416Z
UID:14411-1583316000-1583323200@www.locallife247.co.uk
SUMMARY:Canal History Talk at Wigan U3A Meeting
DESCRIPTION:Our guest speaker is William Froggatt\, NW heritage adviser for the Canal and River Trust. His talk is ‘Construction of Leeds & Liverpool Canal – the Wigan section’. \nWigan U3A brings together retired local people to share their interests and enjoy volunteer-led activities at a variety of local venues. \nProspective members are welcome to attend two sessions before joining\, so why not come and see what we’re all about! Tea and coffee £1 per cup.
URL:https://www.locallife247.co.uk/event/canal-history-talk-at-wigan-u3a-meeting/
CATEGORIES:Area - Wigan,Clubs & Societies,Exhibitions & Talks,Heritage
END:VEVENT
BEGIN:VEVENT
DTSTART;TZID=UTC:20200303T193000
DTEND;TZID=UTC:20200303T220000
DTSTAMP:20260420T220642
CREATED:20200212T110751Z
LAST-MODIFIED:20200212T110751Z
UID:15116-1583263800-1583272800@www.locallife247.co.uk
SUMMARY:Becconsall Flower Club - March Meeting
DESCRIPTION:Flower demonstration – ‘Root and Branch’ by Derek Morgan of Morecambe.\nWe are a friendly club and visitors are always welcome.
URL:https://www.locallife247.co.uk/event/becconsall-flower-club-march-meeting/
CATEGORIES:Clubs & Societies,Exhibitions & Talks
ORGANIZER;CN="Val Donaldson":MAILTO:valariedonaldsonuk@yahoo.co.uk
END:VEVENT
BEGIN:VEVENT
DTSTART;TZID=UTC:20200303T193000
DTEND;TZID=UTC:20200303T220000
DTSTAMP:20260420T220642
CREATED:20200131T104021Z
LAST-MODIFIED:20200131T104021Z
UID:14953-1583263800-1583272800@www.locallife247.co.uk
SUMMARY:Lathom Park Trust AGM with Guest Speaker
DESCRIPTION:Lathom Park Trust will hold the 17th AGM on Tuesday 3rd March 2020. The guest speaker is a community curator from the Shakespeare Theatre North project at Prescot. Admission is free to members and guests are welcome for a small (£1 donation). The talk will commence at the conclusion of the AGM business\, approx 8pm.
URL:https://www.locallife247.co.uk/event/lathom-park-trust-agm-with-guest-speaker/
LOCATION:The Ellerbrook Suite\, Briars Hall\, Briars Lane\, Lathom near Ormskirk\, L40 5TH
CATEGORIES:Arts & Music,Exhibitions & Talks
ORGANIZER;CN="Dot Broady-Hawkes":MAILTO:secretary-lathomparktrust@outlook.com
END:VEVENT
BEGIN:VEVENT
DTSTART;TZID=UTC:20200303T143000
DTEND;TZID=UTC:20200303T153000
DTSTAMP:20260420T220642
CREATED:20200110T090655Z
LAST-MODIFIED:20200110T090655Z
UID:14592-1583245800-1583249400@www.locallife247.co.uk
SUMMARY:Friends' Special Event
DESCRIPTION:‘Local Astronomers: Jeremiah Horrocks and William Lassell’ by Southport Astronomy Society. Learn about these two celebrated local astronomers\, including account of visit to Carr House Bretherton\, where the young Jeremiah Horrocks observed the Transit of Venus. Free\, no need to book. Small donation requested for refreshments.
URL:https://www.locallife247.co.uk/event/friends-special-event/
CATEGORIES:Exhibitions & Talks
ORGANIZER;CN="vivien mumford":MAILTO:vivienmumford55@btinternet.com
END:VEVENT
BEGIN:VEVENT
DTSTART;TZID=UTC:20200303T140000
DTEND;TZID=UTC:20200303T160000
DTSTAMP:20260420T220642
CREATED:20200214T130709Z
LAST-MODIFIED:20200214T130736Z
UID:15202-1583244000-1583251200@www.locallife247.co.uk
SUMMARY:Howard Pool on George Gershwin's Music
DESCRIPTION:Tuesday\, March 5\, 2pm\nHoward Pool\, with slides\, will give a talk on George Gershwin and his music. Visitors are very welcome.\nSouthport Over-50 Friendship Centre\, Lord St. West United Church Hall\, Southport\, PR8 2BH
URL:https://www.locallife247.co.uk/event/howard-pool-on-george-gershwin-s-music/
CATEGORIES:Arts & Music,Exhibitions & Talks,Heritage
ORGANIZER;CN="Brenda Watson":MAILTO:bwatsonsp@outlook.com
END:VEVENT
BEGIN:VEVENT
DTSTART;TZID=UTC:20200302T194500
DTEND;TZID=UTC:20200302T220000
DTSTAMP:20260420T220642
CREATED:20200108T134746Z
LAST-MODIFIED:20200108T134746Z
UID:14527-1583178300-1583186400@www.locallife247.co.uk
SUMMARY:'Japan and Beyond' Talk & Presentation
DESCRIPTION:Southport Photographic Society have invited award winning Alan and Julie Walker to share their knowledge and passion for landscape and nature photography. Their talk/presentation captures wildlife in the cold and snow in Japan\, dusty Kalahari Desert\, Polar Bears in Canada and Snow Hares in Scottish Cairngorms. Price on the Door £4.00 inc. tea/coffee and biscuits. Please come along and join us.
URL:https://www.locallife247.co.uk/event/japan-and-beyond-talk-presentation/
CATEGORIES:Clubs & Societies,Exhibitions & Talks
ORGANIZER;CN="Mrs M Powley":MAILTO:president@southportphotographic.co.uk
END:VEVENT
BEGIN:VEVENT
DTSTART;TZID=UTC:20200302T193000
DTEND;TZID=UTC:20200302T210000
DTSTAMP:20260420T220642
CREATED:20200212T111026Z
LAST-MODIFIED:20200212T111026Z
UID:15104-1583177400-1583182800@www.locallife247.co.uk
SUMMARY:The Crystal Palace & Great Exhibition
DESCRIPTION:Speaker David Hill presents a talk on the planning and building of the amazing Crystal Palace and the world’s first international exhibition.\nVisitors £3.00\nStudents free of charge
URL:https://www.locallife247.co.uk/event/the-crystal-palace-great-exhibition/
CATEGORIES:Area - All North West,Exhibitions & Talks,Heritage
ORGANIZER;CN="Stephen Balenski":MAILTO:stephenbalenski@gmail.com
END:VEVENT
BEGIN:VEVENT
DTSTART;TZID=UTC:20200301T180000
DTEND;TZID=UTC:20200301T210000
DTSTAMP:20260420T220642
CREATED:20200123T114749Z
LAST-MODIFIED:20200123T114749Z
UID:14880-1583085600-1583096400@www.locallife247.co.uk
SUMMARY:Meet Andy Briggs
DESCRIPTION:Author and film director Andy Briggs presents a talk about his career path and a screening of his critically acclaimed film Crowhurst\, followed by a Q&A. Tickets £3-£5 at www.southportbijoucinema.co.uk or from the venue.
URL:https://www.locallife247.co.uk/event/meet-andy-briggs/
CATEGORIES:Arts & Music,Exhibitions & Talks,Theatre & Film
END:VEVENT
BEGIN:VEVENT
DTSTART;TZID=UTC:20200301T103000
DTEND;TZID=UTC:20200301T123000
DTSTAMP:20260420T220642
CREATED:20200212T160232Z
LAST-MODIFIED:20200212T160232Z
UID:15154-1583058600-1583065800@www.locallife247.co.uk
SUMMARY:Mafia to Minister Talk
DESCRIPTION:Nigael Lewis\, an atheist for 35 years\, thought the Mafia could help him reach his goals – then he encountered God. Come and hear his amazing testimony; more details on 01695 623212.
URL:https://www.locallife247.co.uk/event/mafia-to-minister-talk/
CATEGORIES:Area - St Helens,Area - Wigan,Exhibitions & Talks,Religious
END:VEVENT
BEGIN:VEVENT
DTSTART;TZID=UTC:20200228T160000
DTEND;TZID=UTC:20200301T150000
DTSTAMP:20260420T220642
CREATED:20200224T093215Z
LAST-MODIFIED:20200224T093215Z
UID:15379-1582905600-1583074800@www.locallife247.co.uk
SUMMARY:Writers' Weekend in Southport
DESCRIPTION:A Writers’ Weekend For You!\nFriday 28th February 2020 to Sunday 1st March 2020\nGot a cherished dream to write and be published?\nThis weekend will give you practical guidance and encouragement to get started. It’s also for those who have already started but need to know the next step. A weekend not to be missed.\nDay Attendees £130 including meal or from £214pp course fees and full board.\nwww.bowdenlodge.co.uk 01704 543531
URL:https://www.locallife247.co.uk/event/writers-weekend-in-southport/
LOCATION:The Bowden Lodge\, 18 Albert Road\, Southport\, PR9 0LE
CATEGORIES:Area - All North West,Arts & Music,Exhibitions & Talks
ORGANIZER;CN="Andrew &amp%3B Jane Gibbs":MAILTO:enquiries@bowdenlodge.co.uk
END:VEVENT
BEGIN:VEVENT
DTSTART;TZID=UTC:20200227T193000
DTEND;TZID=UTC:20200227T213000
DTSTAMP:20260420T220642
CREATED:20200102T131700Z
LAST-MODIFIED:20200102T131700Z
UID:14358-1582831800-1582839000@www.locallife247.co.uk
SUMMARY:Newton Le Willows Gardeners' Association
DESCRIPTION:Talk & Demonstration. Marcus Chilton-Jones\, the Curator of the new RHS Garden Bridgewater\, will show the plans and explain the progress from the viewpoint of a horticulturaist specialist perspective.
URL:https://www.locallife247.co.uk/event/newton-le-willows-gardeners-association-5/
CATEGORIES:Area - All North West,Area - St Helens,Clubs & Societies,Exhibitions & Talks,Heritage,Miscellaneous,Outdoors,Volunteering
ORGANIZER;CN="Silvana Briers":MAILTO:nlwga@jewellerybysilvana.co.uk
END:VEVENT
BEGIN:VEVENT
DTSTART;TZID=UTC:20200224T193000
DTEND;TZID=UTC:20200224T210000
DTSTAMP:20260420T220642
CREATED:20200124T102229Z
LAST-MODIFIED:20200124T102303Z
UID:14883-1582572600-1582578000@www.locallife247.co.uk
SUMMARY:Flower Arranging Demonstration
DESCRIPTION:Maghull and District Flower Club host a flower arranging presentation by Anne Houghton from Heswall. \nMonday 24th February at 7.30pm \n£5 including tea and biscuits. \nRaffle \nWe are a friendly club and promise an entertaining and informative evening and if you would like to join as a member you would be very welcome. \nFor further information telephone Pauline 0151 526 5755 or Sue 0151 526 6869. \nSt. George’s Social Centre\, Station Road\, Maghull\, L31 3DF
URL:https://www.locallife247.co.uk/event/flower-arranging-demonstration/
CATEGORIES:Clubs & Societies,Exhibitions & Talks
ORGANIZER;CN="PAULINE WALKER":MAILTO:pc.reklaw27@gmail.com
END:VEVENT
BEGIN:VEVENT
DTSTART;TZID=UTC:20200220T180000
DTEND;TZID=UTC:20200220T193000
DTSTAMP:20260420T220642
CREATED:20191218T121920Z
LAST-MODIFIED:20191218T121920Z
UID:14343-1582221600-1582227000@www.locallife247.co.uk
SUMMARY:Rails to the Lancashire Coast.
DESCRIPTION:The Friends of Eccleston Library are promoting an illustrated talk by local historian\, Steve Williams. There will also be a wide selection of quality secondhand railway and transport books for sale (not ex-Library stock). Free entry but pre-booking at the library is recommended.
URL:https://www.locallife247.co.uk/event/rails-to-the-lancashire-coast/
CATEGORIES:Exhibitions & Talks,Heritage
ORGANIZER;CN="Bill Mason":MAILTO:friendsofecclestonlibrary@btinternet.com
END:VEVENT
BEGIN:VEVENT
DTSTART;TZID=UTC:20200218T103000
DTEND;TZID=UTC:20200218T113000
DTSTAMP:20260420T220642
CREATED:20200110T091131Z
LAST-MODIFIED:20200110T091131Z
UID:14589-1582021800-1582025400@www.locallife247.co.uk
SUMMARY:Friends' Monthly Talk
DESCRIPTION:Informative and fun talk by Stuart McNulty ‘A Brief History of Liverpool and the Humour of its People’. £1 donation requested. refreshments available from 10am. No need to book.
URL:https://www.locallife247.co.uk/event/friends-monthly-talk-2/
CATEGORIES:Exhibitions & Talks,Heritage
ORGANIZER;CN="vivien mumford":MAILTO:vivienmumford55@btinternet.com
END:VEVENT
BEGIN:VEVENT
DTSTART;TZID=UTC:20200218T100000
DTEND;TZID=UTC:20200218T110000
DTSTAMP:20260420T220642
CREATED:20200108T140226Z
LAST-MODIFIED:20200108T140226Z
UID:14551-1582020000-1582023600@www.locallife247.co.uk
SUMMARY:Squirrel Spotting
DESCRIPTION:Hear top tips for spotting the famous red squirrels\, build a giant drey and learn more about the eating habits of local wildlife. You can also make your own squirrel souvenir to take home. Tickets £3 on 03442 491895.
URL:https://www.locallife247.co.uk/event/squirrel-spotting/
CATEGORIES:Child Friendly,Exhibitions & Talks,Outdoors
END:VEVENT
BEGIN:VEVENT
DTSTART;TZID=UTC:20200217T193000
DTEND;TZID=UTC:20200217T210000
DTSTAMP:20260420T220642
CREATED:20200212T111419Z
LAST-MODIFIED:20200212T111419Z
UID:15101-1581967800-1581973200@www.locallife247.co.uk
SUMMARY:Quaker Burial Grounds
DESCRIPTION:Speaker Chris Skidmore presents a talk that describes the history of Quaker burial practices over the past 350 years using a number of specific examples from the north of England.\nVisitors £3.00.\nStudents free of charge
URL:https://www.locallife247.co.uk/event/quaker-burial-grounds/
LOCATION:Four Lane Ends Mission\, Skelmersdale Road\, Bickerstaffe\, Ormskirk\, L39 0EZ
CATEGORIES:Area - All North West,Clubs & Societies,Community,Exhibitions & Talks,Heritage
ORGANIZER;CN="Stephen Balenski":MAILTO:stephenbalenski@gmail.com
END:VEVENT
BEGIN:VEVENT
DTSTART;TZID=UTC:20200213T193000
DTEND;TZID=UTC:20200213T210000
DTSTAMP:20260420T220642
CREATED:20200108T140415Z
LAST-MODIFIED:20200108T140415Z
UID:14553-1581622200-1581627600@www.locallife247.co.uk
SUMMARY:Gardens Talk
DESCRIPTION:Join Formby Civic Society as Margaret and Geoff Fletcher present a talk on their involvement in the National Gardens Scheme\, with a charity plant sale afterwards. Free for members\, visitors £2 – email chairman@formbycivicsociety.org.uk for details.
URL:https://www.locallife247.co.uk/event/gardens-talk/
CATEGORIES:Clubs & Societies,Community,Exhibitions & Talks,Miscellaneous
END:VEVENT
BEGIN:VEVENT
DTSTART;TZID=UTC:20200212T123000
DTEND;TZID=UTC:20200212T140000
DTSTAMP:20260420T220642
CREATED:20200109T152938Z
LAST-MODIFIED:20200109T152938Z
UID:14580-1581510600-1581516000@www.locallife247.co.uk
SUMMARY:Travelling Fairgrounds Talk
DESCRIPTION:Garth Latham presents ‘Ticket to Ride’\, a talk on traveling fairgrounds of the UK. Plus enjoy lunch and musical entertainment! More info on 01772 816727.
URL:https://www.locallife247.co.uk/event/travelling-fairgrounds-talk/
CATEGORIES:Clubs & Societies,Exhibitions & Talks,Food & Drinks
END:VEVENT
BEGIN:VEVENT
DTSTART;TZID=UTC:20200210T194500
DTEND;TZID=UTC:20200210T220000
DTSTAMP:20260420T220642
CREATED:20200108T135244Z
LAST-MODIFIED:20200109T094349Z
UID:14524-1581363900-1581372000@www.locallife247.co.uk
SUMMARY:Talk & Presentation on Nature Photography
DESCRIPTION:Monday 10th February 7.45pm \nSouthport Photographic Society have invited talented local wildlife photographer Mr. Roy Rimmer to share his knowledge and passion for nature. Entry on the Door £4.00 inc tea/coffee and biscuits. \nPlease come along to New Hall\, Emmanuel Road\, Cambridge Road\, Southport\, PR9 9PR 7.30pm for 7.45pm start.
URL:https://www.locallife247.co.uk/event/talkpresentation-on-nature-photography/
CATEGORIES:Arts & Music,Clubs & Societies,Exhibitions & Talks
ORGANIZER;CN="Mrs M Powley":MAILTO:president@southportphotographic.co.uk
END:VEVENT
BEGIN:VEVENT
DTSTART;TZID=UTC:20200208T193000
DTEND;TZID=UTC:20200208T213000
DTSTAMP:20260420T220642
CREATED:20191126T155658Z
LAST-MODIFIED:20191126T155658Z
UID:14268-1581190200-1581197400@www.locallife247.co.uk
SUMMARY:Kamchatka and the Ring of Fire
DESCRIPTION:Audio-visual presentation by Colin and Rhona Balls. A journey to the far east of Russia to an area known as the Ring of Fire. Volcanic activity here has built a unique and amazing landscape\, with perfect conditions created for the sheer abundance of seabirds and cetaceans found in the region.\nTickets £8.00 (including refreshments)\, available from 01257 463407/425330/426252.
URL:https://www.locallife247.co.uk/event/kamchatka-and-the-ring-of-fire/
CATEGORIES:Area - Wigan,Exhibitions & Talks
END:VEVENT
BEGIN:VEVENT
DTSTART;TZID=UTC:20200206T200000
DTEND;TZID=UTC:20200206T220000
DTSTAMP:20260420T220642
CREATED:20200123T112816Z
LAST-MODIFIED:20200123T112816Z
UID:14854-1581019200-1581026400@www.locallife247.co.uk
SUMMARY:Chernobyl in Photographs
DESCRIPTION:Colin Douglas visits Ormskirk Camera Club with his presentation on Kiev and Chernobyl\, including images taken in the exclusion zone. An entry fee of £4 applies to visitors\, with refreshments included.
URL:https://www.locallife247.co.uk/event/chernobyl-in-photographs/
CATEGORIES:Clubs & Societies,Exhibitions & Talks
END:VEVENT
BEGIN:VEVENT
DTSTART;TZID=UTC:20200206T160000
DTEND;TZID=UTC:20200206T170000
DTSTAMP:20260420T220642
CREATED:20200107T132237Z
LAST-MODIFIED:20200107T132237Z
UID:14499-1581004800-1581008400@www.locallife247.co.uk
SUMMARY:Standish Stories from the Past
DESCRIPTION:Stan Aspinall tells three stories of Standish’s past – each with a twist to make you think. Refreshments available.
URL:https://www.locallife247.co.uk/event/standish-stories-from-the-past/
CATEGORIES:Area - Wigan,Exhibitions & Talks,Heritage
END:VEVENT
BEGIN:VEVENT
DTSTART;TZID=UTC:20200206T100000
DTEND;TZID=UTC:20200206T113000
DTSTAMP:20260420T220642
CREATED:20200109T152753Z
LAST-MODIFIED:20200109T152753Z
UID:14577-1580983200-1580988600@www.locallife247.co.uk
SUMMARY:Maps & Coffee
DESCRIPTION:Grab a coffee and enjoy an informal morning of map reading with experienced International Mountain Leader Chris. Tickets £5 on 07838 378339 or chris@mountainexploits.co.uk
URL:https://www.locallife247.co.uk/event/maps-coffee/
CATEGORIES:Exhibitions & Talks,Food & Drinks
END:VEVENT
BEGIN:VEVENT
DTSTART;TZID=UTC:20200204T100000
DTEND;TZID=UTC:20200204T120000
DTSTAMP:20260420T220642
CREATED:20200110T143708Z
LAST-MODIFIED:20200110T143708Z
UID:14608-1580810400-1580817600@www.locallife247.co.uk
SUMMARY:Children’s Mental Health Event
DESCRIPTION:Healthwatch Wigan and Leigh is hosting a free event: “Who supports parents/carers when children and young people experience challenges to their emotional and mental health?” \nThe morning will involve:\n• Speakers\, including parents/carers and adults working with children\n• Surveys for parents\, carers\, and professionals\n• Workshop discussions \nFind out more or book a place via the Eventbrite link or contact Karen Wilson
URL:https://www.locallife247.co.uk/event/childrens-mental-health-event/
CATEGORIES:Area - Wigan,Community,Exhibitions & Talks,Markets & Craft Fairs
ORGANIZER;CN="Karen Wilson":MAILTO:karen.wilson@healthwatchwiganandleigh.co.uk
END:VEVENT
BEGIN:VEVENT
DTSTART;TZID=UTC:20200203T193000
DTEND;TZID=UTC:20200203T204500
DTSTAMP:20260420T220642
CREATED:20191212T090137Z
LAST-MODIFIED:20191212T090137Z
UID:14330-1580758200-1580762700@www.locallife247.co.uk
SUMMARY:Ormskirk District Historical Society
DESCRIPTION:Past Times in the Cartmel Vale\nSpeaker Janet Niepokojczycka\nVisitors £3.00\nStudents Free
URL:https://www.locallife247.co.uk/event/ormskirk-district-historical-society/
CATEGORIES:Clubs & Societies,Exhibitions & Talks,Heritage
ORGANIZER;CN="Stephen Balenski":MAILTO:stephenbalenski@gmail.com
END:VEVENT
BEGIN:VEVENT
DTSTART;TZID=UTC:20200202T100000
DTEND;TZID=UTC:20200202T150000
DTSTAMP:20260420T220642
CREATED:20200107T093820Z
LAST-MODIFIED:20200107T093820Z
UID:14470-1580637600-1580655600@www.locallife247.co.uk
SUMMARY:Apple Pruning Day
DESCRIPTION:Join the Walled Gardeners to learn new skills and help with apple pruning. Tickets £20 including soup and a roll and free pair of secateurs\, bookable on 07967 583746.
URL:https://www.locallife247.co.uk/event/apple-pruning-day-2/
CATEGORIES:Exhibitions & Talks,Outdoors,Seasonal
END:VEVENT
BEGIN:VEVENT
DTSTART;TZID=UTC:20200201T100000
DTEND;TZID=UTC:20200201T143000
DTSTAMP:20260420T220642
CREATED:20200107T090804Z
LAST-MODIFIED:20200107T090804Z
UID:14456-1580551200-1580567400@www.locallife247.co.uk
SUMMARY:Wigan Canal History Walk
DESCRIPTION:Join us for a free guided walk along the beautiful Wigan Flight! \nStarting at Wigan Dry Dock\, with free parking available at Trencherfield Mill (by the big industrial fan)\, we’ll walk up to Top Lock led by two knowledgable lock keepers\, and then return to our starting point. \nIt’s a leisurely walk of 4.5 miles in total. Wear stout shoes\, and waterproofs in case of rain\, and bring a drink and bite to eat if you like. Dogs on a lead are welcome.
URL:https://www.locallife247.co.uk/event/wigan-canal-history-walk-3/
CATEGORIES:Area - Wigan,Exhibitions & Talks,Heritage,Outdoors
END:VEVENT
END:VCALENDAR