BEGIN:VCALENDAR
VERSION:2.0
PRODID:-//Local Life 247 - ECPv6.10.0//NONSGML v1.0//EN
CALSCALE:GREGORIAN
METHOD:PUBLISH
X-WR-CALNAME:Local Life 247
X-ORIGINAL-URL:https://www.locallife247.co.uk
X-WR-CALDESC:Events for Local Life 247
REFRESH-INTERVAL;VALUE=DURATION:PT1H
X-Robots-Tag:noindex
X-PUBLISHED-TTL:PT1H
BEGIN:VTIMEZONE
TZID:UTC
BEGIN:STANDARD
TZOFFSETFROM:+0000
TZOFFSETTO:+0000
TZNAME:UTC
DTSTART:20190101T000000
END:STANDARD
END:VTIMEZONE
BEGIN:VEVENT
DTSTART;TZID=UTC:20190518T133000
DTEND;TZID=UTC:20190518T170000
DTSTAMP:20260423T085100
CREATED:20190320T103222Z
LAST-MODIFIED:20190320T103222Z
UID:11795-1558186200-1558198800@www.locallife247.co.uk
SUMMARY:Steam Heritage Festival
DESCRIPTION:View steam traction engines\, vintage tractors\, miniature engines and plenty more at the last surviving Pithead in Lancashire. There’ll be demonstrations throughout the weekend\, a vintage fairground and fair organs.
URL:https://www.locallife247.co.uk/event/steam-heritage-festival/
CATEGORIES:Area - All North West,Area - Wigan,Exhibitions & Talks,Fetes & Festivals,Heritage
END:VEVENT
BEGIN:VEVENT
DTSTART;TZID=UTC:20190517T193000
DTEND;TZID=UTC:20190517T223000
DTSTAMP:20260423T085100
CREATED:20190322T095809Z
LAST-MODIFIED:20190322T095809Z
UID:11830-1558121400-1558132200@www.locallife247.co.uk
SUMMARY:Audience with Liverpool Legends
DESCRIPTION:Join John Aldridge\, Ronnie Whelan and Steve McMahon on stage\, with highlights from their careers and plenty of banter! Limited opportunities for meet and greets before the show – tickets from £30-£66.
URL:https://www.locallife247.co.uk/event/audience-with-liverpool-legends/
CATEGORIES:Area - St Helens,Exhibitions & Talks,Sports,Theatre & Film
END:VEVENT
BEGIN:VEVENT
DTSTART;TZID=UTC:20190516T130000
DTEND;TZID=UTC:20190516T140000
DTSTAMP:20260423T085100
CREATED:20190312T093752Z
LAST-MODIFIED:20190312T093752Z
UID:11697-1558011600-1558015200@www.locallife247.co.uk
SUMMARY:Was the Lady Floating Talk
DESCRIPTION:Between 1912 and 1914\, three men were married. The three grooms all had three things in common: they were all the same man\, and they were all soon to be widowed\, and their brides found in the bath. This informative talk by Charlie Guy gives an insight into the George Joseph Smith murders. Entry £3\, bookable on 01942 828128 or wiganmuseum@wigan.gov.uk
URL:https://www.locallife247.co.uk/event/was-the-lady-floating-talk/
CATEGORIES:Area - Wigan,Exhibitions & Talks,Heritage
END:VEVENT
BEGIN:VEVENT
DTSTART;TZID=UTC:20190511T100000
DTEND;TZID=UTC:20190511T140000
DTSTAMP:20260423T085100
CREATED:20190322T100701Z
LAST-MODIFIED:20190322T100701Z
UID:11844-1557568800-1557583200@www.locallife247.co.uk
SUMMARY:Cemetery Open Day
DESCRIPTION:Meet the bereavement services staff and take a behind-the-scenes tour of the crematorium. You’ll hear advice on funeral planning and finance\, with cemetery tours offered by the Friends of St. Helens Cemetery.
URL:https://www.locallife247.co.uk/event/cemetery-open-day/
CATEGORIES:Area - St Helens,Exhibitions & Talks
END:VEVENT
BEGIN:VEVENT
DTSTART;TZID=UTC:20190509T180000
DTEND;TZID=UTC:20190509T190000
DTSTAMP:20260423T085100
CREATED:20190409T124056Z
LAST-MODIFIED:20190409T124056Z
UID:12030-1557424800-1557428400@www.locallife247.co.uk
SUMMARY:Gentry of Eccleston Talk
DESCRIPTION:Local historians Alan Marsden and David Nelson present a talk on the grand houses of Eccleston and district in 1840\, and the people who lived in them. Find out about their work\, social connections and the ultimate decline of the landed gentry. Free entry.
URL:https://www.locallife247.co.uk/event/gentry-of-eccleston-talk/
CATEGORIES:Exhibitions & Talks,Heritage
END:VEVENT
BEGIN:VEVENT
DTSTART;TZID=UTC:20190505T140000
DTEND;TZID=UTC:20190505T153000
DTSTAMP:20260423T085100
CREATED:20190312T094727Z
LAST-MODIFIED:20190312T094727Z
UID:11710-1557064800-1557070200@www.locallife247.co.uk
SUMMARY:Footballers in the Trenches Talk
DESCRIPTION:WWI historian Steve Williams presents a talk on local men who fought in the Great War – and played football along the way. Entry £2.50 – for more info\, visit www.chorleyinthegreatwar.org.uk
URL:https://www.locallife247.co.uk/event/footballers-in-the-trenches-talk/
CATEGORIES:Exhibitions & Talks,Heritage
END:VEVENT
BEGIN:VEVENT
DTSTART;TZID=UTC:20190504T210000
DTEND;TZID=UTC:20190504T223000
DTSTAMP:20260423T085100
CREATED:20190322T101700Z
LAST-MODIFIED:20190322T101700Z
UID:11861-1557003600-1557009000@www.locallife247.co.uk
SUMMARY:Bat Walk
DESCRIPTION:Join local bat experts and the Ranger Service to learn more about the bats roosting and feeding in the local area. Places should be reserved on 01695 622794.
URL:https://www.locallife247.co.uk/event/bat-walk-3/
CATEGORIES:Exhibitions & Talks,Outdoors
END:VEVENT
BEGIN:VEVENT
DTSTART;TZID=UTC:20190501T190000
DTEND;TZID=UTC:20190501T210000
DTSTAMP:20260423T085100
CREATED:20190312T093402Z
LAST-MODIFIED:20190312T093402Z
UID:11691-1556737200-1556744400@www.locallife247.co.uk
SUMMARY:Bat Walk
DESCRIPTION:A free night-time bat walk is the perfect opportunity to spot bats in their natural environment – a great evening for all the family. Meet in the Kitchen Courtyard. Free tickets are bookable on Eventbrite.
URL:https://www.locallife247.co.uk/event/bat-walk-2/
CATEGORIES:Area - Wigan,Exhibitions & Talks,Outdoors
END:VEVENT
BEGIN:VEVENT
DTSTART;TZID=UTC:20190501T103000
DTEND;TZID=UTC:20190501T113000
DTSTAMP:20260423T085100
CREATED:20190312T094829Z
LAST-MODIFIED:20190312T094829Z
UID:11712-1556706600-1556710200@www.locallife247.co.uk
SUMMARY:Chorley Railways Talk
DESCRIPTION:Historian Steve Williams presents an illustrated talk on local railway stations including Balshaw Lane and Euxton. Free entry.
URL:https://www.locallife247.co.uk/event/chorley-railways-talk-2/
CATEGORIES:Exhibitions & Talks,Heritage
END:VEVENT
BEGIN:VEVENT
DTSTART;TZID=UTC:20190428T103000
DTEND;TZID=UTC:20190428T150000
DTSTAMP:20260423T085100
CREATED:20190301T164335Z
LAST-MODIFIED:20190301T164335Z
UID:11607-1556447400-1556463600@www.locallife247.co.uk
SUMMARY:Vintage Car Show
DESCRIPTION:View over 50 classic cars and bikes at this fabulous vintage event. Entry £1 on the gate\, refreshments available.
URL:https://www.locallife247.co.uk/event/vintage-car-show/
CATEGORIES:Area - St Helens,Exhibitions & Talks
END:VEVENT
BEGIN:VEVENT
DTSTART;TZID=UTC:20190424T103000
DTEND;TZID=UTC:20190424T113000
DTSTAMP:20260423T085100
CREATED:20190301T163941Z
LAST-MODIFIED:20190301T164001Z
UID:11605-1556101800-1556105400@www.locallife247.co.uk
SUMMARY:Meet the Author: Christopher Ryley
DESCRIPTION:Lathom-born author Christopher Ryley discusses his first poetry book ‘A Forest and Other Poems’\, which combines love\, loss and nature. Ask any questions you have and find out more about the book!
URL:https://www.locallife247.co.uk/event/meet-the-author-christopher-ryley/
CATEGORIES:Arts & Music,Exhibitions & Talks
END:VEVENT
BEGIN:VEVENT
DTSTART;TZID=UTC:20190417T103000
DTEND;TZID=UTC:20190417T120000
DTSTAMP:20260423T085100
CREATED:20190301T163703Z
LAST-MODIFIED:20190301T163703Z
UID:11599-1555497000-1555502400@www.locallife247.co.uk
SUMMARY:A Dialect-able Talk
DESCRIPTION:Researcher and expert speaker Sid Calderbank will help you discover your Lancashire heritage through dialect at this exciting talk. Free entry.
URL:https://www.locallife247.co.uk/event/a-dialect-able-talk/
CATEGORIES:Exhibitions & Talks,Heritage
END:VEVENT
BEGIN:VEVENT
DTSTART;TZID=UTC:20190413T190000
DTEND;TZID=UTC:20190413T233000
DTSTAMP:20260423T085100
CREATED:20190312T095608Z
LAST-MODIFIED:20190312T095608Z
UID:11723-1555182000-1555198200@www.locallife247.co.uk
SUMMARY:Rugby Legends Evening
DESCRIPTION:An evening with Great British rugby stars Andy Gregory and Paul Sculthorpe\, plus special guest Chris Joynt in support of Wigan Youth Zone. There’ll also be a sports memorabilia auction\, a raffle and hotpot supper. Tickets £29.50\, available on Eventbrite.
URL:https://www.locallife247.co.uk/event/rugby-legends-evening/
CATEGORIES:Area - St Helens,Area - Wigan,Exhibitions & Talks,Sports
END:VEVENT
BEGIN:VEVENT
DTSTART;TZID=UTC:20190413T190000
DTEND;TZID=UTC:20190413T230000
DTSTAMP:20260423T085100
CREATED:20190129T162226Z
LAST-MODIFIED:20190129T162226Z
UID:11175-1555182000-1555196400@www.locallife247.co.uk
SUMMARY:Evening with Mark Lawrenson
DESCRIPTION:Former Liverpool\, Preston & Republic of Ireland star and BBC pundit Mark “Lawro” Lawrenson hosts an evening of chatter along with comedian Jed Stone. An auction and raffle will also be hosted. Tickets £45 including 5-course meal\, smart dress code applies. Call 07793 032523 or 07989 401771 or email info@crostonsportsclub.co.uk for tickets.
URL:https://www.locallife247.co.uk/event/evening-with-mark-lawrenson/
CATEGORIES:Exhibitions & Talks,Sports
END:VEVENT
BEGIN:VEVENT
DTSTART;TZID=UTC:20190412T193000
DTEND;TZID=UTC:20190412T223000
DTSTAMP:20260423T085100
CREATED:20190312T094215Z
LAST-MODIFIED:20190312T094215Z
UID:11702-1555097400-1555108200@www.locallife247.co.uk
SUMMARY:Evening with Paul Mason
DESCRIPTION:Leigh-born political journalist\, author\, filmmaker and economist Paul Mason supports the Wigan Heritage & Mining Monument with an informative talk and Q&A\, with musical entertainment and supper. Tickets £12 from 01942 244309\, 07964 122114 or 07810 316248.
URL:https://www.locallife247.co.uk/event/evening-with-paul-mason/
CATEGORIES:Area - Wigan,Exhibitions & Talks
END:VEVENT
BEGIN:VEVENT
DTSTART;TZID=UTC:20190410T193000
DTEND;TZID=UTC:20190410T210000
DTSTAMP:20260423T085100
CREATED:20190129T161018Z
LAST-MODIFIED:20190129T161018Z
UID:11159-1554924600-1554930000@www.locallife247.co.uk
SUMMARY:Lancashire's Wild Places
DESCRIPTION:Lancashire Wildlife Trust present their latest talk from John Lamb\, a fascinating insight into the wildest places in Lancashire and its flora & fauna. Tickets £4 for adults\, £2 for children or £3 for Friends of Mere Sands Wood.
URL:https://www.locallife247.co.uk/event/lancashires-wild-places/
CATEGORIES:Exhibitions & Talks
END:VEVENT
BEGIN:VEVENT
DTSTART;TZID=UTC:20190407T170000
DTEND;TZID=UTC:20190407T193000
DTSTAMP:20260423T085100
CREATED:20190213T095003Z
LAST-MODIFIED:20190213T095003Z
UID:11381-1554656400-1554665400@www.locallife247.co.uk
SUMMARY:Evening with Robin Sieger
DESCRIPTION:Author and motivational speaker Robin Sieger talks golf\, shares vital tips to perform better on the course\, and advice on how to quiet the mind. Tickets £26 including food or £16 for juniors.
URL:https://www.locallife247.co.uk/event/evening-with-robin-sieger/
CATEGORIES:Exhibitions & Talks,Sports
END:VEVENT
BEGIN:VEVENT
DTSTART;TZID=UTC:20190406T110000
DTEND;TZID=UTC:20190406T120000
DTSTAMP:20260423T085100
CREATED:20190301T165532Z
LAST-MODIFIED:20190301T165532Z
UID:11615-1554548400-1554552000@www.locallife247.co.uk
SUMMARY:Meet the Author: Dean Fraser
DESCRIPTION:The Quantum Poet performs readings from his celebrated 247 Poems Tour\, followed by a Q&A session and book signing. Free entry.
URL:https://www.locallife247.co.uk/event/meet-the-author-dean-fraser/
CATEGORIES:Arts & Music,Exhibitions & Talks
END:VEVENT
BEGIN:VEVENT
DTSTART;TZID=UTC:20190406T100000
DTEND;TZID=UTC:20190406T160000
DTSTAMP:20260423T085100
CREATED:20190301T163336Z
LAST-MODIFIED:20190301T163336Z
UID:11594-1554544800-1554566400@www.locallife247.co.uk
SUMMARY:Ormskirk Exhibition
DESCRIPTION:Ormskirk Bygone Times bring the town’s past to life with historical photographs and artefacts – feel free to bring along your own on the day to be archived. For further info\, call Chris on 07734 305222.
URL:https://www.locallife247.co.uk/event/ormskirk-exhibition/
CATEGORIES:Exhibitions & Talks,Heritage
END:VEVENT
BEGIN:VEVENT
DTSTART;TZID=UTC:20190404T190000
DTEND;TZID=UTC:20190404T200000
DTSTAMP:20260423T085100
CREATED:20190301T163142Z
LAST-MODIFIED:20190301T163142Z
UID:11592-1554404400-1554408000@www.locallife247.co.uk
SUMMARY:Meet the Author: Margaret Lambert
DESCRIPTION:The author behind The Rufford Rose discusses her volunteer conservation work at Rufford Old Hall and her novel\, which combines mystery\, romance and plenty of history. Free\, but booking required at the library or on Eventbrite.
URL:https://www.locallife247.co.uk/event/meet-the-author-margaret-lambert/
CATEGORIES:Arts & Music,Exhibitions & Talks
END:VEVENT
BEGIN:VEVENT
DTSTART;TZID=UTC:20190404T180000
DTEND;TZID=UTC:20190404T190000
DTSTAMP:20260423T085100
CREATED:20190312T094540Z
LAST-MODIFIED:20190312T094540Z
UID:11708-1554400800-1554404400@www.locallife247.co.uk
SUMMARY:Chorley Railways Talk
DESCRIPTION:Local historian Steve Williams presents a talk on railway lines and stations in Chorley\, dating back to 1840. The history of Croston and Euxton stations will be covered. Free entry.
URL:https://www.locallife247.co.uk/event/chorley-railways-talk/
CATEGORIES:Exhibitions & Talks,Heritage
END:VEVENT
BEGIN:VEVENT
DTSTART;TZID=UTC:20190404T123000
DTEND;TZID=UTC:20190404T134500
DTSTAMP:20260423T085100
CREATED:20190129T133011Z
LAST-MODIFIED:20190129T133011Z
UID:11146-1554381000-1554385500@www.locallife247.co.uk
SUMMARY:Children on Titanic Talk
DESCRIPTION:A fascinating talk looks at what life was like for children onboard RMS Titanic\, including why so many died in the cold water of the Atlantic. Places bookable on 01942 828128 or wiganmuseum@wigan.gov.uk
URL:https://www.locallife247.co.uk/event/children-on-titanic-talk/
CATEGORIES:Area - Wigan,Exhibitions & Talks,Heritage
END:VEVENT
BEGIN:VEVENT
DTSTART;TZID=UTC:20190330T110000
DTEND;TZID=UTC:20190330T130000
DTSTAMP:20260423T085100
CREATED:20190129T162421Z
LAST-MODIFIED:20190129T162421Z
UID:11177-1553943600-1553950800@www.locallife247.co.uk
SUMMARY:Hawks on the Moors
DESCRIPTION:Walk up into the Brinscall Moors to learn more about birds of prey with SMJ Falconry\, including a kestrel\, merlin and peregrine falcon. Hot drinks and cake provided\, tickets £10 per person or free for under-3s – bookable at www.wildwooddays.co.uk/events
URL:https://www.locallife247.co.uk/event/hawks-on-the-moors/
CATEGORIES:Exhibitions & Talks
END:VEVENT
BEGIN:VEVENT
DTSTART;TZID=UTC:20190327T193000
DTEND;TZID=UTC:20190327T223000
DTSTAMP:20260423T085100
CREATED:20190129T133535Z
LAST-MODIFIED:20190129T133535Z
UID:11153-1553715000-1553725800@www.locallife247.co.uk
SUMMARY:Newburgh Blacksmith Talk
DESCRIPTION:The Ormskirk & District Family History Society present the story of John Westhead\, a blacksmith from Newburgh who was killed in action during World War One. All welcome – £1 donation requested from non-members\, and refreshments available.
URL:https://www.locallife247.co.uk/event/newburgh-blacksmith-talk/
CATEGORIES:Exhibitions & Talks,Heritage
END:VEVENT
BEGIN:VEVENT
DTSTART;TZID=UTC:20190323T190000
DTEND;TZID=UTC:20190323T230000
DTSTAMP:20260423T085100
CREATED:20190129T161853Z
LAST-MODIFIED:20190129T161853Z
UID:11170-1553367600-1553382000@www.locallife247.co.uk
SUMMARY:Duncan McKenzie & Tony Jo
DESCRIPTION:Help raise money for Chorley FC Community Foundation with Duncan McKenzie and Tony Jo. Enjoy a sporting memorabilia auction and raffle\, with music and dancing plus a buffet. Tickets £20\, call 01257 230007 or email jonothan.gains@chorleyfc.com
URL:https://www.locallife247.co.uk/event/duncan-mckenzie-tony-jo/
CATEGORIES:Exhibitions & Talks,Fundraisers
END:VEVENT
BEGIN:VEVENT
DTSTART;TZID=UTC:20190323T100000
DTEND;TZID=UTC:20190323T160000
DTSTAMP:20260423T085100
CREATED:20190129T161709Z
LAST-MODIFIED:20190129T161709Z
UID:11168-1553335200-1553356800@www.locallife247.co.uk
SUMMARY:Model Railway Exhibition
DESCRIPTION:A great display of model trains\, plus a raffle and plenty of refreshments to raise money to repair the church’s stained glass windows. Admission costs £2 per adult\, children go free.
URL:https://www.locallife247.co.uk/event/model-railway-exhibition/
CATEGORIES:Exhibitions & Talks
END:VEVENT
BEGIN:VEVENT
DTSTART;TZID=UTC:20190321T143000
DTEND;TZID=UTC:20190321T160000
DTSTAMP:20260423T085100
CREATED:20190129T133352Z
LAST-MODIFIED:20190129T133352Z
UID:11150-1553178600-1553184000@www.locallife247.co.uk
SUMMARY:Birdwatching Talk
DESCRIPTION:Graham Clarkson presents a fun and fascinating introduction to birding – learn about the birds you could spot on your next stroll\, identification tips\, and how to watch wild birds. Tickets £4 for adults\, £2 for children or £3 for Friends of Mere Sands Wood members\, available from www.lancswt.org.uk
URL:https://www.locallife247.co.uk/event/birdwatching-talk/
CATEGORIES:Exhibitions & Talks
END:VEVENT
BEGIN:VEVENT
DTSTART;TZID=UTC:20190317T153000
DTEND;TZID=UTC:20190317T180000
DTSTAMP:20260423T085100
CREATED:20190213T094045Z
LAST-MODIFIED:20190213T094045Z
UID:11369-1552836600-1552845600@www.locallife247.co.uk
SUMMARY:Audience with Richard Evans
DESCRIPTION:Join conducting legend Richard Evans in conversation\, sharing a life of musical memories supported by the Foden’s Band. Tickets £10 from 07740 354106 or www.priorbooking.com
URL:https://www.locallife247.co.uk/event/audience-with-richard-evans/
CATEGORIES:Arts & Music,Exhibitions & Talks
END:VEVENT
BEGIN:VEVENT
DTSTART;TZID=UTC:20190315T193000
DTEND;TZID=UTC:20190315T213000
DTSTAMP:20260423T085100
CREATED:20190129T160912Z
LAST-MODIFIED:20190129T160912Z
UID:11157-1552678200-1552685400@www.locallife247.co.uk
SUMMARY:Spring Stargazing
DESCRIPTION:Journey through the constellations and along the Milky Way during this practical workshop from local astronomers! Plenty of colourful talks\, videos and hands-on help with telescopes. Tickets £15\, available on Eventbrite.
URL:https://www.locallife247.co.uk/event/spring-stargazing/
CATEGORIES:Exhibitions & Talks
END:VEVENT
BEGIN:VEVENT
DTSTART;TZID=UTC:20190314T123000
DTEND;TZID=UTC:20190314T133000
DTSTAMP:20260423T085100
CREATED:20190213T091520Z
LAST-MODIFIED:20190213T091520Z
UID:11361-1552566600-1552570200@www.locallife247.co.uk
SUMMARY:Women Who Said Yes Talk
DESCRIPTION:Dr. Ali Ronan presents an illustrated talk on ‘The Women Who Said Yes’. Hear about the 17 women who stood for Parliament in the 1918 General Election. Tickets £3 including hot drinks – places bookable on 01942 828128 or at wiganmuseum@wigan.gov.uk
URL:https://www.locallife247.co.uk/event/women-who-said-yes-talk/
CATEGORIES:Area - Wigan,Exhibitions & Talks,Heritage
END:VEVENT
END:VCALENDAR