BEGIN:VCALENDAR
VERSION:2.0
PRODID:-//Local Life 247 - ECPv6.10.0//NONSGML v1.0//EN
CALSCALE:GREGORIAN
METHOD:PUBLISH
X-ORIGINAL-URL:https://www.locallife247.co.uk
X-WR-CALDESC:Events for Local Life 247
REFRESH-INTERVAL;VALUE=DURATION:PT1H
X-Robots-Tag:noindex
X-PUBLISHED-TTL:PT1H
BEGIN:VTIMEZONE
TZID:UTC
BEGIN:STANDARD
TZOFFSETFROM:+0000
TZOFFSETTO:+0000
TZNAME:UTC
DTSTART:20190101T000000
END:STANDARD
END:VTIMEZONE
BEGIN:VEVENT
DTSTART;TZID=UTC:20191005T100000
DTEND;TZID=UTC:20191005T160000
DTSTAMP:20260422T005532
CREATED:20190805T141515Z
LAST-MODIFIED:20190805T141515Z
UID:12891-1570269600-1570291200@www.locallife247.co.uk
SUMMARY:Dig Up Your Roots
DESCRIPTION:Ormskirk & District Family History Society host a one-day history event with representatives from various local organisations and guided history walks around the town centre.
URL:https://www.locallife247.co.uk/event/dig-up-your-roots/
CATEGORIES:Clubs & Societies,Exhibitions & Talks,Heritage
END:VEVENT
BEGIN:VEVENT
DTSTART;TZID=UTC:20191005T100000
DTEND;TZID=UTC:20191005T130000
DTSTAMP:20260422T005532
CREATED:20190805T140443Z
LAST-MODIFIED:20190805T140443Z
UID:12869-1570269600-1570280400@www.locallife247.co.uk
SUMMARY:Fungi Walk
DESCRIPTION:Enjoy a fascinating botanical introduction to the wonderful world of Fungi at Formby. Tickets £5 on 01704 878591\, meet at the noticeboard.
URL:https://www.locallife247.co.uk/event/fungi-walk/
CATEGORIES:Exhibitions & Talks,Outdoors
END:VEVENT
BEGIN:VEVENT
DTSTART;TZID=UTC:20191001T190000
DTEND;TZID=UTC:20191001T200000
DTSTAMP:20260422T005532
CREATED:20190910T080901Z
LAST-MODIFIED:20190910T080901Z
UID:13222-1569956400-1569960000@www.locallife247.co.uk
SUMMARY:Buddhism for Daily Life
DESCRIPTION:Learn how to use the principles and practices of Buddhism to deal with the problems of daily life. The Buddhism of 13th century Japanese monk Nichiren explains how to bring forth your innate wisdom\, courage and compassion which is inherent in everyone.\nMeetings happening every Tuesday night from 7 till 8\, free admission.\nRing Derek on 07975829995 or Ann on 07870456277 for venue details\, questions welcomed.
URL:https://www.locallife247.co.uk/event/buddhism-for-daily-life/
CATEGORIES:Area - St Helens,Area - Wigan,Exhibitions & Talks,Religious
ORGANIZER;CN="Derek Wolland":MAILTO:wolland5@yahoo.co.uk
END:VEVENT
BEGIN:VEVENT
DTSTART;TZID=UTC:20190929T120000
DTEND;TZID=UTC:20190929T150000
DTSTAMP:20260422T005532
CREATED:20190723T140304Z
LAST-MODIFIED:20190723T140304Z
UID:12771-1569758400-1569769200@www.locallife247.co.uk
SUMMARY:Mercure St Helens Wedding Fayre
DESCRIPTION:Come along to our Wedding Fayre\, featuring some amazing local suppliers from venue dressers\, men’s attire\, photographers\, entertainment\, florists and much more. \nWedding Singer 1:30pm\nBridal Catwalk Show 2pm \nFree Admission\nReceive a complimentary glass of bubbly and canapes on arrival\nFree Parking \n***FANTASTIC OFFERS FOR BOOKINGS MADE ON THE DAY***
URL:https://www.locallife247.co.uk/event/mercure-st-helens-wedding-fayre/
CATEGORIES:Area - All North West,Area - St Helens,Exhibitions & Talks,Markets & Craft Fairs
ORGANIZER;CN="Vicky Owen":MAILTO:events@sainthelenshotel.com
END:VEVENT
BEGIN:VEVENT
DTSTART;TZID=UTC:20190929T100000
DTEND;TZID=UTC:20190929T150000
DTSTAMP:20260422T005532
CREATED:20190805T140324Z
LAST-MODIFIED:20190805T140324Z
UID:12866-1569751200-1569769200@www.locallife247.co.uk
SUMMARY:Binocular Open Day
DESCRIPTION:Come along to try out some binoculars and telescopes in order to appreciate the wildlife around you. Experienced birdwatchers will be on hand to help\, and proceeds raised go towards conservation work at the reserve.
URL:https://www.locallife247.co.uk/event/binocular-open-day/
CATEGORIES:Exhibitions & Talks,Outdoors
END:VEVENT
BEGIN:VEVENT
DTSTART;TZID=UTC:20190927T203000
DTEND;TZID=UTC:20190927T223000
DTSTAMP:20260422T005532
CREATED:20190805T140201Z
LAST-MODIFIED:20190805T140201Z
UID:12864-1569616200-1569623400@www.locallife247.co.uk
SUMMARY:Stargazing Evening
DESCRIPTION:Explore the wonders of the night sky using telescopes with local astronomer Robert Ince. Tickets £15 per adult or £7.50 per child\, bookable at www.gostargazing.co.uk
URL:https://www.locallife247.co.uk/event/stargazing-evening/
CATEGORIES:Exhibitions & Talks,Outdoors
END:VEVENT
BEGIN:VEVENT
DTSTART;TZID=UTC:20190926T190000
DTEND;TZID=UTC:20190926T233000
DTSTAMP:20260422T005532
CREATED:20190830T104535Z
LAST-MODIFIED:20190830T104535Z
UID:13087-1569524400-1569540600@www.locallife247.co.uk
SUMMARY:Charity Sports Evening
DESCRIPTION:An evening with Colin Hendry and Mark Paterson\, hosted by BBC Radio Lancashire’s Graham Liver\, plus an appearance from comedian Stephen Cookson. Tickets £10 with proceeds to East Lancashire Hospice and funding a community defibrillator.
URL:https://www.locallife247.co.uk/event/charity-sports-evening/
CATEGORIES:Exhibitions & Talks,Fundraisers,Sports
END:VEVENT
BEGIN:VEVENT
DTSTART;TZID=UTC:20190926T190000
DTEND;TZID=UTC:20190926T203000
DTSTAMP:20260422T005532
CREATED:20190628T145106Z
LAST-MODIFIED:20190628T145106Z
UID:12593-1569524400-1569529800@www.locallife247.co.uk
SUMMARY:Blame It On The Beatles
DESCRIPTION:John Winter discusses and signs his book ‘Blame It On The Beatles… And Bill Shankly’\, which traces the lives of teenagers growing up in Liverpool in the 1960s. Free\, but booking required at the library.
URL:https://www.locallife247.co.uk/event/blame-it-on-the-beatles/
CATEGORIES:Arts & Music,Exhibitions & Talks
END:VEVENT
BEGIN:VEVENT
DTSTART;TZID=UTC:20190924T190000
DTEND;TZID=UTC:20190924T210000
DTSTAMP:20260422T005532
CREATED:20190805T135147Z
LAST-MODIFIED:20190805T135147Z
UID:12846-1569351600-1569358800@www.locallife247.co.uk
SUMMARY:Meet the Author: Louis de Bernieres
DESCRIPTION:Meet world-famous author of Captain Corelli’s Mandolin and Birds Without Wings Louise de Bernieres. Tickets £12 from the library or on 07518 099528.
URL:https://www.locallife247.co.uk/event/meet-the-author-louis-de-bernieres/
CATEGORIES:Area - Wigan,Arts & Music,Exhibitions & Talks
END:VEVENT
BEGIN:VEVENT
DTSTART;TZID=UTC:20190924T190000
DTEND;TZID=UTC:20190924T203000
DTSTAMP:20260422T005532
CREATED:20190816T100444Z
LAST-MODIFIED:20190816T100444Z
UID:13012-1569351600-1569357000@www.locallife247.co.uk
SUMMARY:Mary O Shaughnessy Talk
DESCRIPTION:Babs Hennessy presents a talk on the nanny born in Ashton-in-Makerfield in 1898 who went on to aid local resistance in WWII and survive life in a concentration camp. Entry £3.
URL:https://www.locallife247.co.uk/event/mary-o-shaughnessy-talk/
CATEGORIES:Area - St Helens,Area - Wigan,Exhibitions & Talks,Heritage
END:VEVENT
BEGIN:VEVENT
DTSTART;TZID=UTC:20190924T173000
DTEND;TZID=UTC:20190924T210000
DTSTAMP:20260422T005532
CREATED:20190816T100324Z
LAST-MODIFIED:20190816T100324Z
UID:13009-1569346200-1569358800@www.locallife247.co.uk
SUMMARY:From Ireland to Greenbank Talk
DESCRIPTION:Discover how the Irish ended up in St. Helens: from the potato famine to their arrival in this local history talk. Voluntary contribution of £2 per person requested.
URL:https://www.locallife247.co.uk/event/from-ireland-to-greenbank-talk/
CATEGORIES:Area - St Helens,Exhibitions & Talks,Heritage
END:VEVENT
BEGIN:VEVENT
DTSTART;TZID=UTC:20190923T150000
DTEND;TZID=UTC:20190923T160000
DTSTAMP:20260422T005532
CREATED:20190830T104212Z
LAST-MODIFIED:20190830T104212Z
UID:13082-1569250800-1569254400@www.locallife247.co.uk
SUMMARY:Meet the Author: Ted Dakin
DESCRIPTION:Local author Ted Dakin transports you back in time with stories about growing up in Wigan from his Wigan Pier series. Free entry.
URL:https://www.locallife247.co.uk/event/meet-the-author-ted-dakin/
CATEGORIES:Area - Wigan,Arts & Music,Exhibitions & Talks
END:VEVENT
BEGIN:VEVENT
DTSTART;TZID=UTC:20190917T190000
DTEND;TZID=UTC:20190917T203000
DTSTAMP:20260422T005532
CREATED:20190815T144851Z
LAST-MODIFIED:20190815T144851Z
UID:12998-1568746800-1568752200@www.locallife247.co.uk
SUMMARY:Ashton Coal Mining Talk
DESCRIPTION:This historical talk discusses Ashton-in-Makerfield’s coal mining heritage from 1500-1900\, particularly the large collieries at Garswood Hall\, Bryn Hall and Park Colliery. Entry £3.
URL:https://www.locallife247.co.uk/event/ashton-coal-mining-talk/
CATEGORIES:Area - St Helens,Area - Wigan,Exhibitions & Talks,Heritage
END:VEVENT
BEGIN:VEVENT
DTSTART;TZID=UTC:20190903T193000
DTEND;TZID=UTC:20190903T210000
DTSTAMP:20260422T005532
CREATED:20190816T100608Z
LAST-MODIFIED:20190816T100608Z
UID:13014-1567539000-1567544400@www.locallife247.co.uk
SUMMARY:Meet the Author: Mary Paulson-Ellis
DESCRIPTION:Bestselling author of The Other Mrs. Walker Mary Paulson-Ellis will discuss her new novel\, answer audience questions and sign copies of her books. Tickets £6 including drink on entry and £5 redeemable against a book from ebb & flo bookshop or on Eventbrite.
URL:https://www.locallife247.co.uk/event/meet-the-author-mary-paulson-ellis/
CATEGORIES:Arts & Music,Exhibitions & Talks
END:VEVENT
BEGIN:VEVENT
DTSTART;TZID=UTC:20190902T140000
DTEND;TZID=UTC:20190902T160000
DTSTAMP:20260422T005532
CREATED:20190809T145529Z
LAST-MODIFIED:20190809T145529Z
UID:12963-1567432800-1567440000@www.locallife247.co.uk
SUMMARY:Wigan Civic Trust Humphry Repton Talk
DESCRIPTION:Welcome return of Gareth Williams\, Curator at Weston Park in Shropshire\, to give an entertaining and erudite talk on Humphry Repton\, last of great English Landscape designers of 18th Century. Everyone welcome and free to attend although donations will be appreciated to cover costs\, at 2pm in Mercure Wigan Oak Hotel\, WN1 3SS.
URL:https://www.locallife247.co.uk/event/wigan-civic-trust-humphry-repton-talk/
CATEGORIES:Area - All North West,Area - Wigan,Exhibitions & Talks
END:VEVENT
BEGIN:VEVENT
DTSTART;TZID=UTC:20190825T100000
DTEND;TZID=UTC:20190825T170000
DTSTAMP:20260422T005532
CREATED:20190704T131554Z
LAST-MODIFIED:20190704T131554Z
UID:12663-1566727200-1566752400@www.locallife247.co.uk
SUMMARY:Ormskirk Motorfest
DESCRIPTION:Check out a great selection of cars old and new including fast Fords\, British classics and emergency service vehicles. The Concours D’Elegance – a static display of over 300 cars – will be in attendance\, plus food\, drinks and displays throughout.
URL:https://www.locallife247.co.uk/event/ormskirk-motorfest/
CATEGORIES:Exhibitions & Talks,Fetes & Festivals
END:VEVENT
BEGIN:VEVENT
DTSTART;TZID=UTC:20190816T123000
DTEND;TZID=UTC:20190816T133000
DTSTAMP:20260422T005532
CREATED:20190522T152529Z
LAST-MODIFIED:20190522T152529Z
UID:12350-1565958600-1565962200@www.locallife247.co.uk
SUMMARY:Female Reform Union & Peterloo Talk
DESCRIPTION:Yvonne Eckersley presents a talk on Leigh and Wigan’s female reform unions and Peterloo. On this day in 1819 60\,000 people walked to St. Peter’s Field in support of political reform\, and within half an hour at least 15 of them were dead. Tickets £3 including refreshments\, bookable on 01942 828128.
URL:https://www.locallife247.co.uk/event/female-reform-union-peterloo-talk/
CATEGORIES:Area - Wigan,Exhibitions & Talks,Heritage
END:VEVENT
BEGIN:VEVENT
DTSTART;TZID=UTC:20190808T180000
DTEND;TZID=UTC:20190808T200000
DTSTAMP:20260422T005532
CREATED:20190620T150225Z
LAST-MODIFIED:20190620T150225Z
UID:12541-1565287200-1565294400@www.locallife247.co.uk
SUMMARY:Evening with Milly Johnson
DESCRIPTION:Bestselling author Milly Johnson discusses what life as a writer is really like\, and chats about her latest novel. Tickets £6\, £5 for library members or £3 concessions\, including refreshments and a free prize draw.
URL:https://www.locallife247.co.uk/event/evening-with-milly-johnson/
CATEGORIES:Area - St Helens,Arts & Music,Exhibitions & Talks
END:VEVENT
BEGIN:VEVENT
DTSTART;TZID=UTC:20190808T120000
DTEND;TZID=UTC:20190808T124500
DTSTAMP:20260422T005532
CREATED:20190704T125510Z
LAST-MODIFIED:20190704T125510Z
UID:12633-1565265600-1565268300@www.locallife247.co.uk
SUMMARY:Family Yoga Session
DESCRIPTION:Have a go at yoga at a fun taster session – loose\, comfortable clothing recommended\, suitable for children aged 4-12. Free\, places bookable at the library.
URL:https://www.locallife247.co.uk/event/family-yoga-session/
CATEGORIES:Child Friendly,Exhibitions & Talks,Sports
END:VEVENT
BEGIN:VEVENT
DTSTART;TZID=UTC:20190803T110000
DTEND;TZID=UTC:20190803T120000
DTSTAMP:20260422T005533
CREATED:20190628T144604Z
LAST-MODIFIED:20190628T144604Z
UID:12589-1564830000-1564833600@www.locallife247.co.uk
SUMMARY:Meet the Author: Priya Thomas
DESCRIPTION:Local author Priya Thomas discusses her delightful Spanish language books and puppets\, as well as introducing you to some Spanish culture! Suitable for children aged 5-12\, free entry.
URL:https://www.locallife247.co.uk/event/meet-the-author-priya-thomas/
CATEGORIES:Exhibitions & Talks
END:VEVENT
BEGIN:VEVENT
DTSTART;TZID=UTC:20190802T100000
DTEND;TZID=UTC:20190802T120000
DTSTAMP:20260422T005533
CREATED:20190704T125154Z
LAST-MODIFIED:20190704T125154Z
UID:12629-1564740000-1564747200@www.locallife247.co.uk
SUMMARY:Family Gardening Session
DESCRIPTION:Come and earn a SCART badge in this hands-on gardening session! Plant seeds\, learn about bees and get your hands dirty! Suitable for children aged 4-12 and their families; free\, but booking required at the library.
URL:https://www.locallife247.co.uk/event/family-gardening-session/
CATEGORIES:Child Friendly,Exhibitions & Talks,Outdoors,Seasonal
END:VEVENT
BEGIN:VEVENT
DTSTART;TZID=UTC:20190727T100000
DTEND;TZID=UTC:20190727T170000
DTSTAMP:20260422T005533
CREATED:20190704T124622Z
LAST-MODIFIED:20190704T124622Z
UID:12619-1564221600-1564246800@www.locallife247.co.uk
SUMMARY:Chorley Flower Show
DESCRIPTION:Lancashire’s biggest amateur gardening competition brings floral experts together\, along with an abundance of family entertainment\, live music and stunning show gardens. Tickets £10 per adult or £1.50 per child.
URL:https://www.locallife247.co.uk/event/chorley-flower-show/
CATEGORIES:Area - All North West,Exhibitions & Talks,Fetes & Festivals,Outdoors,Seasonal
END:VEVENT
BEGIN:VEVENT
DTSTART;TZID=UTC:20190726T213000
DTEND;TZID=UTC:20190726T230000
DTSTAMP:20260422T005533
CREATED:20190522T151625Z
LAST-MODIFIED:20190620T150117Z
UID:12338-1564176600-1564182000@www.locallife247.co.uk
SUMMARY:Bat Walk
DESCRIPTION:Join the Friends of St. Helens Cemetery and the Rangers for a guided walk through the cemetery using bat detectors! Learn about habitat changes\, site management and bat life cycles – bring your torches! Booking available on friendsofsthelenscemetery@gmail.com
URL:https://www.locallife247.co.uk/event/bat-walk-4/
CATEGORIES:Area - St Helens,Exhibitions & Talks,Outdoors
END:VEVENT
BEGIN:VEVENT
DTSTART;TZID=UTC:20190720T103000
DTEND;TZID=UTC:20190720T163000
DTSTAMP:20260422T005533
CREATED:20190704T124819Z
LAST-MODIFIED:20190704T124819Z
UID:12622-1563618600-1563640200@www.locallife247.co.uk
SUMMARY:999 Family Fun Day
DESCRIPTION:An emergency services fun day\, with representatives from various organisations showing you the tools of the trade! There’ll be old fashioned fire engines and ambulances\, a fire engine experience\, an inflatable obstacle course and live music! Free entry but must be booked on Eventbrite. Park & ride available from Runshaw Adult College car park.
URL:https://www.locallife247.co.uk/event/999-family-fun-day/
CATEGORIES:Exhibitions & Talks,Fetes & Festivals
END:VEVENT
BEGIN:VEVENT
DTSTART;TZID=UTC:20190718T123000
DTEND;TZID=UTC:20190718T133000
DTSTAMP:20260422T005533
CREATED:20190522T152054Z
LAST-MODIFIED:20190522T152054Z
UID:12343-1563453000-1563456600@www.locallife247.co.uk
SUMMARY:Ballads & Songs of Peterloo
DESCRIPTION:Dr. Alison Morgan presents a talk based on her collection of poems and ballads of the Peterloo Masacre in 1819. Free entry\, places bookable on 01942 828128.
URL:https://www.locallife247.co.uk/event/ballads-songs-of-peterloo/
CATEGORIES:Area - Wigan,Exhibitions & Talks,Heritage
END:VEVENT
BEGIN:VEVENT
DTSTART;TZID=UTC:20190707T140000
DTEND;TZID=UTC:20190707T150000
DTSTAMP:20260422T005533
CREATED:20190620T150417Z
LAST-MODIFIED:20190620T150417Z
UID:12543-1562508000-1562511600@www.locallife247.co.uk
SUMMARY:Nurses in WWI Talk
DESCRIPTION:WWI historian and author Sue Robinson presents a talk on Nurses on the Front during the Great War. Entry £2.50 – for more info\, visit www.chorleyinthegreatwar.org.uk
URL:https://www.locallife247.co.uk/event/nurses-in-wwi-talk/
CATEGORIES:Exhibitions & Talks,Heritage
END:VEVENT
BEGIN:VEVENT
DTSTART;TZID=UTC:20190703T100000
DTEND;TZID=UTC:20190703T110000
DTSTAMP:20260422T005533
CREATED:20190510T102744Z
LAST-MODIFIED:20190510T102744Z
UID:12219-1562148000-1562151600@www.locallife247.co.uk
SUMMARY:Stress Free Talk
DESCRIPTION:Bestselling author Dean Fraser presents a talk on reducing everyday stress\, plus an informal Q&A session and book signing. Free entry.
URL:https://www.locallife247.co.uk/event/stress-free-talk/
CATEGORIES:Exhibitions & Talks
END:VEVENT
BEGIN:VEVENT
DTSTART;TZID=UTC:20190624T130000
DTEND;TZID=UTC:20190624T140000
DTSTAMP:20260422T005533
CREATED:20190515T150228Z
LAST-MODIFIED:20190515T150228Z
UID:12290-1561381200-1561384800@www.locallife247.co.uk
SUMMARY:Peterloo Talk
DESCRIPTION:Professor Robert Poole presents an illustrated talk on the Peterloo Massacre of 1819 200 years on. Free entry\, places bookable on 01942 827621.
URL:https://www.locallife247.co.uk/event/peterloo-talk/
CATEGORIES:Area - Wigan,Exhibitions & Talks,Heritage
END:VEVENT
BEGIN:VEVENT
DTSTART;TZID=UTC:20190620T193000
DTEND;TZID=UTC:20190620T220000
DTSTAMP:20260422T005533
CREATED:20190515T150128Z
LAST-MODIFIED:20190515T150128Z
UID:12288-1561059000-1561068000@www.locallife247.co.uk
SUMMARY:Killer Confessions
DESCRIPTION:Paul Harrison – one of the first British policemen to work with the FBI Behavioural Science Unit – talks about his career profiling\, researching and interacting with American serial killers. Gain insight into the psyches of the world’s most infamous murderers. Tickets £20\, bookable on 01942 770432.
URL:https://www.locallife247.co.uk/event/killer-confessions/
CATEGORIES:Area - Wigan,Exhibitions & Talks
END:VEVENT
BEGIN:VEVENT
DTSTART;TZID=UTC:20190615T140000
DTEND;TZID=UTC:20190615T160000
DTSTAMP:20260422T005533
CREATED:20190322T101533Z
LAST-MODIFIED:20190322T101533Z
UID:11859-1560607200-1560614400@www.locallife247.co.uk
SUMMARY:Wildflower Walk
DESCRIPTION:Explore the beautiful wildflower meadows with local expert Dave Earl\, and learn about everything from orchids to lesser centaury. Tickets £7 for adults\, £3.50 for children or £6 for Friends of Mere Sands Wood.
URL:https://www.locallife247.co.uk/event/wildflower-walk/
CATEGORIES:Exhibitions & Talks,Outdoors
END:VEVENT
END:VCALENDAR