BEGIN:VCALENDAR
VERSION:2.0
PRODID:-//Local Life 247 - ECPv6.10.0//NONSGML v1.0//EN
CALSCALE:GREGORIAN
METHOD:PUBLISH
X-ORIGINAL-URL:https://www.locallife247.co.uk
X-WR-CALDESC:Events for Local Life 247
REFRESH-INTERVAL;VALUE=DURATION:PT1H
X-Robots-Tag:noindex
X-PUBLISHED-TTL:PT1H
BEGIN:VTIMEZONE
TZID:UTC
BEGIN:STANDARD
TZOFFSETFROM:+0000
TZOFFSETTO:+0000
TZNAME:UTC
DTSTART:20200101T000000
END:STANDARD
END:VTIMEZONE
BEGIN:VEVENT
DTSTART;TZID=UTC:20200912T140000
DTEND;TZID=UTC:20200912T163000
DTSTAMP:20260419T203841
CREATED:20200102T131403Z
LAST-MODIFIED:20200102T131403Z
UID:14373-1599919200-1599928200@www.locallife247.co.uk
SUMMARY:Newton Flower & Vegetable Show
DESCRIPTION:Organised by the volunteers of the Newton Le Willows Gardeners’ Association. Competitive classes for flowers\, pot plants\, vegetables\, fruit\, art\, photography\, baking\, jam\, jellies and chutney and also classes for children to enter. There will also be stalls selling plants\, a tombola and a raffle. Exhibitors can set up the previous evening or the morning. The public show will end at approximately 4.15pm\, with the presentation to the winners.
URL:https://www.locallife247.co.uk/event/newton-flower-vegetable-show-2/
CATEGORIES:Area - All North West,Area - St Helens,Child Friendly,Clubs & Societies,Community,Exhibitions & Talks,Fetes & Festivals,Miscellaneous,Volunteering
ORGANIZER;CN="Marjorie McMahon - Show Secretary":MAILTO:nlwgashow@aol.com
END:VEVENT
BEGIN:VEVENT
DTSTART;TZID=UTC:20200806T090000
DTEND;TZID=UTC:20200806T180000
DTSTAMP:20260419T203841
CREATED:20200228T160527Z
LAST-MODIFIED:20200228T160527Z
UID:15501-1596704400-1596736800@www.locallife247.co.uk
SUMMARY:Wedgewood Factory Tour
DESCRIPTION:Join in with the Oddfellows for a day trip and discover 260 years of heritage and craftsmanship at the Wedgewood Factory and Museum. Trip includes a guided tour of the factory\, free time to enjoy the museum\, gift and factory shops\, nature trail\, restaurant and cafe. A cream tea of cranberry and plain scone\, clotted cream\, jam and a pot of tea is included in the price.\nCost £25 members £28 Guests\nCoach pick up Warrington 9am St Helens 9.20am
URL:https://www.locallife247.co.uk/event/wedgewood-factory-tour/
CATEGORIES:Area - St Helens,Clubs & Societies,Exhibitions & Talks
ORGANIZER;CN="Julie Webster":MAILTO:julie.webster@oddfellows.co.uk
END:VEVENT
BEGIN:VEVENT
DTSTART;TZID=UTC:20200606T100000
DTEND;TZID=UTC:20200606T160000
DTSTAMP:20260419T203841
CREATED:20200127T090728Z
LAST-MODIFIED:20200221T111210Z
UID:14893-1591437600-1591459200@www.locallife247.co.uk
SUMMARY:Quilt Exhibition
DESCRIPTION:Quilt Exhibition. Parbold Village Hall WN8 7DN. Saturday 6th June 2020\, 10 am to 4pm.\nAdmission £2 (accompanied children free)\nThe Croston\, Quirky and Douglas Valley Quilting groups are holding their 5th Biennial Exhibition. View beautiful patchwork quilts\, wall hangings etc.\nQuilt raffle\, tombola\, trader\, sales table\, home made refreshments.\nDonation from proceeds will be made to the Kidneys for Life charity.
URL:https://www.locallife247.co.uk/event/quilt-exhibition-by-local-groups/
LOCATION:Parbold Village Hall\, 2 The Green\, Parbold\, Wigan\, WN8 7DN
CATEGORIES:Area - Wigan,Arts & Music,Exhibitions & Talks,Markets & Craft Fairs
ORGANIZER;CN="Pauline Stubbings":MAILTO:pauline.stubbings@p2am.co.uk
END:VEVENT
BEGIN:VEVENT
DTSTART;TZID=UTC:20200528T193000
DTEND;TZID=UTC:20200528T213000
DTSTAMP:20260419T203841
CREATED:20200102T131529Z
LAST-MODIFIED:20200102T131529Z
UID:14370-1590694200-1590701400@www.locallife247.co.uk
SUMMARY:Newton Le Willows Gardeners' Association
DESCRIPTION:Gardeners’ Question Time. A panel of our own gardening experts will (hopefully!) be answering questions from the floor. Plants for sale\, raffle\, free admission. You do not need to be a member to attend.
URL:https://www.locallife247.co.uk/event/newton-le-willows-gardeners-association-3/
CATEGORIES:Area - All North West,Area - St Helens,Clubs & Societies,Community,Exhibitions & Talks,Miscellaneous,Volunteering
ORGANIZER;CN="Silvana Briers":MAILTO:nlwga@jewellerybysilvana.co.uk
END:VEVENT
BEGIN:VEVENT
DTSTART;TZID=UTC:20200519T103000
DTEND;TZID=UTC:20200519T113000
DTSTAMP:20260419T203841
CREATED:20200113T110247Z
LAST-MODIFIED:20200113T110247Z
UID:14641-1589884200-1589887800@www.locallife247.co.uk
SUMMARY:Friends' Monthly Talk
DESCRIPTION:‘Meet the Archivist’ – Find out about the amazing records available at Lancashire Archives\, and how these can be used to help with family and local history research. £1 donation requested. refreshments available from 10am.
URL:https://www.locallife247.co.uk/event/friends-monthly-talk-3/
CATEGORIES:Exhibitions & Talks,Heritage
ORGANIZER;CN="vivien mumford":MAILTO:vivienmumford55@btinternet.com
END:VEVENT
BEGIN:VEVENT
DTSTART;TZID=UTC:20200505T193000
DTEND;TZID=UTC:20200505T220000
DTSTAMP:20260419T203842
CREATED:20200212T101047Z
LAST-MODIFIED:20200212T101047Z
UID:15122-1588707000-1588716000@www.locallife247.co.uk
SUMMARY:Becconsall Flower Club
DESCRIPTION:Flower demonstration – “Pot Luck” by Anne Houghton of Heswall
URL:https://www.locallife247.co.uk/event/becconsall-flower-club/
CATEGORIES:Clubs & Societies,Exhibitions & Talks
ORGANIZER;CN="Mrs.Val Donaldson":MAILTO:valeriedonaldsonuk@yahoo.co.uk
END:VEVENT
BEGIN:VEVENT
DTSTART;TZID=UTC:20200430T193000
DTEND;TZID=UTC:20200430T213000
DTSTAMP:20260419T203842
CREATED:20200102T131449Z
LAST-MODIFIED:20200102T131449Z
UID:14364-1588275000-1588282200@www.locallife247.co.uk
SUMMARY:Newton Le Willows Gardeners' Association
DESCRIPTION:Talk & Demonstration. Paul O’Byrne will give a talk entitled A Plant By Any Other Name?
URL:https://www.locallife247.co.uk/event/newton-le-willows-gardeners-association-2/
CATEGORIES:Area - All North West,Area - St Helens,Clubs & Societies,Community,Exhibitions & Talks,Miscellaneous
ORGANIZER;CN="Silvana Briers":MAILTO:nlwga@jewellerybysilvana.co.uk
END:VEVENT
BEGIN:VEVENT
DTSTART;TZID=UTC:20200428T190000
DTEND;TZID=UTC:20200428T210000
DTSTAMP:20260419T203842
CREATED:20200219T145837Z
LAST-MODIFIED:20200219T145837Z
UID:15353-1588100400-1588107600@www.locallife247.co.uk
SUMMARY:Author Talk: Sharon Bolton
DESCRIPTION:Bestselling Lancashire author Sharon Bolton discusses her novels ‘Sacrifice’ and ‘Awakening’. Tickets £5 from the venue or at tarleton.library@lancashire.gov.uk
URL:https://www.locallife247.co.uk/event/author-talk-sharon-bolton/
CATEGORIES:Arts & Music,Exhibitions & Talks
END:VEVENT
BEGIN:VEVENT
DTSTART;TZID=UTC:20200426T123000
DTEND;TZID=UTC:20200426T143000
DTSTAMP:20260419T203842
CREATED:20200219T145736Z
LAST-MODIFIED:20200219T145736Z
UID:15351-1587904200-1587911400@www.locallife247.co.uk
SUMMARY:Warburton's History Talk
DESCRIPTION:David Tomlinson presents a talk on the history of Warburton’s Bakery\, with the West Lancashire Heritage Association. Tickets £20 from Bob on 07779 852172.
URL:https://www.locallife247.co.uk/event/warburtons-history-talk/
CATEGORIES:Exhibitions & Talks,Heritage
END:VEVENT
BEGIN:VEVENT
DTSTART;TZID=UTC:20200423T193000
DTEND;TZID=UTC:20200423T204500
DTSTAMP:20260419T203842
CREATED:20200218T161359Z
LAST-MODIFIED:20200218T161418Z
UID:15234-1587670200-1587674700@www.locallife247.co.uk
SUMMARY:Halsall Church Talk
DESCRIPTION:The Mysteries and Curiosities of Halsall St Cuthbert’s \nApril 23rd 7:30 pm in Halsall Memorial Hall L398RN \nAs we approach the 700th anniversary\, an illustrated talk by Churchwarden Stephen Henders explores the extraordinary history of this grade 1 medieval church. Tickets £5 are available by phoning 01704841085\, profits towards church heritage.
URL:https://www.locallife247.co.uk/event/halsall-church-talk/
CATEGORIES:Exhibitions & Talks,Heritage,Religious
ORGANIZER;CN="Stephen Henders":MAILTO:sjhenders1@gmail.com
END:VEVENT
BEGIN:VEVENT
DTSTART;TZID=UTC:20200421T103000
DTEND;TZID=UTC:20200421T113000
DTSTAMP:20260419T203842
CREATED:20200113T110411Z
LAST-MODIFIED:20200113T110411Z
UID:14635-1587465000-1587468600@www.locallife247.co.uk
SUMMARY:Friends' Monthly Talk
DESCRIPTION:‘Tutankhamun- Treasures of the Golden Pharoah’ – Talk by Vivien Mumford on Tutankhamun’s life\, death\, and the highlights of the current exhibition at the Saatchi gallery – £1 donation requested\, refreshments available from 10am.
URL:https://www.locallife247.co.uk/event/friends-monthly-talk-4/
CATEGORIES:Exhibitions & Talks,Heritage
ORGANIZER;CN="vivien mumford":MAILTO:vivienmumford55@btinternet.com
END:VEVENT
BEGIN:VEVENT
DTSTART;TZID=UTC:20200407T193000
DTEND;TZID=UTC:20200407T220000
DTSTAMP:20260419T203842
CREATED:20200212T101227Z
LAST-MODIFIED:20200225T163325Z
UID:15119-1586287800-1586296800@www.locallife247.co.uk
SUMMARY:Becconsall Flower Club
DESCRIPTION:Flower demonstration – Wildstyle by Emily Waddington of Clitheroe
URL:https://www.locallife247.co.uk/event/becconsall-flower-club-2/
CATEGORIES:Clubs & Societies,Exhibitions & Talks
ORGANIZER;CN="Mrs.  Val Donaldson":MAILTO:valeriedonaldsonuk@yahoo.co.uk
END:VEVENT
BEGIN:VEVENT
DTSTART;TZID=UTC:20200404T100000
DTEND;TZID=UTC:20200404T143000
DTSTAMP:20260419T203842
CREATED:20200122T094404Z
LAST-MODIFIED:20200122T094404Z
UID:14716-1585994400-1586010600@www.locallife247.co.uk
SUMMARY:Wigan Canal History Walk
DESCRIPTION:Join us for a free guided walk along the beautiful Wigan Flight! \nStarting at Wigan Dry Dock\, with free parking available at Trencherfield Mill (by the big industrial fan)\, we’ll walk up to Top Lock led by two knowledgable lock keepers\, and then return to our starting point. \nIt’s a leisurely walk of 4.5 miles in total. Wear stout shoes\, and waterproofs in case of rain\, and bring a drink and bite to eat if you like. Dogs on a lead are welcome.
URL:https://www.locallife247.co.uk/event/wigan-canal-history-walk-4/
LOCATION:Wigan Dry Dock\, Waterside Drive\, Wigan\, WN3 5BA
CATEGORIES:Area - Wigan,Exhibitions & Talks,Heritage,Outdoors
ORGANIZER;CN="Sara PontIng":MAILTO:sara.ponting@canalrivertrust.org.uk
END:VEVENT
BEGIN:VEVENT
DTSTART;TZID=UTC:20200402T130000
DTEND;TZID=UTC:20200402T140000
DTSTAMP:20260419T203842
CREATED:20200219T144800Z
LAST-MODIFIED:20200219T144800Z
UID:15341-1585832400-1585836000@www.locallife247.co.uk
SUMMARY:Wigan Memorials Talk
DESCRIPTION:David Long presents an illustrated talk on the lost and existing war memorials across Wigan. Entry £3 including hot drinks\, bookable on 01942 828128.
URL:https://www.locallife247.co.uk/event/wigan-memorials-talk/
CATEGORIES:Area - Wigan,Exhibitions & Talks,Heritage
END:VEVENT
BEGIN:VEVENT
DTSTART;TZID=UTC:20200326T193000
DTEND;TZID=UTC:20200326T213000
DTSTAMP:20260419T203842
CREATED:20200102T131611Z
LAST-MODIFIED:20200102T131611Z
UID:14361-1585251000-1585258200@www.locallife247.co.uk
SUMMARY:Newton Le Willows Gardeners' Association
DESCRIPTION:Talk & Demonstration by Marguerite Hughes & Sue Gillon entitled Herbs & Companion Planting. Plants for sale\, raffle\, free admission. you do not need to be a member to attend.
URL:https://www.locallife247.co.uk/event/newton-le-willows-gardeners-association-4/
CATEGORIES:Area - All North West,Area - St Helens,Clubs & Societies,Community,Exhibitions & Talks,Miscellaneous
ORGANIZER;CN="Silvana Briers":MAILTO:nlwga@jewellerybysilvana.co.uk
END:VEVENT
BEGIN:VEVENT
DTSTART;TZID=UTC:20200326T183000
DTEND;TZID=UTC:20200326T200000
DTSTAMP:20260419T203842
CREATED:20200219T164203Z
LAST-MODIFIED:20200219T164203Z
UID:15363-1585247400-1585252800@www.locallife247.co.uk
SUMMARY:Author Talk: Chris Martin
DESCRIPTION:Local murder mystery author Chris Martin launches his first young adult novel\, ‘Inky Stevens’! There’ll be a book signing and plenty of prizes to be won. Free places bookable on 01257 481816.
URL:https://www.locallife247.co.uk/event/author-talk-chris-martin/
CATEGORIES:Arts & Music,Exhibitions & Talks
END:VEVENT
BEGIN:VEVENT
DTSTART;TZID=UTC:20200321T130000
DTEND;TZID=UTC:20200321T160000
DTSTAMP:20260419T203842
CREATED:20200203T134810Z
LAST-MODIFIED:20200203T134810Z
UID:14979-1584795600-1584806400@www.locallife247.co.uk
SUMMARY:Tea with Milly Johnson
DESCRIPTION:Enjoy a delicious afternoon tea with bestselling author Milly Johnson. You’ll receive a copy of Milly’s new book and enjoy a buffet-style tea. Tickets £26 on 03333 445000.
URL:https://www.locallife247.co.uk/event/tea-with-milly-johnson/
CATEGORIES:Arts & Music,Exhibitions & Talks,Food & Drinks
END:VEVENT
BEGIN:VEVENT
DTSTART;TZID=UTC:20200320T193000
DTEND;TZID=UTC:20200320T230000
DTSTAMP:20260419T203842
CREATED:20200123T114052Z
LAST-MODIFIED:20200123T114052Z
UID:14874-1584732600-1584745200@www.locallife247.co.uk
SUMMARY:Kevin Sheedy & Ronnie Whelan
DESCRIPTION:An evening with footballing legends Kevin Sheedy and Ronnie Whelan\, including supper\, an auction and raffles/games. Tickets £25 from the venue or on 01704 578534.
URL:https://www.locallife247.co.uk/event/kevin-sheedy-ronnie-whelan/
CATEGORIES:Exhibitions & Talks,Sports
END:VEVENT
BEGIN:VEVENT
DTSTART;TZID=UTC:20200320T193000
DTEND;TZID=UTC:20200320T193000
DTSTAMP:20260419T203842
CREATED:20200219T115047Z
LAST-MODIFIED:20200219T115047Z
UID:15319-1584732600-1584732600@www.locallife247.co.uk
SUMMARY:Shipwrecks Talk
DESCRIPTION:Join Martin Griffiths for a talk on the many wrecks off the Southport Coast! Entry £5\, places bookable on 07561 838818.
URL:https://www.locallife247.co.uk/event/shipwrecks-talk/
CATEGORIES:Exhibitions & Talks,Heritage
END:VEVENT
BEGIN:VEVENT
DTSTART;TZID=UTC:20200318T193000
DTEND;TZID=UTC:20200318T210000
DTSTAMP:20260419T203842
CREATED:20200219T163955Z
LAST-MODIFIED:20200219T163955Z
UID:15361-1584559800-1584565200@www.locallife247.co.uk
SUMMARY:Evening with Joanna Trollope
DESCRIPTION:Bestselling author Joanna Trollope discusses her new book ‘Mum & Dad’\, followed by a Q&A and book signing. Tickets £20 including a book or £10 ticket only on Eventbrite or from ebb & flo bookshop.
URL:https://www.locallife247.co.uk/event/evening-with-joanna-trollope/
CATEGORIES:Arts & Music,Exhibitions & Talks
END:VEVENT
BEGIN:VEVENT
DTSTART;TZID=UTC:20200318T093000
DTEND;TZID=UTC:20200318T123000
DTSTAMP:20260419T203842
CREATED:20200212T110108Z
LAST-MODIFIED:20200212T110108Z
UID:15113-1584523800-1584534600@www.locallife247.co.uk
SUMMARY:Galloway's Tech Drop-In
DESCRIPTION:Galloways Society for the Blind Technology Help drop-in – An event to help people living with sight loss gain confidence in the use of technology that can help everyday life.\nWe can help with phones\, tablets and software queries.\nSuitable for all age groups.\nThis event is free\, no ticket required.
URL:https://www.locallife247.co.uk/event/galloways-tech-drop-in/
CATEGORIES:Clubs & Societies,Exhibitions & Talks
ORGANIZER;CN="Parbold Library":MAILTO:parbold.library@lancashire.gov.uk
END:VEVENT
BEGIN:VEVENT
DTSTART;TZID=UTC:20200317T103000
DTEND;TZID=UTC:20200317T113000
DTSTAMP:20260419T203842
CREATED:20200110T090048Z
LAST-MODIFIED:20200110T090048Z
UID:14595-1584441000-1584444600@www.locallife247.co.uk
SUMMARY:Friends' Monthly Talk
DESCRIPTION:‘Historic Graffiti – The Writing’s On the Wall’ by Dr. Colin Penney\, Senior Museum manager\, Lancaster. £1 donation requested. refreshments available from 10am. No need to book.
URL:https://www.locallife247.co.uk/event/friends-monthly-talk/
CATEGORIES:Arts & Music,Exhibitions & Talks,Heritage
ORGANIZER;CN="vivien mumford":MAILTO:vivienmumford55@btinternet.com
END:VEVENT
BEGIN:VEVENT
DTSTART;TZID=UTC:20200314T130000
DTEND;TZID=UTC:20200314T153000
DTSTAMP:20260419T203842
CREATED:20200203T133931Z
LAST-MODIFIED:20200203T133932Z
UID:14971-1584190800-1584199800@www.locallife247.co.uk
SUMMARY:Local History Meeting
DESCRIPTION:Learn more about the history of North Meols over a brew! Bring along old photos\, postcards\, newspaper cuttings or anything else pertaining to local history and enjoy a friendly chat.
URL:https://www.locallife247.co.uk/event/local-history-meeting/
CATEGORIES:Community,Exhibitions & Talks,Heritage
END:VEVENT
BEGIN:VEVENT
DTSTART;TZID=UTC:20200314T100000
DTEND;TZID=UTC:20200314T140000
DTSTAMP:20260419T203842
CREATED:20200204T121901Z
LAST-MODIFIED:20200204T121901Z
UID:15015-1584180000-1584194400@www.locallife247.co.uk
SUMMARY:Ladies Style & Confidence Event
DESCRIPTION:Sat 14th March 10-2\nAnother fun and informative event dedicated to boosting your personal style and confidence with Gina Dobson\, Colour & Style Consultant and Sandra Edwards Life Coach.\nLearn how to create a confident mindset\, find out which colours suit you best and styles that flatter.\nBooking essential\nTickets £30 (including light refreshments) from Gina 07598367552 or Sandra 07721498230\nRainford Village Hall\, Church Rd\, WA11 8HB
URL:https://www.locallife247.co.uk/event/ladies-style-confidence-event/
LOCATION:Rainford Village Hall\, Church Rd\, Rainford\, WA11 8HB
CATEGORIES:Area - St Helens,Exhibitions & Talks,Miscellaneous
ORGANIZER;CN="Sandra Edwards":MAILTO:info@sandraedwardsconsulting.co.uk
END:VEVENT
BEGIN:VEVENT
DTSTART;TZID=UTC:20200310T193000
DTEND;TZID=UTC:20200310T193000
DTSTAMP:20260419T203842
CREATED:20200214T093136Z
LAST-MODIFIED:20200219T112139Z
UID:15169-1583868600-1583868600@www.locallife247.co.uk
SUMMARY:Parbold Wildlife Group Meeting
DESCRIPTION:The next meeting of Parbold Wildlife Group will be held on Tuesday 10th March from 19.30 in the upstairs meeting room at the Red Lion\, Newburgh. The main event will be a talk by Andy Rowett (Lancashire Wildlife Trust) on Red Squirrels.\nDo join us for this talk and find out how this delightful species has declined\, and how conservationists are working to protect the remaining populations. Members: Free\, Non-Members: £2
URL:https://www.locallife247.co.uk/event/parbold-wildlife-group-meeting/
LOCATION:The Red Lion\, Newburgh\, Red Lion Hotel\, 9 Ash Brow\, Newburgh\, Wigan\, WN8 7DH
CATEGORIES:Clubs & Societies,Exhibitions & Talks
ORGANIZER;CN="Margaret Abel":MAILTO:abelchris@talktalk.net
END:VEVENT
BEGIN:VEVENT
DTSTART;TZID=UTC:20200310T100000
DTEND;TZID=UTC:20200310T110000
DTSTAMP:20260419T203842
CREATED:20200219T145300Z
LAST-MODIFIED:20200219T145300Z
UID:15349-1583834400-1583838000@www.locallife247.co.uk
SUMMARY:Egyptology Talk
DESCRIPTION:Bill Nolan discusses Hatshepsut\, the fifth pharaoh of the 18th Dynasty of Egypt\, in relation to Women’s History Month. Free entry.
URL:https://www.locallife247.co.uk/event/egyptology-talk/
CATEGORIES:Exhibitions & Talks,Heritage
END:VEVENT
BEGIN:VEVENT
DTSTART;TZID=UTC:20200308T120000
DTEND;TZID=UTC:20200308T120000
DTSTAMP:20260419T203842
CREATED:20200122T094701Z
LAST-MODIFIED:20200122T094701Z
UID:14762-1583668800-1583668800@www.locallife247.co.uk
SUMMARY:Wedding Fayre
DESCRIPTION:Receive complimentary glass of bubbly and canapés on arrival. Free admission and parking\, plus a bridal and Mother of the Bride catwalk show at 1:30pm\, and many more local suppliers.
URL:https://www.locallife247.co.uk/event/wedding-fayre-6/
LOCATION:Mercure St Helens\, Linkway West\, St Helens\, WA10 1NG
CATEGORIES:Area - All North West,Area - St Helens,Area - Wigan,Child Friendly,Exhibitions & Talks,Markets & Craft Fairs
ORGANIZER;CN="Vicky Owen":MAILTO:events@sainthelenshotel.com
END:VEVENT
BEGIN:VEVENT
DTSTART;TZID=UTC:20200307T100000
DTEND;TZID=UTC:20200307T163000
DTSTAMP:20260419T203842
CREATED:20200226T092354Z
LAST-MODIFIED:20200226T092354Z
UID:15399-1583575200-1583598600@www.locallife247.co.uk
SUMMARY:Model Railway Exhibition
DESCRIPTION:Enjoy an exhibition of model railways\, with free vintage bus rides between the show and the Museum of Road Transport! Entry £5 per adult or £3 per child\, more info at www.rainhillmrc.org.uk
URL:https://www.locallife247.co.uk/event/model-railway-exhibition-2/
CATEGORIES:Area - St Helens,Child Friendly,Clubs & Societies,Exhibitions & Talks,Markets & Craft Fairs
END:VEVENT
BEGIN:VEVENT
DTSTART;TZID=UTC:20200307T100000
DTEND;TZID=UTC:20200307T143000
DTSTAMP:20260419T203842
CREATED:20200122T094842Z
LAST-MODIFIED:20200122T094842Z
UID:14713-1583575200-1583591400@www.locallife247.co.uk
SUMMARY:Wigan Canal History Walk
DESCRIPTION:﻿Join us for a free guided walk along the beautiful Wigan Flight! \nStarting at Wigan Dry Dock\, with free parking available at Trencherfield Mill (by the big industrial fan)\, we’ll walk up to Top Lock led by two knowledgable lock keepers\, and then return to our starting point. \nIt’s a leisurely walk of 4.5 miles in total. Wear stout shoes\, and waterproofs in case of rain\, and bring a drink and bite to eat if you like. Dogs on a lead are welcome.
URL:https://www.locallife247.co.uk/event/wigan-canal-history-walk-5/
LOCATION:Wigan Dry Dock\, Waterside Drive\, Wigan\, WN3 5BA
CATEGORIES:Area - Wigan,Exhibitions & Talks,Heritage,Outdoors
ORGANIZER;CN="Sara Ponting":MAILTO:sara.ponting@canalrivertrust.org.uk
END:VEVENT
BEGIN:VEVENT
DTSTART;TZID=UTC:20200305T190000
DTEND;TZID=UTC:20200305T210000
DTSTAMP:20260419T203842
CREATED:20200219T111949Z
LAST-MODIFIED:20200219T111949Z
UID:15270-1583434800-1583442000@www.locallife247.co.uk
SUMMARY:Postcards from Skelmersdale
DESCRIPTION:Local historian George Orr discusses his collection of Skelmersdale postcards. Entry £1 for non-members of Skelmersdale Heritage Society\, places must be booked via Facebook.
URL:https://www.locallife247.co.uk/event/postcards-from-skelmersdale/
CATEGORIES:Area - Wigan,Clubs & Societies,Community,Exhibitions & Talks,Heritage
END:VEVENT
END:VCALENDAR